Workbook

Sheet กู้คืน_Sheet1

Sheet งบแสดงฐานะการเงิน
B1: องค์การบริหารส่วนตำบลไชยมนตรี อำเภอเมืองนครศรีธรรมราช จังหวัดนครศรีธรรมราช
B2: งบแสดงฐานะการเงิน
B3: ณ วันที่ 31 มกราคม 2556
B4: ทรัพย์สิน | E4: หนี้สินและเงินสะสม
B5: ทรัพย์สินตามงบทรัพย์สิน | D5: =งบทรัพย์สิน!K20 -> 20470300 | E5: ทุนทรัพย์สิน | K5: =D5 -> 20470300
B6: ลูกหนี้ภาษีโรงเรือนและที่ดิน | D6: 12186 | E6: รายจ่ายผัดส่งใบสำคัญ | K6: 0
B7: ลูกหนี้ภาษีบำรุงท้องที่ | D7: 26275.21 | E7: เงินอุดหนุนค้างจ่าย | K7: 0
B8: ลูกหนี้ภาษีป้าย | D8: 0 | E8: รายจ่ายค้างจ่ายระหว่างดำเนินการ | K8: 0
B9: ลูกหนี้เงินยืมเงินงบประมาณ | D9: 0 | E9: รายจ่ายค้างจ่าย | K9: 376800
B10: ลูกหนี้เงินยืมเงินสะสม | D10: 0 | E10: รายจ่ายรอจ่าย | K10: 11229
B11: เงินฝากธนาคารกรุงไทย - ออมทรัพย์ เลขที่ 801 - 0 - 14362 - 6 | C11: 111168.02 | E11: เงินรับฝาก | K11: 568612.42
B12: เงินฝากธนาคารกรุงไทย - ออมทรัพย์ เลขที่ 801 - 0 - 15216 - 1 | C12: 4244.05 | E12: เงินทุนสำรองเงินสะสม | K12: =4607377.76+1213130.85 -> 5820508.6
B13: เงินฝากธนาคารกรุงไทย - ออมทรัพย์ เลขที่ 801 - 1 - 20000 - 3 | C13: 11690799 | E13: เงินสะสม 1 ตุลาคม 2555 | J13: 8467789.4
B14: เงินฝากธนาคารกรุงไทย - ประจำ เลขที่ 801 - 2 - 37895 - 7 | C14: 5150009 | E14: บวก รายรับจริงสูงกว่ารายจ่ายจริง | J14: =+'งบรายรับ-รายจ่าย'!D40 -> 3392697.5
B15: เงินฝากธนาคารกรุงไทย - กระแสรายวัน เลขที่ 801 - 6 - 06554 - 6 | C15: 0 | E15: รับเงินค่าขายแบบแปลนงบไทยเข้มแข็ง | J15: 0
B16: เงินฝากธนาคารกรุงไทย - กระแสรายวัน เลขที่ 801 - 6 - 05887 - 6 | C16: 0 | E16: ปรับปรุงบัญชีเงินรับฝากเข้าเงินสะสม | J16: 0
B17: เงินฝากธนาคารธกส. - ออมทรัพย์ เลขที่ 015 - 2 - 60209 - 0 | C17: 213573.06 | E17: รายจ่ายค้างจ่ายระหว่างดำเนินการเหลือจ่าย | J17: 0
B18: เงินฝากธนาคารธกส. - ประจำ เลขที่ 015 - 4 - 22289 - 0 | C18: 1039482.3 | D18: =SUM(C11:C18) -> 18209276 | E18: หัก โอนเข้าบัญชีเงินประกันสัญญาเนื่องจากบันทึกบัญชีผิด | J18: 0
E19: เงินทุนสำรองเงินสะสมประจำปี | J19: 0
E20: จ่ายขาดเงินสะสม | J20: 389900
E21: เงินสะสม 31 มกราคม 2556 | K21: =+J13+J14+J15+J16+J17-J18-J19-J20 -> 11470587
D22: =SUM(D6:D21) -> 18247737 | K22: =SUM(K6:K21) -> 18247737 | M22: =+K22-D22 -> 0
B25: (ลงชื่อ) (ลงชื่อ) (ลงชื่อ)
B26: ( นางสุพานี วงษ์นุรักษ์ ) ( นายภูษิต จิตสมพงษ์ ) ( นายเชาวลิต สุพรัตน์ )
B27: ผู้อำนวยการกองคลัง ปลัดองค์การบริหารส่วนตำบล นายกองค์การบริหารส่วนตำบลไชยมนตรี

Sheet แสดงฐานะการเงิน
A2: องค์การบริหารส่วนตำบลไชยมนตรี อำเภอเมืองนครศรีธรรมราช จังหวัดนครศรีธรรมราช
D3: งบแสดงฐานะการเงิน
D4: ณ วันที่ 31 มกราคม 2556
E5: ทรัพย์สิน
A6: ทรัพย์สินตามงบทรัพย์สิน ( หมายเหตุ 1 ) | I6: =งบทรัพย์สิน!K20 -> 20470300 | J6: บาท
A7: เงินสด และเงินฝากธนาคาร ( หมายเหตุ 2 ) | I7: ='หมายเหตุ 2'!H19 -> 18209276
A8: เงินฝากจังหวัด | I8: 0
A9: ลูกหนี้ภาษีโรงเรือนและที่ดิน | G9: 12186
A10: ลูกหนี้ภาษีบำรุงท้องที่ | G10: 26275.21
A11: ลูกหนี้ภาษีป้าย | G11: 0 | I11: =+G9+G10+G11 -> 38461.21
A12: ลูกหนี้เงินยืมเงินงบประมาณ | I12: 0
A13: ลูกหนี้เงินยืมเงินสะสม | I13: 0
A14: หุ้นในโรงพิมพ์ส่วนท้องถิ่น | I14: 0
I15: =SUM(I7:I14) -> 18247737 | J15: บาท
E18: หนี้สินและเงินสะสม
A19: ทุนทรัพย์สิน (หมายเหตุ 1) | I19: =+I6 -> 20470300 | J19: บาท
A20: เจ้าหนี้ | I20: 0
A21: รายจ่ายผัดส่งใบสำคัญ | I21: 0
A22: เงินอุดหนุนค้างจ่าย | I22: 0
A23: รายจ่ายค้างจ่ายระหว่างดำเนินการ | I23: 0
A24: รายจ่ายค้างจ่าย | I24: 376800
A25: รายจ่ายรอจ่าย | I25: 11229
A26: เงินรับฝาก | I26: 568612.42
A27: ทุนสำรองเงินสะสม | I27: 5820508.6
A28: เงินสะสม | I28: =+งบแสดงฐานะการเงิน!K21 -> 11470587
I29: =SUM(I20:I28) -> 18247737 | J29: บาท
A31: ( ลงชื่อ ) ( ลงชื่อ ) ( ลงชื่อ )
A32: ( นางสุพานี วงษ์นุรักษ์) ( นายภูษิต จิตสมพงษ์ ) ( นายเชาวลิต สุพรัตน์ )
A33: ผู้อำนวยการกองคลัง ปลัดองค์การบริหารส่วนตำบล นายกองค์การบริหารส่วนตำบลไชยมนตรี

Sheet หมายเหตุ 2
H2: หมายเหตุ 2
A4: องค์การบริหารส่วนตำบลไชยมนตรี อำเภอเมืองนครศรีธรรมราช จังหวัดนครศรีธรรมราช
D5: เงินสด เงินฝากธนาคารและเงินฝากจังหวัด
D6: ณ วันที่ 31 มกราคม 2556
A8: เงินสด | H8: 0 | I8: บาท
A9: เงินฝากจังหวัด | H9: 0
A10: เงินฝากธนาคาร
B11: กรุงไทย | C11: ประเภท ออมทรัพย์ | E11: เลขที่ | F11: 801-0-14362-6 | H11: 111168.02
B12: กรุงไทย | C12: ประเภท ออมทรัพย์ | E12: เลขที่ | F12: 801-0-15216-1 | H12: 4244.05
B13: กรุงไทย | C13: ประเภท ออมทรัพย์ | E13: เลขที่ | F13: 801-1-20000-3 | H13: 11690799
B14: กรุงไทย | C14: ประเภท ประจำ | E14: เลขที่ | F14: 801-2-37895-7 | H14: 5150009
B15: กรุงไทย | C15: ประเภท กระแสรายวัน | E15: เลขที่ | F15: 801-6-06554-6 | H15: 0
B16: กรุงไทย | C16: ประเภท กระแสรายวัน | E16: เลขที่ | F16: 801-6-05887-6 | H16: 0
B17: ธกส. | C17: ประเภท ออมทรัพย์ | E17: เลขที่ | F17: 015-2-60209-0 | H17: 213573.06
B18: ธกส. | C18: ประเภท ประจำ | E18: เลขที่ | F18: 015-4-22289-6 | H18: 1039482.3
H19: =SUM(H8:H18) -> 18209276 | I19: บาท

Sheet งบทรัพย์สิน
A1: องค์การบริหารส่วนตำบลไชยมนตรี อำเภอเมืองนครศรีธรรมราช จังหวัดนครศรีธรรมราช
A2: งบทรัพย์สิน
A3: ณ วันที่ 31 มกราคม 2556
A5: ประเภททรัพย์สิน | E5: ยกมาจากงวด | G5: รับเพิ่ม | I5: จำหน่าย | K5: ยกไปงวด | M5: ทรัพย์สินเกิดจาก | N5: จำนวนเงิน
E6: ก่อน | G6: งวดนี้ | I6: งวดนี้ | K6: หน้า
A7: ก. | B7: อสังหาริมทรัพย์ | M7: ก. รายได้จากการบริจาค | N7: 0
B8: ที่ดิน | E8: 10381840 | G8: 0 | K8: =E8+G8-I8 -> 10381840 | M8: ข. รับโอนจากสภาตำบล | N8: 98400
B9: อาคาร | E9: 2997500 | G9: 0 | K9: =E9+G9-I9 -> 2997500 | M9: ค. เงินอุดหนุนจากรัฐบาล | N9: =4643240+590000 -> 5233240
A10: ข. | B10: สังหาริมทรัพย์ | G10: 0 | M10: ง. เงินรายได้ อบต. | N10: =6658270+110820 -> 6769090
B11: ครุภัณฑ์สำนักงาน | E11: 3597240 | G11: 0 | I11: 0 | K11: =E11+G11-I11 -> 3597240 | M11: จ. เงินกู้พิเศษเพื่อกระตุ้นเศรษฐกิจ | N11: 0
B12: ครุภัณฑ์ยานพาหนะ | E12: 2480000 | G12: 0 | K12: =E12+G12-I12 -> 2480000 | M12: ฉ. เงินสะสม | N12: 2394480
B13: ครุภัณฑ์งานบ้านงานครัว | E13: 22410 | G13: 0 | K13: =E13+G13-I13 -> 22410 | M13: ช. เงินอุดหนุนเฉพาะกิจ | N13: =5942400+14690+18000 -> 5975090
B14: ครุภัณฑ์โฆษณาและเผยแพร่ | E14: 239620 | G14: 0 | I14: 0 | K14: =E14+G14-I14 -> 239620 | M14: ฃ. สำรองเงินรายรับ | N14: 0
B15: ครุภัณฑ์สำรวจ | E15: 102400 | G15: 0 | K15: =E15+G15-I15 -> 102400
B16: ครุภัณฑ์การเกษตร | E16: 57900 | G16: 0 | K16: =E16+G16-I16 -> 57900
B17: ครุภัณฑ์อื่น | E17: 573390 | K17: =E17+G17-I17 -> 573390
B18: ครุภัณฑ์คอมพิวเตอร์ | E18: 18000 | G18: 0 | K18: =E18+G18-I18 -> 18000
E20: =SUM(E8:E19) -> 20470300 | G20: =SUM(G7:G19) -> 0 | I20: =SUM(I7:I19) -> 0 | K20: =SUM(K8:K19) -> 20470300 | N20: =SUM(N7:N19) -> 20470300
A22: (ลงชื่อ) (ลงชื่อ) (ลงชื่อ)
A23: ( นางสุพานี วงษ์นุรักษ์ ) ( นายภูษิต จิตสมพงษ์ ) ( นายเชาวลิต สุพรัตน์ )
A24: ผู้อำนวยการกองคลัง ปลัดองค์การบริหารส่วนตำบล นายกองค์การบริหารส่วนตำบลไชยมนตรี

Sheet งบรายรับ-รายจ่าย
B1: องค์การบริหารส่วนตำบลไชยมนตรี อำเภอเมืองนครศรีธรรมราช จังหวัดนครศรีธรรมราช
B2: งบรายรับ - รายจ่ายตามงบประมาณประจำปี 2556
B3: ตั้งแต่วันที่ 1 ตุลาคม 2555 ถึงวันที่ 31 มกราคม 2556
C5: ประมาณการ | D5: รายรับจริง | E5: + | F5: สูง
E6: - | F6: ต่ำ
A7: รายรับตามประมาณการ
A8: รายรับ
B9: ภาษีอากร | C9: 167000 | D9: 29786.83 | E9: - | F9: =+C9-D9 -> 137213.17
B10: ค่าธรรมเนียม ค่าปรับและใบอนุญาต | C10: 172000 | D10: 92540 | E10: - | F10: =+C10-D10 -> 79460
B11: รายได้จากทรัพย์สิน | C11: 150000 | D11: 217370.42 | E11: + | F11: =+C11-D11 -> -67370.42
B12: รายได้จากสาธารณูปโภคและการพาณิชย์ | C12: 800000 | D12: 281704 | E12: - | F12: =+C12-D12 -> 518296
B13: รายได้เบ็ดเตล็ด | C13: 250000 | D13: 0 | E13: - | F13: =+C13-D13 -> 250000
B14: รายได้จากทุน | C14: 3000 | D14: 0 | E14: - | F14: =+C14-D14 -> 3000
B15: ภาษีจัดสรร | C15: 10766000 | D15: 4285170.4 | E15: - | F15: =+C15-D15 -> 6480829.6
B16: เงินอุดหนุน | C16: 7000000 | D16: 2337280.2 | E16: - | F16: =+C16-D16 -> 4662719.8
A17: รวมเงินงบประมาณรายรับทั้งสิ้น | C17: =SUM(C9:C16) -> 19308000 | D17: =SUM(D9:D16) -> 7243851.8 | E17: - | F17: =+C17-D17 -> 12064148
A18: เงินอุดหนุนที่รัฐบาลให้โดยระบุวัตถุประสงค์ | D18: 3458560
A19: รวมเงินอุดหนุนที่รัฐบาลให้โดยระบุวัตถุประสงค์ | D19: =SUM(D18) -> 3458560
B20: รวมรายรับทั้งสิ้น | D20: =D17+D19 -> 10702412
C22: ประมาณการ | D22: รายจ่ายจริง | E22: + | F22: สูง
E23: - | F23: ต่ำ
A24: รายจ่ายตามประมาณการ
B25: งบกลาง | C25: 2454880 | D25: 225548 | E25: - | F25: =C25-D25 -> 2229332
B26: เงินเดือน ( ฝ่ายการเมือง ) | C26: 1707120 | D26: 569040 | E26: - | F26: =C26-D26 -> 1138080
B27: เงินเดือน ( ฝ่ายประจำ ) | C27: 4727340 | D27: 1505493.9 | E27: - | F27: =C27-D27 -> 3221846.1
B28: ค่าตอบแทน | C28: =1132160+0 -> 1132160 | D28: 97606 | E28: - | F28: =C28-D28 -> 1034554
B29: ค่าใช้สอย | C29: =1782000+795600 -> 2577600 | D29: =475656.8+145600 -> 621256.8 | E29: - | F29: =C29-D29 -> 1956343.2
B30: ค่าวัสดุ | C30: =1365000+824600 -> 2189600 | D30: =57370+0 -> 57370 | E30: - | F30: =C30-D30 -> 2132230
B31: ค่าสาธารณูปโภค | C31: 970000 | D31: 435519.69 | E31: - | F31: =C31-D31 -> 534480.31
B32: ค่าครุภัณฑ์ | C32: =160000+40800 -> 200800 | D32: =21820+0 -> 21820 | E32: - | F32: =C32-D32 -> 178980
B33: ค่าที่ดินและสิ่งก่อสร้าง | C33: =500000+1704500 -> 2204500 | D33: =477200+0 -> 477200 | E33: - | F33: =C33-D33 -> 1727300
B34: รายจ่ายอื่น | C34: 25000 | D34: 0 | E34: - | F34: =C34-D34 -> 25000
B35: เงินอุดหนุน | C35: 1119000 | D35: 533000 | E35: - | F35: =C35-D35 -> 586000
A36: รวมรายจ่ายตามประมาณการรายจ่ายทั้งสิ้น | C36: =SUM(C25:C35) -> 19308000 | D36: =SUM(D25:D35) -> 4543854.4 | E36: - | F36: =SUM(F25:F35) -> 14764146
B37: รายจ่ายที่จ่ายจากเงินอุดหนุนที่รัฐบาลให้โดยระบุวัตถุประสงค์ | D37: =2633860+132000 -> 2765860
A38: รวมเงินอุดหนุนที่รัฐบาลให้โดยระบุวัตถุประสงค์ | D38: =SUM(D37) -> 2765860
B39: รวมรายจ่ายทั้งสิ้น | D39: =D36+D38 -> 7309714.4
B40: สูงกว่า | D40: =D20-D39 -> 3392697.5
B41: รายรับ รายจ่าย
B42: (ต่ำกว่า)
B45: (ลงชื่อ) (ลงชื่อ) (ลงชื่อ)
B46: ( นางสุพานี วงษ์นุรักษ์ ) ( นายภูษิต จิตสมพงษ์ ) ( นายเชาวลิต สุพรัตน์ )
B47: ผู้อำนวยการกองคลัง ปลัดองค์การบริหารส่วนตำบล นายกองค์การบริหารส่วนตำบลไชยมนตรี

Sheet พิสูจน์ยอดธนาคาร
A2: องค์การบริหารส่วนตำบลไชยมนตรี อำเภอนครศรีธรรมราช จังหวัดนครศรีธรรมราช
B3: พิสูจน์ยอดเงินฝากธนาคาร
C4: ณ วันที่ 31 มกราคม 2556
A6: เงินสด | H6: 0 | I6: บาท
A7: เงินฝากจังหวัด | H7: 0
A8: เงินฝากธนาคาร | B8: กรุงไทย | C8: ประเภท ออมทรัพย์ | E8: เลขที่ | F8: 801-0-14362-0 | H8: 111168.02
A9: เงินฝากธนาคาร | B9: กรุงไทย | C9: ประเภท ออมทรัพย์ | E9: เลขที่ | F9: 801-0-15216-1 | H9: 4244.05
A10: เงินฝากธนาคาร | B10: กรุงไทย | C10: ประเภท ออมทรัพย์ | E10: เลขที่ | F10: 801-1-20000-3 | H10: 11690799
A11: เงินฝากธนาคาร | B11: กรุงไทย | C11: ประเภท ประจำ | E11: เลขที่ | F11: 801-2-37895-7 | H11: 5150009
A12: เงินฝากธนาคาร | B12: กรุงไทย | C12: ประเภท กระแสรายวัน | E12: เลขที่ | F12: 801-6-06554-6 | H12: 0
A13: เงินฝากธนาคาร | B13: กรุงไทย | C13: ประเภท กระแสรายวัน | E13: เลขที่ | F13: 801-6-05887-6 | H13: 0
A14: เงินฝากธนาคาร | B14: ธกส. | C14: ประเภท ออมทรัพย์ | E14: เลขที่ | F14: 015-2-60209-0 | H14: 213573.06
A15: เงินฝากธนาคาร | B15: ธกส. | C15: ประเภท ประจำ | E15: เลขที่ | F15: 015-4-22289-6 | H15: 1039482.3
A16: ลูกหนี้ภาษีโรงเรือนและที่ดิน | H16: 12186
A17: ลูกหนี้ภาษีบำรุงท้องที่ | H17: 26275.21
A18: ลูกหนี้ภาษีป้าย | H18: 0
A19: ลูกหนี้เงินยืมเงินงบประมาณ | H19: 0
A20: ลูกหนี้เงินยืมเงินสะสม | H20: 0
H21: =SUM(H6:H20) -> 18247737 | I21: บาท
A23: รายจ่ายผัดส่งใบสำคัญ | H23: 0 | I23: บาท
A24: เงินอุดหนุนค้างจ่าย | H24: 0
A25: รายจ่ายค้างจ่ายระหว่างดำเนินการ | H25: 0
A26: รายจ่ายค้างจ่าย | H26: 376800
A27: รายจ่ายรอจ่าย | H27: 11229
A28: เงินรับฝาก | H28: 568612.42
A29: ทุนสำรองเงินสะสม | H29: 5820508.6
A30: เงินสะสม | H30: 11470587
H31: =SUM(H23:H30) -> 18247737 | I31: บาท

Sheet งบเงินสะสม
A2: องค์การบริหารส่วนตำบลไชยมนตรี อำเภอเมืองนครศรีธรรมราช จังหวัดนครศรีธรรมราช
D3: งบเงินสะสม
D4: ณ วันที่ 31 มกราคม 2556
A6: เงินสะสม 1 ตุลาคม 2555 | G6: 8467789.4 | H6: บาท
A7: บวก | B7: รายรับจริงสูงกว่ารายจ่ายจริง | E7: =+'งบรายรับ-รายจ่าย'!D40 -> 3392697.5
B8: รับเงินช่วยเหลือคนพิการในการปรับสภาพที่อยู่อาศัย | E8: 0
B9: รับเงินอุดหนุนกิจกรรมศูนย์พัฒนาครอบครัวในชุมชน | E9: 0
B10: รับเงินอุดหนุนโครงการสร้างบทบาทและพื้นที่สำหรับเด็ก | E10: 0
B11: รับเงินรายได้กิจการประปา | E11: 0
B12: รับเงินค่าขายแบบแปลน-งบไทยเข้มแข็ง | E12: 0
B13: รายจ่ายค้างจ่ายระหว่างดำเนินการ ปี 2555 เหลือจ่าย | E13: 0 | G13: =SUM(E7:E13) -> 3392697.5 | H13: บาท
A15: หัก | B15: รายได้ค้างรับงวดนี้ต่ำกว่างวดก่อน | E15: 0
B16: เงินทุนสำรองเงินสะสมประจำปี | E16: 0
B17: จ่ายขาดเงินสะสม | E17: 389900 | G17: =SUM(E16:E17) -> 389900 | H17: บาท
A18: เงินสะสม 31 มกราคม 2556 | G18: =+G6+G13-G17 -> 11470587 | H18: บาท
A20: เงินสะสม 31 มกราคม 2556 | D20: ประกอบด้วย
B21: 1.หุ้นในโรงพิมพ์ส่วนท้องถิ่น | G21: 0 | H21: บาท
B22: 2. เงินฝาก ก.ส.ท. หรือ กสอ. | G22: 0
B23: 3. ลูกหนี้ภาษีโรงเรือนและที่ดิน | G23: 12186
B24: 4. ลูกหนี้ภาษีบำรุงท้องที่ | G24: 26275.21
B25: 5. ลูกหนี้ภาษีป้าย | G25: 0
B26: 6. ลูกหนี้เงินยืมเงินงบประมาณ | G26: 0
B27: 7. ลูกหนี้เงินยืมเงินสะสม | G27: 0
B28: 8. เงินสะสมที่สามารถนำไปใช้ได้ | G28: =+G18-G23-G24-G25-G26-G27 -> 11432126
G29: =SUM(G21:G28) -> 11470587 | H29: บาท
B31: (ลงชื่อ) (ลงชื่อ) (ลงชื่อ)
B32: ( นางสุพานี วงษ์นุรักษ์ ) ( นายภูษิต จิตสมพงษ์ ) ( นายเชาวลิต สุพรัตน์ )
B33: ผู้อำนวยการกองคลัง ปลัดองค์การบริหารส่วนตำบล นายกองค์การบริหารส่วนตำบลไชยมนตรี

Sheet Sheet2

Sheet Sheet1

Sheet Sheet3
