Workbook

Sheet จ่ายปลัด
E1: องค์การบริหารส่วนตำบลไชยมนตรี อำเภอเมืองนครศรีธรรมราช จังหวัดนครศรีธรรมราช
G2: งบแสดงผลการดำเนินงานจ่ายจากเงินรายรับ
G3: ตั้งแต่วันที่ 1 ตุลาคม 2555 ถึง 31 มกราคม 2556
H4: สำนักงานปลัด
E5: บริหารงาน | F5: การรักษา | I5: สังคม | J5: เคหะ | K5: สร้างความ | L5: การศาสนา | M5: อุตสาหกรรม
B6: รายการ | C6: ประมาณการ | D6: รวม | E6: ทั่วไป | F6: ความสงบ | G6: การศึกษา | H6: สาธารณสุข | I6: สงเคราะห์ | J6: และชุมชน | K6: เข้มแข็ง | L6: วัฒนธรรมและ | M6: และการโยธา | N6: การเกษตร | O6: การพาณิชย์ | P6: งบกลาง
F7: ภายใน | K7: ของชุมชน | L7: นันทนาการ
E8: ( 00110 ) | F8: ( 00120 ) | G8: ( 00210 ) | H8: ( 00220 ) | I8: ( 00230 ) | J8: ( 00240 ) | K8: ( 00250 ) | L8: ( 00260 ) | M8: ( 00310 ) | N8: ( 00320 ) | O8: ( 00330 ) | P8: ( 00410 )
A9: รายจ่าย
B10: เงินเดือน ( ฝ่ายการเมือง ) | C10: =+ทั่วไป!C8 -> 1707120 | D10: =SUM(E10:P10) -> 569040 | E10: =+ทั่วไป!E8 -> 569040 | F10: =+สงบ!D8 -> 0 | G10: =+ศึกษา!D8 -> 0 | H10: =+สาธารณสุข!D8 -> 0 | I10: =+สังคม!D8 -> 0 | K10: =+เข้มแข็ง!D8 -> 0 | L10: =+นันทนาการ!D8 -> 0 | N10: =+เกษตร!D8 -> 0 | P10: =+งบกลาง!D8 -> 0
B11: เงินเดือน ( ฝ่ายประจำ ) | C11: =+ทั่วไป!C9+สงบ!C9+ศึกษา!C9+สาธารณสุข!C9+สังคม!C9+เข้มแข็ง!C9+นันทนาการ!C9+เกษตร!C9+งบกลาง!C9-จ่ายคลัง!C11 -> 2493560 | D11: =SUM(E11:P11) -> 824633.9 | E11: =+ทั่วไป!E9 -> 824633.9 | F11: =+สงบ!D9 -> 0 | G11: =+ศึกษา!D9 -> 0 | H11: =+สาธารณสุข!D9 -> 0 | I11: =+สังคม!D9 -> 0 | K11: =+เข้มแข็ง!D9 -> 0 | L11: =+นันทนาการ!D9 -> 0 | N11: =+เกษตร!D9 -> 0 | P11: =+งบกลาง!D9 -> 0
B12: เงินเดือน ( ฝ่ายประจำ ) ( ก ) | C12: =+ทั่วไป!C10 -> 0 | D12: =SUM(E12:P12) -> 0 | E12: =+ทั่วไป!E10 -> 0 | F12: =+สงบ!D10 -> 0 | G12: =+ศึกษา!D10 -> 0 | H12: =+สาธารณสุข!D10 -> 0 | I12: =+สังคม!D10 -> 0 | K12: =+เข้มแข็ง!D10 -> 0 | L12: =+นันทนาการ!D10 -> 0 | N12: =+เกษตร!D10 -> 0 | P12: =+งบกลาง!D10 -> 0
B13: ค่าตอบแทน | C13: =+ทั่วไป!C11+สงบ!C11+ศึกษา!C11+สาธารณสุข!C11+สังคม!C11+เข้มแข็ง!C11+นันทนาการ!C11+เกษตร!C11+งบกลาง!C11-จ่ายคลัง!C13 -> 401360 | D13: =SUM(E13:P13) -> 45616 | E13: =+ทั่วไป!E11 -> 45616 | F13: =+สงบ!D11 -> 0 | G13: =+ศึกษา!D11 -> 0 | H13: =+สาธารณสุข!D11 -> 0 | I13: =+สังคม!D11 -> 0 | K13: =+เข้มแข็ง!D11 -> 0 | L13: =+นันทนาการ!D11 -> 0 | N13: =+เกษตร!D11 -> 0 | P13: =+งบกลาง!D11 -> 0
B14: ค่าตอบแทน ( ท ) | C14: =+ทั่วไป!C12+สงบ!C12+ศึกษา!C12+สาธารณสุข!C12+สังคม!C12+เข้มแข็ง!C12+นันทนาการ!C12+เกษตร!C12+งบกลาง!C12 -> 0 | D14: =SUM(E14:P14) -> 0 | E14: =+ทั่วไป!E12 -> 0 | F14: =+สงบ!D12 -> 0 | G14: =+ศึกษา!D12 -> 0 | H14: =+สาธารณสุข!D12 -> 0 | I14: =+สังคม!D12 -> 0 | K14: =+เข้มแข็ง!D12 -> 0 | L14: =+นันทนาการ!D12 -> 0 | N14: =+เกษตร!D12 -> 0 | P14: =+งบกลาง!D12 -> 0
B15: ค่าใช้สอย | C15: =+ทั่วไป!C13+สงบ!C13+ศึกษา!C13+สาธารณสุข!C13+สังคม!C13+เข้มแข็ง!C13+นันทนาการ!C13+เกษตร!C13+งบกลาง!C13-จ่ายคลัง!C15 -> 1192000 | D15: =SUM(E15:P15) -> 470456.8 | E15: =+ทั่วไป!E13 -> 157319.8 | F15: =+สงบ!D13 -> 66260 | G15: =+ศึกษา!D13 -> 0 | H15: =+สาธารณสุข!D13 -> 17500 | I15: =+สังคม!D13 -> 0 | K15: =+เข้มแข็ง!D13 -> 0 | L15: =+นันทนาการ!D13 -> 229377 | N15: =+เกษตร!D13 -> 0 | P15: =+งบกลาง!D13 -> 0
B16: ค่าใช้สอย ( ท ) | C16: =+ทั่วไป!C14+สงบ!C14+ศึกษา!C14+สาธารณสุข!C14+สังคม!C14+เข้มแข็ง!C14+นันทนาการ!C14+เกษตร!C14+งบกลาง!C14 -> 795600 | D16: =SUM(E16:P16) -> 145600 | E16: =+ทั่วไป!E14 -> 0 | F16: =+สงบ!D14 -> 0 | G16: =+ศึกษา!D14 -> 145600 | H16: =+สาธารณสุข!D14 -> 0 | I16: =+สังคม!D14 -> 0 | K16: =+เข้มแข็ง!D14 -> 0 | L16: =+นันทนาการ!D14 -> 0 | N16: =+เกษตร!D14 -> 0 | P16: =+งบกลาง!D14 -> 0
B17: ค่าใช้สอย ( ก ) | C17: =+ทั่วไป!C15+สงบ!C15+ศึกษา!C15+สาธารณสุข!C15+สังคม!C15+เข้มแข็ง!C15+นันทนาการ!C15+เกษตร!C15+งบกลาง!C15 -> 0 | D17: =SUM(E17:P17) -> 0 | E17: =+ทั่วไป!E15 -> 0 | F17: =+สงบ!D15 -> 0 | G17: =+ศึกษา!D15 -> 0 | H17: =+สาธารณสุข!D15 -> 0 | I17: =+สังคม!D15 -> 0 | K17: =+เข้มแข็ง!D15 -> 0 | L17: =+นันทนาการ!D15 -> 0 | N17: =+เกษตร!D15 -> 0 | P17: =+งบกลาง!D15 -> 0
B18: ค่าวัสดุ | C18: =+ทั่วไป!C16+สงบ!C16+ศึกษา!C16+สาธารณสุข!C16+สังคม!C16+เข้มแข็ง!C16+นันทนาการ!C16+เกษตร!C16+งบกลาง!C16-จ่ายคลัง!C18 -> 430000 | D18: =SUM(E18:P18) -> 34460 | E18: =+ทั่วไป!E16 -> 34460 | F18: =+สงบ!D16 -> 0 | G18: =+ศึกษา!D16 -> 0 | H18: =+สาธารณสุข!D16 -> 0 | I18: =+สังคม!D16 -> 0 | K18: =+เข้มแข็ง!D16 -> 0 | L18: =+นันทนาการ!D16 -> 0 | N18: =+เกษตร!D16 -> 0 | P18: =+งบกลาง!D16 -> 0
B19: ค่าวัสดุ ( ท ) | C19: =+ทั่วไป!C17+สงบ!C17+ศึกษา!C17+สาธารณสุข!C17+สังคม!C17+เข้มแข็ง!C17+นันทนาการ!C17+เกษตร!C17+งบกลาง!C17 -> 824600 | D19: =SUM(E19:P19) -> 0 | E19: =+ทั่วไป!E17 -> 0 | F19: =+สงบ!D17 -> 0 | G19: =+ศึกษา!D17 -> 0 | H19: =+สาธารณสุข!D17 -> 0 | I19: =+สังคม!D17 -> 0 | K19: =+เข้มแข็ง!D17 -> 0 | L19: =+นันทนาการ!D17 -> 0 | N19: =+เกษตร!D17 -> 0 | P19: =+งบกลาง!D17 -> 0
B20: ค่าสาธารณูปโภค | C20: =+ทั่วไป!C18+สงบ!C18+ศึกษา!C18+สาธารณสุข!C18+สังคม!C18+เข้มแข็ง!C18+นันทนาการ!C18+เกษตร!C18+งบกลาง!C18-จ่ายคลัง!C20 -> 270000 | D20: =SUM(E20:P20) -> 74262.45 | E20: =+ทั่วไป!E18 -> 69840.26 | F20: =+สงบ!D18 -> 0 | G20: =+ศึกษา!D18 -> 4422.19 | H20: =+สาธารณสุข!D18 -> 0 | I20: =+สังคม!D18 -> 0 | K20: =+เข้มแข็ง!D18 -> 0 | L20: =+นันทนาการ!D18 -> 0 | N20: =+เกษตร!D18 -> 0 | P20: =+งบกลาง!D18 -> 0
B21: ค่าครุภัณฑ์ | C21: =+ทั่วไป!C19+สงบ!C19+ศึกษา!C19+สาธารณสุข!C19+สังคม!C19+เข้มแข็ง!C19+นันทนาการ!C19+เกษตร!C19+งบกลาง!C19-จ่ายคลัง!C21 -> 30000 | D21: =SUM(E21:P21) -> 6820 | E21: =+ทั่วไป!E19 -> 6820 | F21: =+สงบ!D19 -> 0 | G21: =+ศึกษา!D19 -> 0 | H21: =+สาธารณสุข!D19 -> 0 | I21: =+สังคม!D19 -> 0 | K21: =+เข้มแข็ง!D19 -> 0 | L21: =+นันทนาการ!D19 -> 0 | N21: =+เกษตร!D19 -> 0 | P21: =+งบกลาง!D19 -> 0
B22: ค่าครุภัณฑ์ ( ท ) | C22: =+ทั่วไป!C20+สงบ!C20+ศึกษา!C20+สาธารณสุข!C20+สังคม!C20+เข้มแข็ง!C20+นันทนาการ!C20+เกษตร!C20+งบกลาง!C20-จ่ายคลัง!C22 -> 16800 | D22: =SUM(E22:P22) -> 0 | E22: =+ทั่วไป!E20 -> 0 | F22: =+สงบ!D20 -> 0 | G22: =+ศึกษา!D20 -> 0 | H22: =+สาธารณสุข!D20 -> 0 | I22: =+สังคม!D20 -> 0 | K22: =+เข้มแข็ง!D20 -> 0 | L22: =+นันทนาการ!D20 -> 0 | N22: =+เกษตร!D20 -> 0 | P22: =+งบกลาง!D20 -> 0
B23: ค่าที่ดินและสิ่งก่อสร้าง | C23: =+ทั่วไป!C21+สงบ!C21+ศึกษา!C21+สาธารณสุข!C21+สังคม!C21+เข้มแข็ง!C21+นันทนาการ!C21+เกษตร!C21+งบกลาง!C21 -> 0 | D23: =SUM(E23:P23) -> 0 | E23: =+ทั่วไป!E21 -> 0 | F23: =+สงบ!D21 -> 0 | G23: =+ศึกษา!D21 -> 0 | H23: =+สาธารณสุข!D21 -> 0 | I23: =+สังคม!D21 -> 0 | K23: =+เข้มแข็ง!D21 -> 0 | L23: =+นันทนาการ!D21 -> 0 | N23: =+เกษตร!D21 -> 0 | P23: =+งบกลาง!D21 -> 0
B24: ค่าที่ดินและสิ่งก่อสร้าง ( ท ) | C24: =+ทั่วไป!C22+สงบ!C22+ศึกษา!C22+สาธารณสุข!C22+สังคม!C22+เข้มแข็ง!C22+นันทนาการ!C22+เกษตร!C22+งบกลาง!C22 -> 0 | D24: =SUM(E24:P24) -> 0 | E24: =+ทั่วไป!E22 -> 0 | F24: =+สงบ!D22 -> 0 | G24: =+ศึกษา!D22 -> 0 | H24: =+สาธารณสุข!D22 -> 0 | I24: =+สังคม!D22 -> 0 | K24: =+เข้มแข็ง!D22 -> 0 | L24: =+นันทนาการ!D22 -> 0 | N24: =+เกษตร!D22 -> 0 | P24: =+งบกลาง!D22 -> 0
B25: ค่าที่ดินและสิ่งก่อสร้าง ( ก ) | C25: =+ทั่วไป!C23+สงบ!C23+ศึกษา!C23+สาธารณสุข!C23+สังคม!C23+เข้มแข็ง!C23+นันทนาการ!C23+เกษตร!C23+งบกลาง!C23 -> 0 | D25: =SUM(E25:P25) -> 0 | E25: =+ทั่วไป!E23 -> 0 | F25: =+สงบ!D23 -> 0 | G25: =+ศึกษา!D23 -> 0 | H25: =+สาธารณสุข!D23 -> 0 | I25: =+สังคม!D23 -> 0 | K25: =+เข้มแข็ง!D23 -> 0 | L25: =+นันทนาการ!D23 -> 0 | N25: =+เกษตร!D23 -> 0 | P25: =+งบกลาง!D23 -> 0
B26: เงินอุดหนุน | C26: =+ทั่วไป!C24+สงบ!C24+ศึกษา!C24+สาธารณสุข!C24+สังคม!C24+เข้มแข็ง!C24+นันทนาการ!C24+เกษตร!C24+งบกลาง!C24 -> 0 | D26: =SUM(E26:P26) -> 0 | E26: =+ทั่วไป!E24 -> 0 | F26: =+สงบ!D24 -> 0 | G26: =+ศึกษา!D24 -> 0 | H26: =+สาธารณสุข!D24 -> 0 | I26: =+สังคม!D24 -> 0 | K26: =+เข้มแข็ง!D24 -> 0 | L26: =+นันทนาการ!D24 -> 0 | N26: =+เกษตร!D24 -> 0 | P26: =+งบกลาง!D24 -> 0
B27: เงินอุดหนุน ( ท ) | C27: =C25+ทั่วไป!C25+สงบ!C25+ศึกษา!C25+สาธารณสุข!C25+สังคม!C25+เข้มแข็ง!C25+นันทนาการ!C25+เกษตร!C25+งบกลาง!C25 -> 1119000 | D27: =SUM(E27:P27) -> 533000 | E27: =+ทั่วไป!E25 -> 0 | F27: =+สงบ!D25 -> 0 | G27: =+ศึกษา!D25 -> 533000 | H27: =+สาธารณสุข!D25 -> 0 | I27: =+สังคม!D25 -> 0 | K27: =+เข้มแข็ง!D25 -> 0 | L27: =+นันทนาการ!D25 -> 0 | N27: =+เกษตร!D25 -> 0 | P27: =+งบกลาง!D25 -> 0
B28: รายจ่ายอื่น | C28: =+ทั่วไป!C26+สงบ!C26+ศึกษา!C26+สาธารณสุข!C26+สังคม!C26+เข้มแข็ง!C26+นันทนาการ!C26+เกษตร!C26+งบกลาง!C26 -> 25000 | D28: =SUM(E28:P28) -> 0 | E28: =+ทั่วไป!E26 -> 0 | F28: =+สงบ!D26 -> 0 | G28: =+ศึกษา!D26 -> 0 | H28: =+สาธารณสุข!D26 -> 0 | I28: =+สังคม!D26 -> 0 | K28: =+เข้มแข็ง!D26 -> 0 | L28: =+นันทนาการ!D26 -> 0 | N28: =+เกษตร!D26 -> 0 | P28: =+งบกลาง!D26 -> 0
B29: รายจ่ายอื่น ( ท ) | C29: =+ทั่วไป!C27+สงบ!C27+ศึกษา!C27+สาธารณสุข!C27+สังคม!C27+เข้มแข็ง!C27+นันทนาการ!C27+เกษตร!C27+งบกลาง!C27 -> 0 | D29: =SUM(E29:P29) -> 0 | E29: =+ทั่วไป!E27 -> 0 | F29: =+สงบ!D27 -> 0 | G29: =+ศึกษา!D27 -> 0 | H29: =+สาธารณสุข!D27 -> 0 | I29: =+สังคม!D27 -> 0 | K29: =+เข้มแข็ง!D27 -> 0 | L29: =+นันทนาการ!D27 -> 0 | N29: =+เกษตร!D27 -> 0 | P29: =+งบกลาง!D27 -> 0
B30: งบกลาง | C30: =+ทั่วไป!C28+สงบ!C28+ศึกษา!C28+สาธารณสุข!C28+สังคม!C28+เข้มแข็ง!C28+นันทนาการ!C28+เกษตร!C28+งบกลาง!C28 -> 0 | D30: =SUM(E30:P30) -> 0 | E30: =+ทั่วไป!E28 -> 0 | F30: =+สงบ!D28 -> 0 | G30: =+ศึกษา!D28 -> 0 | H30: =+สาธารณสุข!D28 -> 0 | I30: =+สังคม!D28 -> 0 | K30: =+เข้มแข็ง!D28 -> 0 | L30: =+นันทนาการ!D28 -> 0 | N30: =+เกษตร!D28 -> 0 | P30: =+งบกลาง!D28 -> 0
B31: งบกลาง ( ท ) | C31: =+ทั่วไป!C29+สงบ!C29+ศึกษา!C29+สาธารณสุข!C29+สังคม!C29+เข้มแข็ง!C29+นันทนาการ!C29+เกษตร!C29+งบกลาง!C29 -> 2454880 | D31: =SUM(E31:P31) -> 225548 | E31: =+ทั่วไป!E29 -> 0 | F31: =+สงบ!D29 -> 0 | G31: =+ศึกษา!D29 -> 0 | H31: =+สาธารณสุข!D29 -> 0 | I31: =+สังคม!D29 -> 0 | K31: =+เข้มแข็ง!D29 -> 0 | L31: =+นันทนาการ!D29 -> 0 | N31: =+เกษตร!D29 -> 0 | P31: =+งบกลาง!D29 -> 225548
B32: งบกลาง ( ก ) | C32: =+ทั่วไป!C30+สงบ!C30+ศึกษา!C30+สาธารณสุข!C30+สังคม!C30+เข้มแข็ง!C30+นันทนาการ!C30+เกษตร!C30+งบกลาง!C30 -> 0 | D32: =SUM(E32:P32) -> 0 | E32: =+ทั่วไป!E30 -> 0 | F32: =+สงบ!D30 -> 0 | G32: =+ศึกษา!D30 -> 0 | H32: =+สาธารณสุข!D30 -> 0 | I32: =+สังคม!D30 -> 0 | K32: =+เข้มแข็ง!D30 -> 0 | L32: =+นันทนาการ!D30 -> 0 | N32: =+เกษตร!D30 -> 0 | P32: =+งบกลาง!D30 -> 0
B33: รวม | C33: =SUM(C10:C32) -> 11759920 | D33: =SUM(D10:D32) -> 2929437.1 | E33: =SUM(E10:E32) -> 1707730 | F33: =SUM(F10:F32) -> 66260 | G33: =SUM(G10:G32) -> 683022.19 | H33: =SUM(H10:H32) -> 17500 | I33: =SUM(I10:I32) -> 0 | J33: =SUM(J10:J32) -> 0 | ... P33: =SUM(P10:P32) -> 225548

Sheet จ่ายคลัง
E1: องค์การบริหารส่วนตำบลไชยมนตรี อำเภอเมืองนครศรีธรรมราช จังหวัดนครศรีธรรมราช
G2: งบแสดงผลการดำเนินงานจ่ายจากเงินรายรับ
G3: =+จ่ายปลัด!G3 -> ตั้งแต่วันที่ 1 ตุลาคม 2555 ถึง 31 มกราคม 2556
H4: ส่วนการคลัง
E5: บริหารงาน | F5: การรักษา | I5: สังคม | J5: เคหะ | K5: สร้างความ | L5: การศาสนา | M5: อุตสาหกรรม
B6: รายการ | C6: ประมาณการ | D6: รวม | E6: ทั่วไป | F6: ความสงบ | G6: การศึกษา | H6: สาธารณสุข | I6: สงเคราะห์ | J6: และชุมชน | K6: เข้มแข็ง | L6: วัฒนธรรมและ | M6: และการโยธา | N6: การเกษตร | O6: การพาณิชย์ | P6: งบกลาง
F7: ภายใน | K7: ของชุมขน | L7: นันทนาการ
E8: ( 00110 ) | F8: ( 00120 ) | G8: ( 00210 ) | H8: ( 00220 ) | I8: ( 00230 ) | J8: ( 00240 ) | K8: ( 00250 ) | L8: ( 00260 ) | M8: ( 00310 ) | N8: ( 00320 ) | O8: ( 00330 ) | P8: ( 00410 )
A9: รายจ่าย
B10: เงินเดือน ( ฝ่ายการเมือง ) | C10: 0 | D10: =SUM(E10:P10) -> 0 | E10: =+ทั่วไป!G8 -> 0
B11: เงินเดือน ( ฝ่ายประจำ ) | C11: 1360000 | D11: =SUM(E11:P11) -> 423440 | E11: =+ทั่วไป!G9 -> 423440
B12: เงินเดือน ( ฝ่ายประจำ ) ( ก ) | C12: 0 | D12: =SUM(E12:P12) -> 0 | E12: =+ทั่วไป!G10 -> 0
B13: ค่าตอบแทน | C13: 370000 | D13: =SUM(E13:P13) -> 33590 | E13: =+ทั่วไป!G11 -> 33590
B14: ค่าตอบแทน ( ท ) | C14: 0 | D14: =SUM(E14:P14) -> 0 | E14: =+ทั่วไป!G12 -> 0
B15: ค่าใช้สอย | C15: 280000 | D15: =SUM(E15:P15) -> 700 | E15: =+ทั่วไป!G13 -> 700
B16: ค่าใช้สอย ( ท ) | C16: 0 | D16: =SUM(E16:P16) -> 0 | E16: =+ทั่วไป!G14 -> 0
B17: ค่าใช้สอย ( ก ) | C17: 0 | D17: =SUM(E17:P17) -> 0 | E17: =+ทั่วไป!G15 -> 0
B18: ค่าวัสดุ | C18: 140000 | D18: =SUM(E18:P18) -> 22910 | E18: =+ทั่วไป!G16 -> 22910
B19: ค่าวัสดุ ( ท ) | C19: 0 | D19: =SUM(E19:P19) -> 0 | E19: =+ทั่วไป!G17 -> 0
B20: ค่าสาธารณูปโภค | C20: 0 | D20: =SUM(E20:P20) -> 0 | E20: =+ทั่วไป!G18 -> 0
B21: ค่าครุภัณฑ์ | C21: 30000 | D21: =SUM(E21:P21) -> 15000 | E21: =+ทั่วไป!G19 -> 15000
... B32: งบกลาง ( ก ) | C32: 0 | D32: =SUM(E32:P32) -> 0 | E32: =+ทั่วไป!G30 -> 0
B33: รวม | C33: =SUM(C10:C32) -> 2180000 | D33: =SUM(D10:D32) -> 495640 | E33: =SUM(E10:E32) -> 495640 | F33: =SUM(F10:F32) -> 0 | G33: =SUM(G10:G32) -> 0 | H33: =SUM(H10:H32) -> 0 | I33: =SUM(I10:I32) -> 0 | J33: =SUM(J10:J32) -> 0 | ... P33: =SUM(P10:P32) -> 0

Sheet จ่ายช่าง
E1: องค์การบริหารส่วนตำบลไชยมนตรี อำเภอเมืองนครศรีธรรมราช จังหวัดนครศรีธรรมราช
G2: งบแสดงผลการดำเนินงานจ่ายจากเงินรายรับ
G3: =+จ่ายปลัด!G3 -> ตั้งแต่วันที่ 1 ตุลาคม 2555 ถึง 31 มกราคม 2556
H4: ส่วนโยธา
E5: บริหารงาน | F5: การรักษา | I5: สังคม | J5: เคหะ | K5: สร้างความ | L5: การศาสนา | M5: อุตสาหกรรม
B6: รายการ | C6: ประมาณการ | D6: รวม | E6: ทั่วไป | F6: ความสงบ | G6: การศึกษา | H6: สาธารณสุข | I6: สงเคราะห์ | J6: และชุมชน | K6: เข้มแข็ง | L6: วัฒนธรรมและ | M6: และการโยธา | N6: การเกษตร | O6: การพาณิชย์ | P6: งบกลาง
F7: ภายใน | K7: ของชุมขน | L7: นันทนาการ
E8: ( 00110 ) | F8: ( 00120 ) | G8: ( 00210 ) | H8: ( 00220 ) | I8: ( 00230 ) | J8: ( 00240 ) | K8: ( 00250 ) | L8: ( 00260 ) | M8: ( 00310 ) | N8: ( 00320 ) | O8: ( 00330 ) | P8: ( 00410 )
A9: รายจ่าย
B10: เงินเดือน ( ฝ่ายการเมือง ) | C10: 0 | D10: =SUM(E10:P10) -> 0 | J10: =+เคหะชุมชน!D8 -> 0
B11: เงินเดือน ( ฝ่ายประจำ ) | C11: 873780 | D11: =SUM(E11:P11) -> 257420 | J11: =+เคหะชุมชน!D9 -> 257420
B12: เงินเดือน ( ฝ่ายประจำ ) ( ก ) | C12: 0 | D12: =SUM(E12:P12) -> 0 | J12: =+เคหะชุมชน!D10 -> 0
B13: ค่าตอบแทน | C13: 360800 | D13: =SUM(E13:P13) -> 18400 | J13: =+เคหะชุมชน!D11 -> 18400
B14: ค่าตอบแทน ( ท ) | C14: 0 | D14: =SUM(E14:P14) -> 0 | J14: =+เคหะชุมชน!D12 -> 0
B15: ค่าใช้สอย | C15: =280000+พาณิชย์!C13 -> 310000 | D15: =SUM(E15:P15) -> 4500 | J15: =+เคหะชุมชน!D13 -> 4500 | O15: =+พาณิชย์!D13 -> 0
B16: ค่าใช้สอย ( ท ) | C16: 0 | D16: =SUM(E16:P16) -> 0 | J16: =+เคหะชุมชน!D14 -> 0
B17: ค่าใช้สอย ( ก ) | C17: 0 | D17: =SUM(E17:P17) -> 0 | J17: =+เคหะชุมชน!D15 -> 0
B18: ค่าวัสดุ | C18: =495000+พาณิชย์!C16 -> 795000 | D18: =SUM(E18:P18) -> 0 | J18: =+เคหะชุมชน!D16 -> 0 | O18: =+พาณิชย์!D16 -> 0
B19: ค่าวัสดุ ( ท ) | C19: 0 | D19: =SUM(E19:P19) -> 0 | J19: =+เคหะชุมชน!D17 -> 0
B20: ค่าสาธารณูปโภค | C20: =0+พาณิชย์!C18 -> 700000 | D20: =SUM(E20:P20) -> 361257.24 | J20: =+เคหะชุมชน!D18 -> 0 | O20: =+พาณิชย์!D18 -> 361257.24
B21: ค่าครุภัณฑ์ | C21: =20000+พาณิชย์!C19 -> 100000 | D21: =SUM(E21:P21) -> 0 | J21: =+เคหะชุมชน!D19 -> 0 | O21: =+พาณิชย์!D19 -> 0
B22: ค่าครุภัณฑ์ ( ท ) | C22: 24000 | D22: =SUM(E22:P22) -> 0 | J22: =+เคหะชุมชน!D20 -> 0
B23: ค่าที่ดินและสิ่งก่อสร้าง | C23: 500000 | D23: =SUM(E23:P23) -> 477200 | J23: =+เคหะชุมชน!D21 -> 477200
B24: ค่าที่ดินและสิ่งก่อสร้าง ( ท ) | C24: =1456000+พาณิชย์!C22 -> 1704500 | D24: =SUM(E24:P24) -> 0 | J24: =+เคหะชุมชน!D22 -> 0 | O24: =+พาณิชย์!D22 -> 0
B25: ค่าที่ดินและสิ่งก่อสร้าง ( ก ) | C25: =+เคหะชุมชน!C23 -> 0 | D25: =SUM(E25:P25) -> 0 | J25: =+เคหะชุมชน!D23 -> 0
B26: เงินอุดหนุน | C26: =+เคหะชุมชน!C24 -> 0 | D26: =SUM(E26:P26) -> 0 | J26: =+เคหะชุมชน!D24 -> 0
B27: เงินอุดหนุน ( ท ) | C27: =+เคหะชุมชน!C25 -> 0 | D27: =SUM(E27:P27) -> 0 | J27: =+เคหะชุมชน!D25 -> 0
B28: รายจ่ายอื่น | C28: =+เคหะชุมชน!C26 -> 0 | D28: =SUM(E28:P28) -> 0 | J28: =+เคหะชุมชน!D26 -> 0
B29: รายจ่ายอื่น ( ท ) | C29: =+เคหะชุมชน!C27 -> 0 | D29: =SUM(E29:P29) -> 0 | J29: =+เคหะชุมชน!D27 -> 0
B30: งบกลาง | C30: =+เคหะชุมชน!C28 -> 0 | D30: =SUM(E30:P30) -> 0 | J30: =+เคหะชุมชน!D28 -> 0
B31: งบกลาง ( ท ) | C31: =+เคหะชุมชน!C29 -> 0 | D31: =SUM(E31:P31) -> 0 | J31: =+เคหะชุมชน!D29 -> 0
B32: งบกลาง ( ก ) | C32: =+เคหะชุมชน!C30 -> 0 | D32: =SUM(E32:P32) -> 0 | J32: =+เคหะชุมชน!D30 -> 0
B33: รวม | C33: =SUM(C10:C32) -> 5368080 | D33: =SUM(D10:D32) -> 1118777.2 | E33: =SUM(E10:E32) -> 0 | F33: =SUM(F10:F32) -> 0 | G33: =SUM(G10:G32) -> 0 | H33: =SUM(H10:H32) -> 0 | I33: =SUM(I10:I32) -> 0 | J33: =SUM(J10:J32) -> 757520 | ... P33: =SUM(P10:P32) -> 0

Sheet จ่ายรวม
E1: องค์การบริหารส่วนตำบลไชยมนตรี อำเภอเมืองนครศรีธรรมราช จังหวัดนครศรีธรรมราช
G2: งบแสดงผลการดำเนินงานจ่ายจากเงินรายรับ
G3: =+จ่ายปลัด!G3 -> ตั้งแต่วันที่ 1 ตุลาคม 2555 ถึง 31 มกราคม 2556
E4: บริหารงาน | F4: การรักษา | G4: การศึกษา | I4: สังคม | J4: เคหะ | K4: สร้างความ | L4: การศาสนา | M4: อุตสาหกรรม | N4: การเกษตร | O4: การพาณิชย์ | P4: งบกลาง
B5: รายการ | C5: ประมาณการ | D5: รวม | E5: ทั่วไป | F5: ความสงบ | H5: สาธารณสุข | I5: สงเคราะห์ | J5: และชุมชน | K5: เข้มแข็ง | L5: วัฒนธรรมและ | M5: และการโยธา
F6: ภายใน | K6: ของชุมชน | L6: นันทนาการ
E7: ( 00110 ) | F7: ( 00120 ) | G7: ( 00210 ) | H7: ( 00220 ) | I7: ( 00230 ) | J7: ( 00240 ) | K7: ( 00250 ) | L7: ( 00260 ) | M7: ( 00310 ) | N7: ( 00320 ) | O7: ( 00330 ) | P7: ( 00410 )
A8: รายจ่าย
B9: เงินเดือน ( ฝ่ายการเมือง ) | C9: =+จ่ายปลัด!C10+จ่ายคลัง!C10+จ่ายช่าง!C10 -> 1707120 | D9: =SUM(E9:P9) -> 569040 | E9: =+จ่ายปลัด!E10+จ่ายคลัง!E10+จ่ายช่าง!E10 -> 569040 | F9: =+จ่ายปลัด!F10+จ่ายคลัง!F10+จ่ายช่าง!F10 -> 0 | G9: =+จ่ายปลัด!G10+จ่ายคลัง!G10+จ่ายช่าง!G10 -> 0 | H9: =+จ่ายปลัด!H10+จ่ายคลัง!H10+จ่ายช่าง!H10 -> 0 | I9: =+จ่ายปลัด!I10+จ่ายคลัง!I10+จ่ายช่าง!I10 -> 0 | J9: =+จ่ายปลัด!J10+จ่ายคลัง!J10+จ่ายช่าง!J10 -> 0 | K9: =+จ่ายปลัด!K10+จ่ายคลัง!K10+จ่ายช่าง!K10 -> 0 | L9: =+จ่ายปลัด!L10+จ่ายคลัง!L10+จ่ายช่าง!L10 -> 0 | ... P9: =+จ่ายปลัด!P10+จ่ายคลัง!P10+จ่ายช่าง!P10 -> 0
B10: เงินเดือน ( ฝ่ายประจำ ) | C10: =+จ่ายปลัด!C11+จ่ายคลัง!C11+จ่ายช่าง!C11 -> 4727340 | D10: =SUM(E10:P10) -> 1505493.9 | E10: =+จ่ายปลัด!E11+จ่ายคลัง!E11+จ่ายช่าง!E11 -> 1248073.9 | F10: =+จ่ายปลัด!F11+จ่ายคลัง!F11+จ่ายช่าง!F11 -> 0 | G10: =+จ่ายปลัด!G11+จ่ายคลัง!G11+จ่ายช่าง!G11 -> 0 | H10: =+จ่ายปลัด!H11+จ่ายคลัง!H11+จ่ายช่าง!H11 -> 0 | I10: =+จ่ายปลัด!I11+จ่ายคลัง!I11+จ่ายช่าง!I11 -> 0 | J10: =+จ่ายปลัด!J11+จ่ายคลัง!J11+จ่ายช่าง!J11 -> 257420 | K10: =+จ่ายปลัด!K11+จ่ายคลัง!K11+จ่ายช่าง!K11 -> 0 | L10: =+จ่ายปลัด!L11+จ่ายคลัง!L11+จ่ายช่าง!L11 -> 0 | ... P10: =+จ่ายปลัด!P11+จ่ายคลัง!P11+จ่ายช่าง!P11 -> 0
B11: เงินเดือน ( ฝ่ายประจำ ) ( ก ) | C11: =+จ่ายปลัด!C12+จ่ายคลัง!C12+จ่ายช่าง!C12 -> 0 | D11: =SUM(E11:P11) -> 0 | E11: =+จ่ายปลัด!E12+จ่ายคลัง!E12+จ่ายช่าง!E12 -> 0 | F11: =+จ่ายปลัด!F12+จ่ายคลัง!F12+จ่ายช่าง!F12 -> 0 | G11: =+จ่ายปลัด!G12+จ่ายคลัง!G12+จ่ายช่าง!G12 -> 0 | H11: =+จ่ายปลัด!H12+จ่ายคลัง!H12+จ่ายช่าง!H12 -> 0 | I11: =+จ่ายปลัด!I12+จ่ายคลัง!I12+จ่ายช่าง!I12 -> 0 | J11: =+จ่ายปลัด!J12+จ่ายคลัง!J12+จ่ายช่าง!J12 -> 0 | K11: =+จ่ายปลัด!K12+จ่ายคลัง!K12+จ่ายช่าง!K12 -> 0 | L11: =+จ่ายปลัด!L12+จ่ายคลัง!L12+จ่ายช่าง!L12 -> 0 | ... P11: =+จ่ายปลัด!P12+จ่ายคลัง!P12+จ่ายช่าง!P12 -> 0
B12: ค่าตอบแทน | C12: =+จ่ายปลัด!C13+จ่ายคลัง!C13+จ่ายช่าง!C13 -> 1132160 | D12: =SUM(E12:P12) -> 97606 | E12: =+จ่ายปลัด!E13+จ่ายคลัง!E13+จ่ายช่าง!E13 -> 79206 | F12: =+จ่ายปลัด!F13+จ่ายคลัง!F13+จ่ายช่าง!F13 -> 0 | G12: =+จ่ายปลัด!G13+จ่ายคลัง!G13+จ่ายช่าง!G13 -> 0 | H12: =+จ่ายปลัด!H13+จ่ายคลัง!H13+จ่ายช่าง!H13 -> 0 | I12: =+จ่ายปลัด!I13+จ่ายคลัง!I13+จ่ายช่าง!I13 -> 0 | J12: =+จ่ายปลัด!J13+จ่ายคลัง!J13+จ่ายช่าง!J13 -> 18400 | K12: =+จ่ายปลัด!K13+จ่ายคลัง!K13+จ่ายช่าง!K13 -> 0 | L12: =+จ่ายปลัด!L13+จ่ายคลัง!L13+จ่ายช่าง!L13 -> 0 | ... P12: =+จ่ายปลัด!P13+จ่ายคลัง!P13+จ่ายช่าง!P13 -> 0
B13: ค่าตอบแทน ( ท ) | C13: =+จ่ายปลัด!C14+จ่ายคลัง!C14+จ่ายช่าง!C14 -> 0 | D13: =SUM(E13:P13) -> 0 | E13: =+จ่ายปลัด!E14+จ่ายคลัง!E14+จ่ายช่าง!E14 -> 0 | F13: =+จ่ายปลัด!F14+จ่ายคลัง!F14+จ่ายช่าง!F14 -> 0 | G13: =+จ่ายปลัด!G14+จ่ายคลัง!G14+จ่ายช่าง!G14 -> 0 | H13: =+จ่ายปลัด!H14+จ่ายคลัง!H14+จ่ายช่าง!H14 -> 0 | I13: =+จ่ายปลัด!I14+จ่ายคลัง!I14+จ่ายช่าง!I14 -> 0 | J13: =+จ่ายปลัด!J14+จ่ายคลัง!J14+จ่ายช่าง!J14 -> 0 | K13: =+จ่ายปลัด!K14+จ่ายคลัง!K14+จ่ายช่าง!K14 -> 0 | L13: =+จ่ายปลัด!L14+จ่ายคลัง!L14+จ่ายช่าง!L14 -> 0 | ... P13: =+จ่ายปลัด!P14+จ่ายคลัง!P14+จ่ายช่าง!P14 -> 0
B14: ค่าใช้สอย | C14: =+จ่ายปลัด!C15+จ่ายคลัง!C15+จ่ายช่าง!C15 -> 1782000 | D14: =SUM(E14:P14) -> 475656.8 | E14: =+จ่ายปลัด!E15+จ่ายคลัง!E15+จ่ายช่าง!E15 -> 158019.8 | F14: =+จ่ายปลัด!F15+จ่ายคลัง!F15+จ่ายช่าง!F15 -> 66260 | G14: =+จ่ายปลัด!G15+จ่ายคลัง!G15+จ่ายช่าง!G15 -> 0 | H14: =+จ่ายปลัด!H15+จ่ายคลัง!H15+จ่ายช่าง!H15 -> 17500 | I14: =+จ่ายปลัด!I15+จ่ายคลัง!I15+จ่ายช่าง!I15 -> 0 | J14: =+จ่ายปลัด!J15+จ่ายคลัง!J15+จ่ายช่าง!J15 -> 4500 | K14: =+จ่ายปลัด!K15+จ่ายคลัง!K15+จ่ายช่าง!K15 -> 0 | L14: =+จ่ายปลัด!L15+จ่ายคลัง!L15+จ่ายช่าง!L15 -> 229377 | ... P14: =+จ่ายปลัด!P15+จ่ายคลัง!P15+จ่ายช่าง!P15 -> 0
B15: ค่าใช้สอย ( ท ) | C15: =+จ่ายปลัด!C16+จ่ายคลัง!C16+จ่ายช่าง!C16 -> 795600 | D15: =SUM(E15:P15) -> 145600 | E15: =+จ่ายปลัด!E16+จ่ายคลัง!E16+จ่ายช่าง!E16 -> 0 | F15: =+จ่ายปลัด!F16+จ่ายคลัง!F16+จ่ายช่าง!F16 -> 0 | G15: =+จ่ายปลัด!G16+จ่ายคลัง!G16+จ่ายช่าง!G16 -> 145600 | H15: =+จ่ายปลัด!H16+จ่ายคลัง!H16+จ่ายช่าง!H16 -> 0 | I15: =+จ่ายปลัด!I16+จ่ายคลัง!I16+จ่ายช่าง!I16 -> 0 | J15: =+จ่ายปลัด!J16+จ่ายคลัง!J16+จ่ายช่าง!J16 -> 0 | K15: =+จ่ายปลัด!K16+จ่ายคลัง!K16+จ่ายช่าง!K16 -> 0 | L15: =+จ่ายปลัด!L16+จ่ายคลัง!L16+จ่ายช่าง!L16 -> 0 | ... P15: =+จ่ายปลัด!P16+จ่ายคลัง!P16+จ่ายช่าง!P16 -> 0
B16: ค่าใช้สอย ( ก ) | C16: =+จ่ายปลัด!C17+จ่ายคลัง!C17+จ่ายช่าง!C17 -> 0 | D16: =SUM(E16:P16) -> 0 | E16: =+จ่ายปลัด!E17+จ่ายคลัง!E17+จ่ายช่าง!E17 -> 0 | F16: =+จ่ายปลัด!F17+จ่ายคลัง!F17+จ่ายช่าง!F17 -> 0 | G16: =+จ่ายปลัด!G17+จ่ายคลัง!G17+จ่ายช่าง!G17 -> 0 | H16: =+จ่ายปลัด!H17+จ่ายคลัง!H17+จ่ายช่าง!H17 -> 0 | I16: =+จ่ายปลัด!I17+จ่ายคลัง!I17+จ่ายช่าง!I17 -> 0 | J16: =+จ่ายปลัด!J17+จ่ายคลัง!J17+จ่ายช่าง!J17 -> 0 | K16: =+จ่ายปลัด!K17+จ่ายคลัง!K17+จ่ายช่าง!K17 -> 0 | L16: =+จ่ายปลัด!L17+จ่ายคลัง!L17+จ่ายช่าง!L17 -> 0 | ... P16: =+จ่ายปลัด!P17+จ่ายคลัง!P17+จ่ายช่าง!P17 -> 0
B17: ค่าวัสดุ | C17: =+จ่ายปลัด!C18+จ่ายคลัง!C18+จ่ายช่าง!C18 -> 1365000 | D17: =SUM(E17:P17) -> 57370 | E17: =+จ่ายปลัด!E18+จ่ายคลัง!E18+จ่ายช่าง!E18 -> 57370 | F17: =+จ่ายปลัด!F18+จ่ายคลัง!F18+จ่ายช่าง!F18 -> 0 | G17: =+จ่ายปลัด!G18+จ่ายคลัง!G18+จ่ายช่าง!G18 -> 0 | H17: =+จ่ายปลัด!H18+จ่ายคลัง!H18+จ่ายช่าง!H18 -> 0 | I17: =+จ่ายปลัด!I18+จ่ายคลัง!I18+จ่ายช่าง!I18 -> 0 | J17: =+จ่ายปลัด!J18+จ่ายคลัง!J18+จ่ายช่าง!J18 -> 0 | K17: =+จ่ายปลัด!K18+จ่ายคลัง!K18+จ่ายช่าง!K18 -> 0 | L17: =+จ่ายปลัด!L18+จ่ายคลัง!L18+จ่ายช่าง!L18 -> 0 | ... P17: =+จ่ายปลัด!P18+จ่ายคลัง!P18+จ่ายช่าง!P18 -> 0
B18: ค่าวัสดุ ( ท ) | C18: =+จ่ายปลัด!C19+จ่ายคลัง!C19+จ่ายช่าง!C19 -> 824600 | D18: =SUM(E18:P18) -> 0 | E18: =+จ่ายปลัด!E19+จ่ายคลัง!E19+จ่ายช่าง!E19 -> 0 | F18: =+จ่ายปลัด!F19+จ่ายคลัง!F19+จ่ายช่าง!F19 -> 0 | G18: =+จ่ายปลัด!G19+จ่ายคลัง!G19+จ่ายช่าง!G19 -> 0 | H18: =+จ่ายปลัด!H19+จ่ายคลัง!H19+จ่ายช่าง!H19 -> 0 | I18: =+จ่ายปลัด!I19+จ่ายคลัง!I19+จ่ายช่าง!I19 -> 0 | J18: =+จ่ายปลัด!J19+จ่ายคลัง!J19+จ่ายช่าง!J19 -> 0 | K18: =+จ่ายปลัด!K19+จ่ายคลัง!K19+จ่ายช่าง!K19 -> 0 | L18: =+จ่ายปลัด!L19+จ่ายคลัง!L19+จ่ายช่าง!L19 -> 0 | ... P18: =+จ่ายปลัด!P19+จ่ายคลัง!P19+จ่ายช่าง!P19 -> 0
B19: ค่าสาธารณูปโภค | C19: =+จ่ายปลัด!C20+จ่ายคลัง!C20+จ่ายช่าง!C20 -> 970000 | D19: =SUM(E19:P19) -> 435519.69 | E19: =+จ่ายปลัด!E20+จ่ายคลัง!E20+จ่ายช่าง!E20 -> 69840.26 | F19: =+จ่ายปลัด!F20+จ่ายคลัง!F20+จ่ายช่าง!F20 -> 0 | G19: =+จ่ายปลัด!G20+จ่ายคลัง!G20+จ่ายช่าง!G20 -> 4422.19 | H19: =+จ่ายปลัด!H20+จ่ายคลัง!H20+จ่ายช่าง!H20 -> 0 | I19: =+จ่ายปลัด!I20+จ่ายคลัง!I20+จ่ายช่าง!I20 -> 0 | J19: =+จ่ายปลัด!J20+จ่ายคลัง!J20+จ่ายช่าง!J20 -> 0 | K19: =+จ่ายปลัด!K20+จ่ายคลัง!K20+จ่ายช่าง!K20 -> 0 | L19: =+จ่ายปลัด!L20+จ่ายคลัง!L20+จ่ายช่าง!L20 -> 0 | ... P19: =+จ่ายปลัด!P20+จ่ายคลัง!P20+จ่ายช่าง!P20 -> 0
B20: ค่าครุภัณฑ์ | C20: =+จ่ายปลัด!C21+จ่ายคลัง!C21+จ่ายช่าง!C21 -> 160000 | D20: =SUM(E20:P20) -> 21820 | E20: =+จ่ายปลัด!E21+จ่ายคลัง!E21+จ่ายช่าง!E21 -> 21820 | F20: =+จ่ายปลัด!F21+จ่ายคลัง!F21+จ่ายช่าง!F21 -> 0 | G20: =+จ่ายปลัด!G21+จ่ายคลัง!G21+จ่ายช่าง!G21 -> 0 | H20: =+จ่ายปลัด!H21+จ่ายคลัง!H21+จ่ายช่าง!H21 -> 0 | I20: =+จ่ายปลัด!I21+จ่ายคลัง!I21+จ่ายช่าง!I21 -> 0 | J20: =+จ่ายปลัด!J21+จ่ายคลัง!J21+จ่ายช่าง!J21 -> 0 | K20: =+จ่ายปลัด!K21+จ่ายคลัง!K21+จ่ายช่าง!K21 -> 0 | L20: =+จ่ายปลัด!L21+จ่ายคลัง!L21+จ่ายช่าง!L21 -> 0 | ... P20: =+จ่ายปลัด!P21+จ่ายคลัง!P21+จ่ายช่าง!P21 -> 0
... B31: งบกลาง ( ก ) | C31: =+จ่ายปลัด!C32+จ่ายคลัง!C32+จ่ายช่าง!C32 -> 0 | D31: =SUM(E31:P31) -> 0 | E31: =+จ่ายปลัด!E32+จ่ายคลัง!E32+จ่ายช่าง!E32 -> 0 | F31: =+จ่ายปลัด!F32+จ่ายคลัง!F32+จ่ายช่าง!F32 -> 0 | G31: =+จ่ายปลัด!G32+จ่ายคลัง!G32+จ่ายช่าง!G32 -> 0 | H31: =+จ่ายปลัด!H32+จ่ายคลัง!H32+จ่ายช่าง!H32 -> 0 | I31: =+จ่ายปลัด!I32+จ่ายคลัง!I32+จ่ายช่าง!I32 -> 0 | J31: =+จ่ายปลัด!J32+จ่ายคลัง!J32+จ่ายช่าง!J32 -> 0 | K31: =+จ่ายปลัด!K32+จ่ายคลัง!K32+จ่ายช่าง!K32 -> 0 | L31: =+จ่ายปลัด!L32+จ่ายคลัง!L32+จ่ายช่าง!L32 -> 0 | ... P31: =+จ่ายปลัด!P32+จ่ายคลัง!P32+จ่ายช่าง!P32 -> 0
B32: รวม | C32: =SUM(C9:C31) -> 19308000 | D32: =SUM(D9:D31) -> 4543854.4 | E32: =SUM(E9:E31) -> 2203370 | F32: =SUM(F9:F31) -> 66260 | G32: =SUM(G9:G31) -> 683022.19 | H32: =SUM(H9:H31) -> 17500 | I32: =SUM(I9:I31) -> 0 | J32: =SUM(J9:J31) -> 757520 | ... P32: =SUM(P9:P31) -> 225548
A34: รายรับ
B35: ภาษีอากร | C35: 167000 | D35: 29786.83
B36: ค่าธรรมเนียม ค่าปรับและใบอนุญาต | C36: 172000 | D36: 92540
B37: รายได้จากทรัพย์สิน | C37: 150000 | D37: 217370.42
B38: รายได้จากสาธารณูปโภคและการพาณิชย์ | C38: 800000 | D38: 281704
B39: รายได้เบ็ดเตล็ด | C39: 250000 | D39: 0
B40: รายได้จากทุน | C40: 3000 | D40: 0
B41: รายได้ที่รัฐบาลเก็บแล้วจัดสรรให้ อปท. | C41: 10766000 | D41: 4285170.4
B42: รายได้ที่รัฐบาลอุดหนุนให้ อปท. | C42: 7000000 | D42: 2337280.2
B43: อุดหนุนเฉพาะกิจ | C43: 0 | D43: =135060+3323500 -> 3458560
B44: รวมรายรับ | C44: =SUM(C35:C43) -> 19308000 | D44: =SUM(D35:D43) -> 10702412
B45: รายรับสูงกว่าหรือ (ต่ำกว่า)รายจ่าย | D45: =D44-D32 -> 6158557.5

Sheet จ่าย ป.สะสม
E1: องค์การบริหารส่วนตำบลไชยมนตรี อำเภอเมืองนครศรีธรรมราช จังหวัดนครศรีธรรมราช
G2: งบแสดงผลการดำเนินงานจ่ายจาก เงินสะสม
G3: ตั้งแต่วันที่ 1 ตุลาคม 2555 ถึง 31 มกราคม 2556
H4: สำนักงานปลัด
E5: บริหารงาน | F5: การรักษา | I5: สังคม | J5: เคหะ | K5: สร้างความ | L5: การศาสนา | M5: อุตสาหกรรม
B6: รายการ | C6: ประมาณการ | D6: รวม | E6: ทั่วไป | F6: ความสงบ | G6: การศึกษา | H6: สาธารณสุข | I6: สงเคราะห์ | J6: และชุมชน | K6: เข้มแข็ง | L6: วัฒนธรรมและ | M6: และการโยธา | N6: การเกษตร | O6: การพาณิชย์ | P6: งบกลาง
F7: ภายใน | K7: ของชุมชน | L7: นันทนาการ
E8: ( 00110 ) | F8: ( 00120 ) | G8: ( 00210 ) | H8: ( 00220 ) | I8: ( 00230 ) | J8: ( 00240 ) | K8: ( 00250 ) | L8: ( 00260 ) | M8: ( 00310 ) | N8: ( 00320 ) | O8: ( 00330 ) | P8: ( 00410 )
A9: รายจ่าย
B10: เงินเดือน ( ฝ่ายการเมือง ) | C10: =+บริหารสะสม!C8 -> 0 | D10: =SUM(E10:P10) -> 0 | E10: =+บริหารสะสม!E8 -> 0
B11: เงินเดือน ( ฝ่ายประจำ ) | C11: =+บริหารสะสม!C9 -> 0 | D11: =SUM(E11:P11) -> 0 | E11: =+บริหารสะสม!E9 -> 0
B12: ค่าตอบแทน | C12: =+บริหารสะสม!C10 -> 0 | D12: =SUM(E12:P12) -> 0
B13: ค่าตอบแทน ( ท ) | C13: =+บริหารสะสม!C11 -> 0 | D13: =SUM(E13:P13) -> 0
B14: ค่าใช้สอย | C14: =+บริหารสะสม!C12 -> 0 | D14: =SUM(E14:P14) -> 0 | E14: =+บริหารสะสม!E12 -> 0
B15: ค่าใช้สอย ( ท ) | C15: =+บริหารสะสม!C13 -> 0 | D15: =SUM(E15:P15) -> 0
B16: ค่าใช้สอย ( ก ) | C16: =+บริหารสะสม!C14 -> 0 | D16: =SUM(E16:P16) -> 0
B17: ค่าวัสดุ | C17: =+บริหารสะสม!C15 -> 0 | D17: =SUM(E17:P17) -> 0
B18: ค่าวัสดุ ( ท ) | C18: =+บริหารสะสม!C16 -> 0 | D18: =SUM(E18:P18) -> 0
B19: ค่าสาธารณูปโภค | C19: =+บริหารสะสม!C17 -> 0 | D19: =SUM(E19:P19) -> 0
B20: ค่าครุภัณฑ์ | C20: =+บริหารสะสม!C18 -> 0 | D20: =SUM(E20:P20) -> 0
B21: ค่าครุภัณฑ์ ( ท ) | C21: =+บริหารสะสม!C19 -> 0 | D21: =SUM(E21:P21) -> 0
B22: ค่าที่ดินและสิ่งก่อสร้าง | C22: =+บริหารสะสม!C20 -> 0 | D22: =SUM(E22:P22) -> 0
B23: ค่าที่ดินและสิ่งก่อสร้าง ( ท ) | C23: =+บริหารสะสม!C21 -> 0 | D23: =SUM(E23:P23) -> 0
B24: ค่าที่ดินและสิ่งก่อสร้าง ( ก ) | C24: =+บริหารสะสม!C22 -> 0 | D24: =SUM(E24:P24) -> 0
B25: เงินอุดหนุน | C25: =+บริหารสะสม!C23 -> 0 | D25: =SUM(E25:P25) -> 0 | E25: 0
B26: เงินอุดหนุน ( ท ) | C26: =+บริหารสะสม!C24 -> 0 | D26: =SUM(E26:P26) -> 0
B27: รายจ่ายอื่น | C27: =+บริหารสะสม!C25 -> 0 | D27: =SUM(E27:P27) -> 0 | J27: 0
B28: รายจ่ายอื่น ( ท ) | C28: =+บริหารสะสม!C26 -> 0 | D28: =SUM(E28:P28) -> 0
B29: งบกลาง | C29: =+งบกลางสะสม!C27 -> 0 | D29: =SUM(E29:P29) -> 0 | P29: =+งบกลางสะสม!E27 -> 0
B30: งบกลาง ( ท ) | C30: =+บริหารสะสม!C28 -> 0 | D30: =E30+F30+G30+H30+I30+J30+K30+L30+M30+N30+O30+P30 -> 0
B31: งบกลาง ( ก ) | C31: =+บริหารสะสม!C29 -> 0 | D31: =E31+F31+G31+H31+I31+J31+K31+L31+M31+N31+O31+P31 -> 0
B32: รวม | C32: =SUM(C10:C31) -> 0 | D32: =SUM(D10:D31) -> 0 | E32: =SUM(E10:E31) -> 0 | F32: =SUM(F10:F31) -> 0 | G32: =SUM(G10:G31) -> 0 | H32: =SUM(H10:H31) -> 0 | I32: =SUM(I10:I31) -> 0 | J32: =SUM(J10:J31) -> 0 | ... P32: =SUM(P10:P31) -> 0

Sheet จ่าย ค.สะสม
E1: องค์การบริหารส่วนตำบลไชยมนตรี อำเภอเมืองนครศรีธรรมราช จังหวัดนครศรีธรรมราช
G2: งบแสดงผลการดำเนินงานจ่ายจาก เงินสะสม
G3: =+จ่ายปลัด!G3 -> ตั้งแต่วันที่ 1 ตุลาคม 2555 ถึง 31 มกราคม 2556
H4: ส่วนการคลัง
E5: บริหารงาน | F5: การรักษา | I5: สังคม | J5: เคหะ | K5: สร้างความ | L5: การศาสนา | M5: อุตสาหกรรม
B6: รายการ | C6: ประมาณการ | D6: รวม | E6: ทั่วไป | F6: ความสงบ | G6: การศึกษา | H6: สาธารณสุข | I6: สงเคราะห์ | J6: และชุมชน | K6: เข้มแข็ง | L6: วัฒนธรรมและ | M6: และการโยธา | N6: การเกษตร | O6: การพาณิชย์ | P6: งบกลาง
F7: ภายใน | K7: ของชุมขน | L7: นันทนาการ
E8: ( 00110 ) | F8: ( 00120 ) | G8: ( 00210 ) | H8: ( 00220 ) | I8: ( 00230 ) | J8: ( 00240 ) | K8: ( 00250 ) | L8: ( 00260 ) | M8: ( 00310 ) | N8: ( 00320 ) | O8: ( 00330 ) | P8: ( 00410 )
A9: รายจ่าย
B10: เงินเดือน ( ฝ่ายการเมือง ) | C10: 0 | D10: =SUM(E10:P10) -> 0
B11: เงินเดือน ( ฝ่ายประจำ ) | C11: 0 | D11: =SUM(E11:P11) -> 0 | E11: =+บริหารสะสม!G9 -> 0
B12: ค่าตอบแทน | C12: 0 | D12: =SUM(E12:P12) -> 0
B13: ค่าตอบแทน ( ท ) | C13: 0 | D13: =SUM(E13:P13) -> 0
B14: ค่าใช้สอย | C14: 0 | D14: =SUM(E14:P14) -> 0
B15: ค่าใช้สอย ( ท ) | C15: 0 | D15: =SUM(E15:P15) -> 0
B16: ค่าใช้สอย ( ก ) | C16: 0 | D16: =SUM(E16:P16) -> 0
B17: ค่าวัสดุ | C17: 0 | D17: =SUM(E17:P17) -> 0
B18: ค่าวัสดุ ( ท ) | C18: 0 | D18: =SUM(E18:P18) -> 0
B19: ค่าสาธารณูปโภค | C19: 0 | D19: =SUM(E19:P19) -> 0
B20: ค่าครุภัณฑ์ | C20: 0 | D20: =SUM(E20:P20) -> 0
B21: ค่าครุภัณฑ์ ( ท ) | C21: 0 | D21: =SUM(E21:P21) -> 0
B22: ค่าที่ดินและสิ่งก่อสร้าง | C22: 0 | D22: =SUM(E22:P22) -> 0
B23: ค่าที่ดินและสิ่งก่อสร้าง ( ท ) | C23: 0 | D23: =SUM(E23:P23) -> 0
... B29: งบกลาง | C29: 0 | D29: =SUM(E29:P29) -> 0
B30: งบกลาง ( ท ) | C30: 0 | D30: =E30+F30+G30+H30+I30+J30+K30+L30+M30+N30+O30+P30 -> 0
B31: งบกลาง ( ก ) | C31: 0 | D31: =E31+F31+G31+H31+I31+J31+K31+L31+M31+N31+O31+P31 -> 0
B32: รวม | C32: =SUM(C10:C31) -> 0 | D32: =SUM(D10:D31) -> 0 | E32: =SUM(E10:E31) -> 0 | F32: =SUM(F10:F31) -> 0 | G32: =SUM(G10:G31) -> 0 | H32: =SUM(H10:H31) -> 0 | I32: =SUM(I10:I31) -> 0 | J32: =SUM(J10:J31) -> 0 | ... P32: =SUM(P10:P31) -> 0

Sheet จ่าย ช.สะสม
E1: องค์การบริหารส่วนตำบลไชยมนตรี อำเภอเมืองนครศรีธรรมราช จังหวัดนครศรีธรรมราช
G2: งบแสดงผลการดำเนินงานจ่ายจาก เงินสะสม
G3: =+จ่ายปลัด!G3 -> ตั้งแต่วันที่ 1 ตุลาคม 2555 ถึง 31 มกราคม 2556
H4: ส่วนโยธา
E5: บริหารงาน | F5: การรักษา | I5: สังคม | J5: เคหะ | K5: สร้างความ | L5: การศาสนา | M5: อุตสาหกรรม
B6: รายการ | C6: ประมาณการ | D6: รวม | E6: ทั่วไป | F6: ความสงบ | G6: การศึกษา | H6: สาธารณสุข | I6: สงเคราะห์ | J6: และชุมชน | K6: เข้มแข็ง | L6: วัฒนธรรมและ | M6: และการโยธา | N6: การเกษตร | O6: การพาณิชย์ | P6: งบกลาง
F7: ภายใน | K7: ของชุมขน | L7: นันทนาการ
E8: ( 00110 ) | F8: ( 00120 ) | G8: ( 00210 ) | H8: ( 00220 ) | I8: ( 00230 ) | J8: ( 00240 ) | K8: ( 00250 ) | L8: ( 00260 ) | M8: ( 00310 ) | N8: ( 00320 ) | O8: ( 00330 ) | P8: ( 00410 )
A9: รายจ่าย
B10: เงินเดือน ( ฝ่ายการเมือง ) | C10: =+เคหะสะสม!C8 -> 0 | D10: =SUM(E10:P10) -> 0
B11: เงินเดือน ( ฝ่ายประจำ ) | C11: =+เคหะสะสม!C9 -> 0 | D11: =SUM(E11:P11) -> 0 | J11: =+เคหะสะสม!E9 -> 0
B12: ค่าตอบแทน | C12: =+เคหะสะสม!C10 -> 0 | D12: =SUM(E12:P12) -> 0
B13: ค่าตอบแทน ( ท ) | C13: =+เคหะสะสม!C11 -> 0 | D13: =SUM(E13:P13) -> 0
B14: ค่าใช้สอย | C14: =+เคหะสะสม!C12 -> 0 | D14: =SUM(E14:P14) -> 0
B15: ค่าใช้สอย ( ท ) | C15: =+เคหะสะสม!C13 -> 0 | D15: =SUM(E15:P15) -> 0
B16: ค่าใช้สอย ( ก ) | C16: =+เคหะสะสม!C14 -> 0 | D16: =SUM(E16:P16) -> 0
B17: ค่าวัสดุ | C17: =+เคหะสะสม!C15 -> 0 | D17: =SUM(E17:P17) -> 0
B18: ค่าวัสดุ ( ท ) | C18: =+เคหะสะสม!C16 -> 0 | D18: =SUM(E18:P18) -> 0
B19: ค่าสาธารณูปโภค | C19: =+เคหะสะสม!C17 -> 0 | D19: =SUM(E19:P19) -> 0
B20: ค่าครุภัณฑ์ | C20: =+เคหะสะสม!C18 -> 0 | D20: =SUM(E20:P20) -> 0
B21: ค่าครุภัณฑ์ ( ท ) | C21: =+เคหะสะสม!C19 -> 0 | D21: =SUM(E21:P21) -> 0
B22: ค่าที่ดินและสิ่งก่อสร้าง | C22: =+เคหะสะสม!C20 -> 393100 | D22: =SUM(E22:P22) -> 389900 | J22: =+เคหะสะสม!D20 -> 389900
B23: ค่าที่ดินและสิ่งก่อสร้าง ( ท ) | C23: =+เคหะสะสม!C21 -> 0 | D23: =SUM(E23:P23) -> 0
B24: ค่าที่ดินและสิ่งก่อสร้าง ( ก ) | C24: =+เคหะสะสม!C22 -> 0 | D24: =SUM(E24:P24) -> 0
B25: เงินอุดหนุน | C25: =+เคหะสะสม!C23 -> 0 | D25: =SUM(E25:P25) -> 0
B26: เงินอุดหนุน ( ท ) | C26: =+เคหะสะสม!C24 -> 0 | D26: =SUM(E26:P26) -> 0
B27: รายจ่ายอื่น | C27: =+เคหะสะสม!C25 -> 0 | D27: =SUM(E27:P27) -> 0
B28: รายจ่ายอื่น ( ท ) | C28: =+เคหะสะสม!C26 -> 0 | D28: =SUM(E28:P28) -> 0
B29: งบกลาง | C29: =+เคหะสะสม!C27 -> 0 | D29: =SUM(E29:P29) -> 0
B30: งบกลาง ( ท ) | C30: =+เคหะสะสม!C28 -> 0 | D30: =E30+F30+G30+H30+I30+J30+K30+L30+M30+N30+O30+P30 -> 0
B31: งบกลาง ( ก ) | C31: =+เคหะสะสม!C29 -> 0 | D31: =E31+F31+G31+H31+I31+J31+K31+L31+M31+N31+O31+P31 -> 0
B32: รวม | C32: =SUM(C10:C31) -> 393100 | D32: =SUM(D10:D31) -> 389900 | E32: =SUM(E10:E31) -> 0 | F32: =SUM(F10:F31) -> 0 | G32: =SUM(G10:G31) -> 0 | H32: =SUM(H10:H31) -> 0 | I32: =SUM(I10:I31) -> 0 | J32: =SUM(J10:J31) -> 389900 | ... P32: =SUM(P10:P31) -> 0

Sheet จ่ายรวมสะสม
E1: องค์การบริหารส่วนตำบลไชยมนตรี อำเภอเมืองนครศรีธรรมราช จังหวัดนครศรีธรรมราช
G2: งบแสดงผลการดำเนินงานจ่ายจาก เงินสะสม
G3: =+จ่ายปลัด!G3 -> ตั้งแต่วันที่ 1 ตุลาคม 2555 ถึง 31 มกราคม 2556
E4: บริหารงาน | F4: การรักษา | G4: การศึกษา | I4: สังคม | J4: เคหะ | K4: สร้างความ | L4: การศาสนา | M4: อุตสาหกรรม | N4: การเกษตร | O4: การพาณิชย์ | P4: งบกลาง
B5: รายการ | C5: ประมาณการ | D5: รวม | E5: ทั่วไป | F5: ความสงบ | H5: สาธารณสุข | I5: สงเคราะห์ | J5: และชุมชน | K5: เข้มแข็ง | L5: วัฒนธรรมและ | M5: และการโยธา
F6: ภายใน | K6: ของชุมชน | L6: นันทนาการ
E7: ( 00110 ) | F7: ( 00120 ) | G7: ( 00210 ) | H7: ( 00220 ) | I7: ( 00230 ) | J7: ( 00240 ) | K7: ( 00250 ) | L7: ( 00260 ) | M7: ( 00310 ) | N7: ( 00320 ) | O7: ( 00330 ) | P7: ( 00410 )
A8: รายจ่าย
B9: เงินเดือน ( ฝ่ายการเมือง ) | C9: =+'จ่าย ป.สะสม'!C10+'จ่าย ค.สะสม'!C10+'จ่าย ช.สะสม'!C10 -> 0 | D9: =+'จ่าย ป.สะสม'!D10+'จ่าย ค.สะสม'!D10+'จ่าย ช.สะสม'!D10 -> 0 | E9: =+'จ่าย ป.สะสม'!E10+'จ่าย ค.สะสม'!E10+'จ่าย ช.สะสม'!E10 -> 0 | F9: =+'จ่าย ป.สะสม'!F10+'จ่าย ค.สะสม'!F10+'จ่าย ช.สะสม'!F10 -> 0 | G9: =+'จ่าย ป.สะสม'!G10+'จ่าย ค.สะสม'!G10+'จ่าย ช.สะสม'!G10 -> 0 | H9: =+'จ่าย ป.สะสม'!H10+'จ่าย ค.สะสม'!H10+'จ่าย ช.สะสม'!H10 -> 0 | I9: =+'จ่าย ป.สะสม'!I10+'จ่าย ค.สะสม'!I10+'จ่าย ช.สะสม'!I10 -> 0 | J9: =+'จ่าย ป.สะสม'!J10+'จ่าย ค.สะสม'!J10+'จ่าย ช.สะสม'!J10 -> 0 | ... P9: =+'จ่าย ป.สะสม'!P10+'จ่าย ค.สะสม'!P10+'จ่าย ช.สะสม'!P10 -> 0
B10: เงินเดือน ( ฝ่ายประจำ ) | C10: =+'จ่าย ป.สะสม'!C11+'จ่าย ค.สะสม'!C11+'จ่าย ช.สะสม'!C11 -> 0 | D10: =+'จ่าย ป.สะสม'!D11+'จ่าย ค.สะสม'!D11+'จ่าย ช.สะสม'!D11 -> 0 | E10: =+'จ่าย ป.สะสม'!E11+'จ่าย ค.สะสม'!E11+'จ่าย ช.สะสม'!E11 -> 0 | F10: =+'จ่าย ป.สะสม'!F11+'จ่าย ค.สะสม'!F11+'จ่าย ช.สะสม'!F11 -> 0 | G10: =+'จ่าย ป.สะสม'!G11+'จ่าย ค.สะสม'!G11+'จ่าย ช.สะสม'!G11 -> 0 | H10: =+'จ่าย ป.สะสม'!H11+'จ่าย ค.สะสม'!H11+'จ่าย ช.สะสม'!H11 -> 0 | I10: =+'จ่าย ป.สะสม'!I11+'จ่าย ค.สะสม'!I11+'จ่าย ช.สะสม'!I11 -> 0 | J10: =+'จ่าย ป.สะสม'!J11+'จ่าย ค.สะสม'!J11+'จ่าย ช.สะสม'!J11 -> 0 | ... P10: =+'จ่าย ป.สะสม'!P11+'จ่าย ค.สะสม'!P11+'จ่าย ช.สะสม'!P11 -> 0
B11: ค่าตอบแทน | C11: =+'จ่าย ป.สะสม'!C12+'จ่าย ค.สะสม'!C12+'จ่าย ช.สะสม'!C12 -> 0 | D11: =+'จ่าย ป.สะสม'!D12+'จ่าย ค.สะสม'!D12+'จ่าย ช.สะสม'!D12 -> 0 | E11: =+'จ่าย ป.สะสม'!E12+'จ่าย ค.สะสม'!E12+'จ่าย ช.สะสม'!E12 -> 0 | F11: =+'จ่าย ป.สะสม'!F12+'จ่าย ค.สะสม'!F12+'จ่าย ช.สะสม'!F12 -> 0 | G11: =+'จ่าย ป.สะสม'!G12+'จ่าย ค.สะสม'!G12+'จ่าย ช.สะสม'!G12 -> 0 | H11: =+'จ่าย ป.สะสม'!H12+'จ่าย ค.สะสม'!H12+'จ่าย ช.สะสม'!H12 -> 0 | I11: =+'จ่าย ป.สะสม'!I12+'จ่าย ค.สะสม'!I12+'จ่าย ช.สะสม'!I12 -> 0 | J11: =+'จ่าย ป.สะสม'!J12+'จ่าย ค.สะสม'!J12+'จ่าย ช.สะสม'!J12 -> 0 | ... P11: =+'จ่าย ป.สะสม'!P12+'จ่าย ค.สะสม'!P12+'จ่าย ช.สะสม'!P12 -> 0
B12: ค่าตอบแทน ( ท ) | C12: =+'จ่าย ป.สะสม'!C13+'จ่าย ค.สะสม'!C13+'จ่าย ช.สะสม'!C13 -> 0 | D12: =+'จ่าย ป.สะสม'!D13+'จ่าย ค.สะสม'!D13+'จ่าย ช.สะสม'!D13 -> 0 | E12: =+'จ่าย ป.สะสม'!E13+'จ่าย ค.สะสม'!E13+'จ่าย ช.สะสม'!E13 -> 0 | F12: =+'จ่าย ป.สะสม'!F13+'จ่าย ค.สะสม'!F13+'จ่าย ช.สะสม'!F13 -> 0 | G12: =+'จ่าย ป.สะสม'!G13+'จ่าย ค.สะสม'!G13+'จ่าย ช.สะสม'!G13 -> 0 | H12: =+'จ่าย ป.สะสม'!H13+'จ่าย ค.สะสม'!H13+'จ่าย ช.สะสม'!H13 -> 0 | I12: =+'จ่าย ป.สะสม'!I13+'จ่าย ค.สะสม'!I13+'จ่าย ช.สะสม'!I13 -> 0 | J12: =+'จ่าย ป.สะสม'!J13+'จ่าย ค.สะสม'!J13+'จ่าย ช.สะสม'!J13 -> 0 | ... P12: =+'จ่าย ป.สะสม'!P13+'จ่าย ค.สะสม'!P13+'จ่าย ช.สะสม'!P13 -> 0
B13: ค่าใช้สอย | C13: =+'จ่าย ป.สะสม'!C14+'จ่าย ค.สะสม'!C14+'จ่าย ช.สะสม'!C14 -> 0 | D13: =+'จ่าย ป.สะสม'!D14+'จ่าย ค.สะสม'!D14+'จ่าย ช.สะสม'!D14 -> 0 | E13: =+'จ่าย ป.สะสม'!E14+'จ่าย ค.สะสม'!E14+'จ่าย ช.สะสม'!E14 -> 0 | F13: =+'จ่าย ป.สะสม'!F14+'จ่าย ค.สะสม'!F14+'จ่าย ช.สะสม'!F14 -> 0 | G13: =+'จ่าย ป.สะสม'!G14+'จ่าย ค.สะสม'!G14+'จ่าย ช.สะสม'!G14 -> 0 | H13: =+'จ่าย ป.สะสม'!H14+'จ่าย ค.สะสม'!H14+'จ่าย ช.สะสม'!H14 -> 0 | I13: =+'จ่าย ป.สะสม'!I14+'จ่าย ค.สะสม'!I14+'จ่าย ช.สะสม'!I14 -> 0 | J13: =+'จ่าย ป.สะสม'!J14+'จ่าย ค.สะสม'!J14+'จ่าย ช.สะสม'!J14 -> 0 | ... P13: =+'จ่าย ป.สะสม'!P14+'จ่าย ค.สะสม'!P14+'จ่าย ช.สะสม'!P14 -> 0
B14: ค่าใช้สอย ( ท ) | C14: =+'จ่าย ป.สะสม'!C15+'จ่าย ค.สะสม'!C15+'จ่าย ช.สะสม'!C15 -> 0 | D14: =+'จ่าย ป.สะสม'!D15+'จ่าย ค.สะสม'!D15+'จ่าย ช.สะสม'!D15 -> 0 | E14: =+'จ่าย ป.สะสม'!E15+'จ่าย ค.สะสม'!E15+'จ่าย ช.สะสม'!E15 -> 0 | F14: =+'จ่าย ป.สะสม'!F15+'จ่าย ค.สะสม'!F15+'จ่าย ช.สะสม'!F15 -> 0 | G14: =+'จ่าย ป.สะสม'!G15+'จ่าย ค.สะสม'!G15+'จ่าย ช.สะสม'!G15 -> 0 | H14: =+'จ่าย ป.สะสม'!H15+'จ่าย ค.สะสม'!H15+'จ่าย ช.สะสม'!H15 -> 0 | I14: =+'จ่าย ป.สะสม'!I15+'จ่าย ค.สะสม'!I15+'จ่าย ช.สะสม'!I15 -> 0 | J14: =+'จ่าย ป.สะสม'!J15+'จ่าย ค.สะสม'!J15+'จ่าย ช.สะสม'!J15 -> 0 | ... P14: =+'จ่าย ป.สะสม'!P15+'จ่าย ค.สะสม'!P15+'จ่าย ช.สะสม'!P15 -> 0
B15: ค่าใช้สอย ( ก ) | C15: =+'จ่าย ป.สะสม'!C16+'จ่าย ค.สะสม'!C16+'จ่าย ช.สะสม'!C16 -> 0 | D15: =+'จ่าย ป.สะสม'!D16+'จ่าย ค.สะสม'!D16+'จ่าย ช.สะสม'!D16 -> 0 | E15: =+'จ่าย ป.สะสม'!E16+'จ่าย ค.สะสม'!E16+'จ่าย ช.สะสม'!E16 -> 0 | F15: =+'จ่าย ป.สะสม'!F16+'จ่าย ค.สะสม'!F16+'จ่าย ช.สะสม'!F16 -> 0 | G15: =+'จ่าย ป.สะสม'!G16+'จ่าย ค.สะสม'!G16+'จ่าย ช.สะสม'!G16 -> 0 | H15: =+'จ่าย ป.สะสม'!H16+'จ่าย ค.สะสม'!H16+'จ่าย ช.สะสม'!H16 -> 0 | I15: =+'จ่าย ป.สะสม'!I16+'จ่าย ค.สะสม'!I16+'จ่าย ช.สะสม'!I16 -> 0 | J15: =+'จ่าย ป.สะสม'!J16+'จ่าย ค.สะสม'!J16+'จ่าย ช.สะสม'!J16 -> 0 | ... P15: =+'จ่าย ป.สะสม'!P16+'จ่าย ค.สะสม'!P16+'จ่าย ช.สะสม'!P16 -> 0
B16: ค่าวัสดุ | C16: =+'จ่าย ป.สะสม'!C17+'จ่าย ค.สะสม'!C17+'จ่าย ช.สะสม'!C17 -> 0 | D16: =+'จ่าย ป.สะสม'!D17+'จ่าย ค.สะสม'!D17+'จ่าย ช.สะสม'!D17 -> 0 | E16: =+'จ่าย ป.สะสม'!E17+'จ่าย ค.สะสม'!E17+'จ่าย ช.สะสม'!E17 -> 0 | F16: =+'จ่าย ป.สะสม'!F17+'จ่าย ค.สะสม'!F17+'จ่าย ช.สะสม'!F17 -> 0 | G16: =+'จ่าย ป.สะสม'!G17+'จ่าย ค.สะสม'!G17+'จ่าย ช.สะสม'!G17 -> 0 | H16: =+'จ่าย ป.สะสม'!H17+'จ่าย ค.สะสม'!H17+'จ่าย ช.สะสม'!H17 -> 0 | I16: =+'จ่าย ป.สะสม'!I17+'จ่าย ค.สะสม'!I17+'จ่าย ช.สะสม'!I17 -> 0 | J16: =+'จ่าย ป.สะสม'!J17+'จ่าย ค.สะสม'!J17+'จ่าย ช.สะสม'!J17 -> 0 | ... P16: =+'จ่าย ป.สะสม'!P17+'จ่าย ค.สะสม'!P17+'จ่าย ช.สะสม'!P17 -> 0
B17: ค่าวัสดุ ( ท ) | C17: =+'จ่าย ป.สะสม'!C18+'จ่าย ค.สะสม'!C18+'จ่าย ช.สะสม'!C18 -> 0 | D17: =+'จ่าย ป.สะสม'!D18+'จ่าย ค.สะสม'!D18+'จ่าย ช.สะสม'!D18 -> 0 | E17: =+'จ่าย ป.สะสม'!E18+'จ่าย ค.สะสม'!E18+'จ่าย ช.สะสม'!E18 -> 0 | F17: =+'จ่าย ป.สะสม'!F18+'จ่าย ค.สะสม'!F18+'จ่าย ช.สะสม'!F18 -> 0 | G17: =+'จ่าย ป.สะสม'!G18+'จ่าย ค.สะสม'!G18+'จ่าย ช.สะสม'!G18 -> 0 | H17: =+'จ่าย ป.สะสม'!H18+'จ่าย ค.สะสม'!H18+'จ่าย ช.สะสม'!H18 -> 0 | I17: =+'จ่าย ป.สะสม'!I18+'จ่าย ค.สะสม'!I18+'จ่าย ช.สะสม'!I18 -> 0 | J17: =+'จ่าย ป.สะสม'!J18+'จ่าย ค.สะสม'!J18+'จ่าย ช.สะสม'!J18 -> 0 | ... P17: =+'จ่าย ป.สะสม'!P18+'จ่าย ค.สะสม'!P18+'จ่าย ช.สะสม'!P18 -> 0
B18: ค่าสาธารณูปโภค | C18: =+'จ่าย ป.สะสม'!C19+'จ่าย ค.สะสม'!C19+'จ่าย ช.สะสม'!C19 -> 0 | D18: =+'จ่าย ป.สะสม'!D19+'จ่าย ค.สะสม'!D19+'จ่าย ช.สะสม'!D19 -> 0 | E18: =+'จ่าย ป.สะสม'!E19+'จ่าย ค.สะสม'!E19+'จ่าย ช.สะสม'!E19 -> 0 | F18: =+'จ่าย ป.สะสม'!F19+'จ่าย ค.สะสม'!F19+'จ่าย ช.สะสม'!F19 -> 0 | G18: =+'จ่าย ป.สะสม'!G19+'จ่าย ค.สะสม'!G19+'จ่าย ช.สะสม'!G19 -> 0 | H18: =+'จ่าย ป.สะสม'!H19+'จ่าย ค.สะสม'!H19+'จ่าย ช.สะสม'!H19 -> 0 | I18: =+'จ่าย ป.สะสม'!I19+'จ่าย ค.สะสม'!I19+'จ่าย ช.สะสม'!I19 -> 0 | J18: =+'จ่าย ป.สะสม'!J19+'จ่าย ค.สะสม'!J19+'จ่าย ช.สะสม'!J19 -> 0 | ... P18: =+'จ่าย ป.สะสม'!P19+'จ่าย ค.สะสม'!P19+'จ่าย ช.สะสม'!P19 -> 0
B19: ค่าครุภัณฑ์ | C19: =+'จ่าย ป.สะสม'!C20+'จ่าย ค.สะสม'!C20+'จ่าย ช.สะสม'!C20 -> 0 | D19: =+'จ่าย ป.สะสม'!D20+'จ่าย ค.สะสม'!D20+'จ่าย ช.สะสม'!D20 -> 0 | E19: =+'จ่าย ป.สะสม'!E20+'จ่าย ค.สะสม'!E20+'จ่าย ช.สะสม'!E20 -> 0 | F19: =+'จ่าย ป.สะสม'!F20+'จ่าย ค.สะสม'!F20+'จ่าย ช.สะสม'!F20 -> 0 | G19: =+'จ่าย ป.สะสม'!G20+'จ่าย ค.สะสม'!G20+'จ่าย ช.สะสม'!G20 -> 0 | H19: =+'จ่าย ป.สะสม'!H20+'จ่าย ค.สะสม'!H20+'จ่าย ช.สะสม'!H20 -> 0 | I19: =+'จ่าย ป.สะสม'!I20+'จ่าย ค.สะสม'!I20+'จ่าย ช.สะสม'!I20 -> 0 | J19: =+'จ่าย ป.สะสม'!J20+'จ่าย ค.สะสม'!J20+'จ่าย ช.สะสม'!J20 -> 0 | ... P19: =+'จ่าย ป.สะสม'!P20+'จ่าย ค.สะสม'!P20+'จ่าย ช.สะสม'!P20 -> 0
B20: ค่าครุภัณฑ์ ( ท ) | C20: =+'จ่าย ป.สะสม'!C21+'จ่าย ค.สะสม'!C21+'จ่าย ช.สะสม'!C21 -> 0 | D20: =+'จ่าย ป.สะสม'!D21+'จ่าย ค.สะสม'!D21+'จ่าย ช.สะสม'!D21 -> 0 | E20: =+'จ่าย ป.สะสม'!E21+'จ่าย ค.สะสม'!E21+'จ่าย ช.สะสม'!E21 -> 0 | F20: =+'จ่าย ป.สะสม'!F21+'จ่าย ค.สะสม'!F21+'จ่าย ช.สะสม'!F21 -> 0 | G20: =+'จ่าย ป.สะสม'!G21+'จ่าย ค.สะสม'!G21+'จ่าย ช.สะสม'!G21 -> 0 | H20: =+'จ่าย ป.สะสม'!H21+'จ่าย ค.สะสม'!H21+'จ่าย ช.สะสม'!H21 -> 0 | I20: =+'จ่าย ป.สะสม'!I21+'จ่าย ค.สะสม'!I21+'จ่าย ช.สะสม'!I21 -> 0 | J20: =+'จ่าย ป.สะสม'!J21+'จ่าย ค.สะสม'!J21+'จ่าย ช.สะสม'!J21 -> 0 | ... P20: =+'จ่าย ป.สะสม'!P21+'จ่าย ค.สะสม'!P21+'จ่าย ช.สะสม'!P21 -> 0
... B30: งบกลาง ( ก ) | C30: =+'จ่าย ป.สะสม'!C31+'จ่าย ค.สะสม'!C31+'จ่าย ช.สะสม'!C31 -> 0 | D30: =+'จ่าย ป.สะสม'!D31+'จ่าย ค.สะสม'!D31+'จ่าย ช.สะสม'!D31 -> 0 | E30: =+'จ่าย ป.สะสม'!E31+'จ่าย ค.สะสม'!E31+'จ่าย ช.สะสม'!E31 -> 0 | F30: =+'จ่าย ป.สะสม'!F31+'จ่าย ค.สะสม'!F31+'จ่าย ช.สะสม'!F31 -> 0 | G30: =+'จ่าย ป.สะสม'!G31+'จ่าย ค.สะสม'!G31+'จ่าย ช.สะสม'!G31 -> 0 | H30: =+'จ่าย ป.สะสม'!H31+'จ่าย ค.สะสม'!H31+'จ่าย ช.สะสม'!H31 -> 0 | I30: =+'จ่าย ป.สะสม'!I31+'จ่าย ค.สะสม'!I31+'จ่าย ช.สะสม'!I31 -> 0 | J30: =+'จ่าย ป.สะสม'!J31+'จ่าย ค.สะสม'!J31+'จ่าย ช.สะสม'!J31 -> 0 | ... P30: =+'จ่าย ป.สะสม'!P31+'จ่าย ค.สะสม'!P31+'จ่าย ช.สะสม'!P31 -> 0
B31: รวม | C31: =SUM(C9:C30) -> 393100 | D31: =SUM(D9:D30) -> 389900 | E31: =SUM(E9:E30) -> 0 | F31: =SUM(F9:F30) -> 0 | G31: =SUM(G9:G30) -> 0 | H31: =SUM(H9:H30) -> 0 | I31: =SUM(I9:I30) -> 0 | J31: =SUM(J9:J30) -> 389900 | ... P31: =SUM(P9:P30) -> 0
A33: รายรับ
B34: ภาษีอากร | C34: 0 | D34: 0
B35: ค่าธรรมเนียมค่าปรับ และใบอนุญาต | C35: 0 | D35: 0
B36: รายได้จากสาธารณูปโภค | C36: 0 | D36: 0
B37: รายได้จากทรัพย์สิน | C37: 0 | D37: 0
B38: รายได้เบ็ดเตล็ด | C38: 0 | D38: 0
B39: รัฐบาลจัดสรรให้ | C39: 0 | D39: 0
B40: อุดหนุนทั่วไป | C40: 0 | D40: 0
B41: อุดหนุนเฉพาะกิจ | C41: 0 | D41: 0
B42: รวมรายรับ | C42: =SUM(C34:C41) -> 0 | D42: =SUM(D34:D41) -> 0
B43: รายรับสูงกว่าหรือ (ต่ำกว่า)รายจ่าย | D43: =D42-D31 -> -389900

Sheet ทั่วไป
A1: องค์การบริหารส่วนตำบลไชยมนตรี อำเภอเมืองนครศรีธรรมราช จังหวัดนครศรีธรรมราช
A2: รายงานรายจ่ายในการดำเนินงานที่จ่ายจากเงินรายรับตามแผนงาน งานบริหารทั่วไป
A3: ตั้งแต่วันที่ 1 ตุลาคม 2555 ถึงวันที่ 31 มกราคม 2556
E4: งานบริหาร | F4: งานวางแผนสถิติ | G4: งานบริหารงานคลัง
B5: รายการ | C5: ประมาณการ | D5: รวม | E5: ทั่วไป | F5: และวิชาการ
E6: ( 00111 ) | F6: ( 00112 ) | G6: ( 00113 )
A7: รายจ่าย
B8: เงินเดือน ( ฝ่ายการเมือง ) | C8: 1707120 | D8: =SUM(E8:G8) -> 569040 | E8: =426780+142260 -> 569040 | G8: 0
B9: เงินเดือน ( ฝ่ายประจำ ) | C9: 3853560 | D9: =SUM(E9:G9) -> 1248073.9 | E9: =612813.9+211820 -> 824633.9 | G9: =317580+105860 -> 423440
B10: เงินเดือน ( ฝ่ายประจำ ) ( ก ) | C10: 0 | D10: =SUM(E10:G10) -> 0 | E10: 0 | G10: 0
B11: ค่าตอบแทน | C11: 771360 | D11: =E11+F11+G11 -> 79206 | E11: =34616+11000 -> 45616 | G11: =18105+15485 -> 33590
B12: ค่าตอบแทน ( ท ) | C12: 0 | D12: =E12+F12+G12 -> 0 | E12: 0 | G12: =0-[1]ทั่วไป!$G$11 -> 0
B13: ค่าใช้สอย | C13: 770000 | D13: =E13+F13+G13 -> 158019.8 | E13: =133971.8+23348 -> 157319.8 | G13: 700
B14: ค่าใช้สอย ( ท ) | C14: 300000 | D14: =E14+F14+G14 -> 0 | E14: 0 | G14: 0
B15: ค่าใช้สอย ( ก ) | C15: 0 | D15: =SUM(E15:F15) -> 0 | E15: 0 | G15: 0
B16: ค่าวัสดุ | C16: 500000 | D16: =E16+F16+G16 -> 57370 | E16: =21450+13010 -> 34460 | G16: =20370+2540 -> 22910
B17: ค่าวัสดุ ( ท ) | C17: 0 | D17: =E17+F17+G17 -> 0 | E17: 0 | G17: 0
B18: ค่าสาธารณูปโภค | C18: 250000 | D18: =E18+F18+G18 -> 69840.26 | E18: =51974.25+17866.01 -> 69840.26 | G18: 0
B19: ค่าครุภัณฑ์ | C19: 60000 | D19: =E19+F19+G19 -> 21820 | E19: 6820 | G19: 15000
B20: ค่าครุภัณฑ์ ( ท ) | C20: 16800 | D20: =E20+F20+G20 -> 0 | E20: 0 | G20: 0
B21: ค่าที่ดินและสิ่งก่อสร้าง | C21: 0 | D21: =E21+F21+G21 -> 0 | E21: =0-[1]ทั่วไป!$E$20 -> 0 | G21: 0
B22: ค่าที่ดินและสิ่งก่อสร้าง ( ท ) | C22: 0 | D22: =E22+F22+G22 -> 0 | E22: =0-[1]ทั่วไป!$E$21 -> 0 | G22: 0
B23: ค่าที่ดินและสิ่งก่อสร้าง ( ก ) | C23: 0 | D23: =E23+F23+G23 -> 0 | E23: =0-[1]ทั่วไป!$E$22 -> 0 | G23: 0
B24: เงินอุดหนุน | C24: 0 | D24: =E24+F24+G24 -> 0 | E24: 0 | G24: 0
B25: เงินอุดหนุน ( ท ) | C25: 15000 | D25: =E25+F25+G25 -> 0 | E25: 0 | G25: 0
B26: รายจ่ายอื่น | C26: 25000 | D26: =E26+F26+G26 -> 0 | E26: 0 | G26: 0
B27: รายจ่ายอื่น ( ท ) | C27: 0 | D27: =E27+F27+G27 -> 0 | E27: 0 | G27: 0
B28: งบกลาง | C28: 0 | D28: =E28+F28+G28 -> 0 | E28: 0 | G28: 0
B29: งบกลาง ( ท ) | C29: 0 | D29: =E29+F29+G29 -> 0 | E29: 0 | G29: 0
B30: งบกลาง ( ก ) | C30: 0 | D30: =E30+F30+G30 -> 0 | E30: 0 | G30: 0
B31: รวม | C31: =SUM(C8:C30) -> 8268840 | D31: =SUM(D8:D30) -> 2203370 | E31: =SUM(E8:E30) -> 1707730 | G31: =SUM(G8:G30) -> 495640

Sheet สงบ
A1: องค์การบริหารส่วนตำบลไชยมนตรี อำเภอเมืองนครศรีธรรมราช จังหวัดนครศรีธรรมราช
A2: รายงานรายจ่ายในการดำเนินงานที่จ่ายจากเงินรายรับตามแผนงาน การรักษาความสงบภายใน
A3: =ทั่วไป!A3 -> ตั้งแต่วันที่ 1 ตุลาคม 2555 ถึงวันที่ 31 มกราคม 2556
E4: งานบริหารงานทั่วไปเกี่ยวกับ | F4: งานเทศกิจ | G4: งานป้องกันภัยฝ่ายพลเรือน
B5: รายการ | C5: ประมาณการ | D5: รวม | E5: การรักษาความสงบภายใน | G5: และระงับอัคคีภัย
E6: ( 00121 ) | F6: ( 00122 ) | G6: ( 00123 )
A7: รายจ่าย
B8: เงินเดือน ( ฝ่ายการเมือง ) | C8: 0 | D8: =SUM(E8:G8) -> 0
B9: เงินเดือน ( ฝ่ายประจำ ) | C9: 0 | D9: =SUM(E9:G9) -> 0
B10: เงินเดือน ( ฝ่าย)ประจำ ) ( ก ) | C10: 0 | D10: =SUM(E10:G10) -> 0
B11: ค่าตอบแทน | C11: 0 | D11: =SUM(E11:G11) -> 0
B12: ค่าตอบแทน ( ท ) | C12: 0 | D12: =SUM(E12:G12) -> 0
B13: ค่าใช้สอย | C13: 242000 | D13: =SUM(E13:G13) -> 66260 | G13: =30000+36260 -> 66260
B14: ค่าใช้สอย ( ท ) | C14: 0 | D14: =SUM(E14:G14) -> 0 | G14: 0
B15: ค่าใช้สอย ( ก ) | C15: 0 | D15: =SUM(E15:F15) -> 0
B16: ค่าวัสดุ | C16: 0 | D16: =SUM(E16:G16) -> 0
B17: ค่าวัสดุ ( ท ) | C17: 0 | D17: =SUM(E17:G17) -> 0
B18: ค่าสาธารณูปโภค | C18: 0 | D18: =SUM(E18:G18) -> 0
B19: ค่าครุภัณฑ์ | C19: 0 | D19: =SUM(E19:G19) -> 0
B20: ค่าครุภัณฑ์ ( ท ) | C20: 0 | D20: =SUM(E20:G20) -> 0 | G20: 0
B21: ค่าที่ดินและสิ่งก่อสร้าง | C21: 0 | D21: =SUM(E21:G21) -> 0
B22: ค่าที่ดินและสิ่งก่อสร้าง ( ท ) | C22: 0 | D22: =SUM(E22:G22) -> 0
B23: ค่าที่ดินและสิ่งก่อสร้าง ( ก ) | C23: 0 | D23: =SUM(E23:G23) -> 0
B24: เงินอุดหนุน | C24: 0 | D24: =SUM(E24:G24) -> 0
B25: เงินอุดหนุน ( ท ) | C25: 0 | D25: =SUM(E25:G25) -> 0 | G25: 0
B26: รายจ่ายอื่น | C26: 0 | D26: =SUM(E26:G26) -> 0
B27: รายจ่ายอื่น ( ท ) | C27: 0 | D27: =SUM(E27:G27) -> 0
B28: งบกลาง | C28: 0 | D28: =SUM(E28:G28) -> 0
B29: งบกลาง ( ท ) | C29: 0 | D29: =SUM(E29:G29) -> 0
B30: งบกลาง ( ก ) | C30: 0 | D30: =SUM(E30:G30) -> 0
B31: รวม | C31: =SUM(C8:C30) -> 242000 | D31: =SUM(D8:D30) -> 66260 | E31: =SUM(E7:E30) -> 0 | F31: =SUM(F7:F30) -> 0 | G31: =SUM(G7:G30) -> 66260

Sheet ศึกษา
A1: องค์การบริหารส่วนตำบลไชยมนตรี อำเภอเมืองนครศรีธรรมราช จังหวัดนครศรีธรรมราช
A2: รายงานรายจ่ายในการดำเนินงานที่จ่ายจากเงินรายรับตามแผนงาน การศึกษา
A3: =สงบ!A3 -> ตั้งแต่วันที่ 1 ตุลาคม 2555 ถึงวันที่ 31 มกราคม 2556
E4: งานบริหารทั่วไป | F4: งานระดับก่อนวัยเรียน | G4: งานระดับ | H4: งานศึกษา
B5: รายการ | C5: ประมาณการ | D5: รวม | E5: เกี่ยวกับการศึกษา | F5: และประถมศึกษา | G5: มัธยมศึกษา | H5: ไม่กำหนดระดับ
E6: ( 00211 ) | F6: ( 00212 ) | G6: ( 00213 ) | H6: ( 00214 )
A7: รายจ่าย
B8: เงินเดือน ( ฝ่ายการเมือง ) | C8: 0 | D8: =SUM(E8:H8) -> 0 | F8: 0
B9: เงินเดือน ( ฝ่ายประจำ ) | C9: 0 | D9: =SUM(E9:H9) -> 0 | F9: 0
B10: เงินเดือน ( ฝ่ายประจำ ) ( ก ) | C10: 0 | D10: =SUM(E10:H10) -> 0 | F10: 0
B11: ค่าตอบแทน | C11: 0 | D11: =SUM(E11:H11) -> 0 | F11: 0
B12: ค่าตอบแทน ( ท ) | C12: 0 | D12: =SUM(E12:H12) -> 0 | F12: 0
B13: ค่าใช้สอย | C13: 0 | D13: =SUM(E13:H13) -> 0 | F13: 0
B14: ค่าใช้สอย ( ท ) | C14: 145600 | D14: =SUM(E14:H14) -> 145600 | F14: 145600
B15: ค่าใช้สอย ( ก ) | C15: 0 | D15: =SUM(E15:F15) -> 0 | F15: 0
B16: ค่าวัสดุ | C16: 0 | D16: =SUM(E16:H16) -> 0 | F16: 0
B17: ค่าวัสดุ ( ท ) | C17: 824600 | D17: =SUM(E17:H17) -> 0 | F17: 0
B18: ค่าสาธารณูปโภค | C18: 20000 | D18: =SUM(E18:H18) -> 4422.19 | F18: =3793.69+628.5 -> 4422.19
B19: ค่าครุภัณฑ์ | C19: 0 | D19: =SUM(E19:H19) -> 0 | F19: 0
B20: ค่าครุภัณฑ์ ( ท ) | C20: 0 | D20: =SUM(E20:H20) -> 0 | F20: 0
B21: ค่าที่ดินและสิ่งก่อสร้าง | C21: 0 | D21: =SUM(E21:H21) -> 0 | F21: 0
B22: ค่าที่ดินและสิ่งก่อสร้าง ( ท ) | C22: 0 | D22: =SUM(E22:H22) -> 0 | F22: 0
B23: ค่าที่ดินและสิ่งก่อสร้าง ( ก ) | C23: 0 | D23: =SUM(E23:H23) -> 0 | F23: 0
B24: เงินอุดหนุน | C24: 0 | D24: =SUM(E24:H24) -> 0 | F24: 0
B25: เงินอุดหนุน ( ท ) | C25: 1066000 | D25: =SUM(E25:H25) -> 533000 | F25: 533000
B26: รายจ่ายอื่น | C26: 0 | D26: =SUM(E26:H26) -> 0 | F26: 0
B27: รายจ่ายอื่น ( ท ) | C27: 0 | D27: =SUM(E27:H27) -> 0 | F27: 0
B28: งบกลาง | C28: 0 | D28: =SUM(E28:H28) -> 0 | F28: 0
B29: งบกลาง ( ท ) | C29: 0 | D29: =SUM(E29:H29) -> 0 | F29: 0
B30: งบกลาง ( ก ) | C30: 0 | D30: =SUM(E30:H30) -> 0 | F30: 0
B31: รวม | C31: =SUM(C7:C30) -> 2056200 | D31: =SUM(D7:D30) -> 683022.19 | E31: =SUM(E7:E30) -> 0 | F31: =SUM(F7:F30) -> 683022.19 | G31: =SUM(G7:G30) -> 0 | H31: =SUM(H7:H30) -> 0

Sheet สาธารณสุข
A1: องค์การบริหารส่วนตำบลไชยมนตรี อำเภอเมืองนครศรีธรรมราช จังหวัดนครศรีธรรมราช
A2: รายงานรายจ่ายในการดำเนินงานที่จ่ายจากเงินรายรับตามแผนงาน สาธารณสุข
A3: =สงบ!A3 -> ตั้งแต่วันที่ 1 ตุลาคม 2555 ถึงวันที่ 31 มกราคม 2556
E4: งานบริหารทั่วไป | G4: งานบริการสาธารณสุข | H4: งานศูนย์บริการ
B5: รายการ | C5: ประมาณการ | D5: รวม | E5: เกี่ยวกับสาธารณสุข | F5: งานโรงพยาบาล | G5: และงานสาธารณสุขอื่น | H5: สาธารณสุข
E6: ( 00221 ) | F6: ( 00222 ) | G6: ( 00223 ) | H6: ( 00224 )
A7: รายจ่าย
B8: เงินเดือน ( ฝ่ายการเมือง ) | C8: 0 | D8: =SUM(E8:H8) -> 0 | G8: 0
B9: เงินเดือน ( ฝ่ายประจำ ) | C9: 0 | D9: =SUM(E9:H9) -> 0 | G9: 0
B10: เงินเดือน ( ฝ่ายประจำ ) ( ก ) | C10: 0 | D10: =SUM(E10:H10) -> 0 | G10: 0
B11: ค่าตอบแทน | C11: 0 | D11: =SUM(E11:H11) -> 0 | G11: 0
B12: ค่าตอบแทน ( ท ) | C12: 0 | D12: =SUM(E12:H12) -> 0 | G12: 0
B13: ค่าใช้สอย | C13: 40000 | D13: =SUM(E13:H13) -> 17500 | G13: 17500
B14: ค่าใช้สอย ( ท ) | C14: 0 | D14: =SUM(E14:H14) -> 0 | G14: 0
B15: ค่าใช้สอย ( ก ) | C15: 0 | D15: =SUM(E15:F15) -> 0 | G15: 0
B16: ค่าวัสดุ | C16: 50000 | D16: =SUM(E16:H16) -> 0 | G16: 0
B17: ค่าวัสดุ ( ท ) | C17: 0 | D17: =SUM(E17:H17) -> 0 | G17: 0
B18: ค่าสาธารณูปโภค | C18: 0 | D18: =SUM(E18:H18) -> 0 | G18: 0
B19: ค่าครุภัณฑ์ | C19: 0 | D19: =SUM(E19:H19) -> 0 | G19: 0
B20: ค่าครุภัณฑ์ ( ท ) | C20: 0 | D20: =SUM(E20:H20) -> 0 | G20: 0
B21: ค่าที่ดินและสิ่งก่อสร้าง | C21: 0 | D21: =SUM(E21:H21) -> 0 | G21: 0
B22: ค่าที่ดินและสิ่งก่อสร้าง ( ท ) | C22: 0 | D22: =SUM(E22:H22) -> 0 | G22: 0
B23: ค่าที่ดินและสิ่งก่อสร้าง ( ก ) | C23: 0 | D23: =SUM(E23:H23) -> 0 | G23: 0
B24: เงินอุดหนุน | C24: 0 | D24: =SUM(E24:H24) -> 0 | G24: 0
B25: เงินอุดหนุน ( ท ) | C25: 0 | D25: =SUM(E25:H25) -> 0 | G25: 0
B26: รายจ่ายอื่น | C26: 0 | D26: =SUM(E26:H26) -> 0 | G26: 0
B27: รายจ่ายอื่น ( ท ) | C27: 0 | D27: =SUM(E27:H27) -> 0 | G27: 0
... B30: งบกลาง ( ก ) | C30: 0 | D30: =SUM(E30:H30) -> 0 | G30: 0
B31: รวม | C31: =SUM(C8:C30) -> 90000 | D31: =SUM(D7:D30) -> 17500 | E31: =SUM(E7:E30) -> 0 | F31: =SUM(F7:F30) -> 0 | G31: =SUM(G7:G30) -> 17500 | H31: =SUM(H7:H30) -> 0

Sheet สังคม
A1: องค์การบริหารส่วนตำบลไชยมนตรี อำเภอเมืองนครศรีธรรมราช จังหวัดนครศรีธรรมราช
A2: รายงานรายจ่ายในการดำเนินงานที่จ่ายจากเงินรายรับตามแผนงาน สังคมสงเคราะห์
A3: =เคหะชุมชน!B3 -> ตั้งแต่วันที่ 1 ตุลาคม 2555 ถึงวันที่ 31 มกราคม 2556
E4: งานบริหารทั่วไปเกี่ยวกับ | F4: งานสวัสดิการสังคมและ
B5: รายการ | C5: ประมาณการ | D5: รวม | E5: สังคมสงเคราะห์ | F5: สังคมสงเคราะห์
E6: ( 00231 ) | F6: ( 00232 )
A7: รายจ่าย
B8: เงินเดือน ( ฝ่ายการเมือง ) | C8: 0 | D8: =SUM(E8:F8) -> 0
B9: เงินเดือน ( ฝ่ายประจำ ) | C9: 0 | D9: =SUM(E9:F9) -> 0
B10: เงินเดือน ( ฝ่ายประจำ ) ( ก ) | C10: 0 | D10: =SUM(E10:F10) -> 0
B11: ค่าตอบแทน | C11: 0 | D11: =SUM(E11:F11) -> 0
B12: ค่าตอบแทน ( ท ) | C12: 0 | D12: =SUM(E12:F12) -> 0
B13: ค่าใช้สอย | C13: 0 | D13: =SUM(E13:F13) -> 0 | F13: 0
B14: ค่าใช้สอย ( ท ) | C14: 0 | D14: =SUM(E14:F14) -> 0 | F14: 0
B15: ค่าใช้สอย ( ก ) | C15: 0 | D15: =SUM(E15:F15) -> 0 | E15: 0 | F15: 0
B16: ค่าวัสดุ | C16: 0 | D16: =SUM(E16:F16) -> 0
B17: ค่าวัสดุ ( ท ) | C17: 0 | D17: =SUM(E17:F17) -> 0
B18: ค่าสาธารณูปโภค | C18: 0 | D18: =SUM(E18:F18) -> 0
B19: ค่าครุภัณฑ์ | C19: 0 | D19: =SUM(E19:F19) -> 0
B20: ค่าครุภัณฑ์ ( ท ) | C20: 0 | D20: =SUM(E20:F20) -> 0
B21: ค่าที่ดินและสิ่งก่อสร้าง | C21: 0 | D21: =SUM(E21:F21) -> 0
B22: ค่าที่ดินและสิ่งก่อสร้าง ( ท ) | C22: 0 | D22: =SUM(E22:F22) -> 0
B23: ค่าที่ดินและสิ่งก่อสร้าง ( ก ) | C23: 0 | D23: =SUM(E23:F23) -> 0
B24: เงินอุดหนุน | C24: 0 | D24: =SUM(E24:F24) -> 0
B25: เงินอุดหนุน ( ท ) | C25: 0 | D25: =SUM(E25:F25) -> 0 | F25: 0
B26: รายจ่ายอื่น | C26: 0 | D26: =SUM(E26:F26) -> 0
B27: รายจ่ายอื่น ( ท ) | C27: 0 | D27: =SUM(E27:F27) -> 0
B28: งบกลาง | C28: 0 | D28: =SUM(E28:F28) -> 0
B29: งบกลาง ( ท ) | C29: 0 | D29: =SUM(E29:F29) -> 0
B30: งบกลาง ( ก ) | C30: 0 | D30: =SUM(E30:F30) -> 0
B31: รวม | C31: =SUM(C8:C30) -> 0 | D31: =SUM(D8:D30) -> 0 | E31: =SUM(E8:E30) -> 0 | F31: =SUM(F8:F30) -> 0

Sheet เคหะชุมชน
B1: องค์การบริหารส่วนตำบลไชยมนตรี อำเภอเมืองนครศรีธรรมราช จังหวัดนครศรีธรรมราช
B2: รายงานรายจ่ายในการดำเนินงานที่จ่ายจากเงินรายรับตามแผนงาน เคหะและชุมชน
B3: =ศึกษา!A3 -> ตั้งแต่วันที่ 1 ตุลาคม 2555 ถึงวันที่ 31 มกราคม 2556
E4: งานบริหารทั่วไป | F4: งานไฟฟ้าถนน | G4: งานสวนสาธารณะ | H4: งานกำจัดขยะ | I4: งานบำบัด
B5: รายการ | C5: ประมาณการ | D5: รวม | E5: เกี่ยวกับเคหะและชุมชน | H5: มูลฝอยและสิ่งปฏิกูล | I5: น้ำเสีย
E6: ( 00241 ) | F6: ( 00242 ) | G6: ( 00243 ) | H6: ( 00244 ) | I6: ( 00245 )
A7: รายจ่าย
B8: เงินเดือน ( ฝ่ายการเมือง ) | C8: 0 | D8: =SUM(E8:I8) -> 0 | E8: 0 | F8: 0 | H8: 0
B9: เงินเดือน ( ฝ่ายประจำ ) | C9: 873780 | D9: =SUM(E9:I9) -> 257420 | E9: =193065+64355 -> 257420 | F9: 0 | H9: 0
B10: เงินเดือน ( ฝ่ายประจำ ) ( ก ) | C10: 0 | D10: =SUM(E10:I10) -> 0 | E10: 0 | F10: 0 | H10: 0
B11: ค่าตอบแทน | C11: 360800 | D11: =SUM(E11:I11) -> 18400 | E11: =13800+4600 -> 18400 | F11: 0 | H11: 0
B12: ค่าตอบแทน ( ท ) | C12: 0 | D12: =SUM(E12:I12) -> 0 | E12: 0 | F12: 0 | H12: 0
B13: ค่าใช้สอย | C13: =160000+120000 -> 280000 | D13: =SUM(E13:I13) -> 4500 | E13: 4500 | F13: 0 | H13: 0
B14: ค่าใช้สอย ( ท ) | C14: 0 | D14: =SUM(E14:I14) -> 0 | E14: 0 | F14: 0 | H14: 0
B15: ค่าใช้สอย ( ก ) | C15: 0 | D15: =SUM(E15:F15) -> 0 | E15: 0 | F15: 0 | H15: 0
B16: ค่าวัสดุ | C16: 495000 | D16: =SUM(E16:I16) -> 0 | E16: 0 | F16: 0 | H16: 0
B17: ค่าวัสดุ ( ท ) | C17: 0 | D17: =SUM(E17:I17) -> 0 | E17: 0 | F17: 0 | H17: 0
B18: ค่าสาธารณูปโภค | C18: 0 | D18: =SUM(E18:I18) -> 0 | E18: 0 | F18: 0 | H18: 0
B19: ค่าครุภัณฑ์ | C19: 20000 | D19: =SUM(E19:I19) -> 0 | E19: 0 | F19: 0 | H19: 0
B20: ค่าครุภัณฑ์ ( ท ) | C20: 24000 | D20: =SUM(E20:I20) -> 0 | E20: 0 | F20: 0 | H20: 0
B21: ค่าที่ดินและสิ่งก่อสร้าง | C21: 500000 | D21: =SUM(E21:I21) -> 477200 | E21: 0 | F21: =155500+321700 -> 477200 | H21: 0
B22: ค่าที่ดินและสิ่งก่อสร้าง ( ท ) | C22: =99500+1356500 -> 1456000 | D22: =SUM(E22:I22) -> 0 | E22: 0 | F22: 0 | H22: 0
B23: ค่าที่ดินและสิ่งก่อสร้าง ( ก ) | C23: 0 | D23: =SUM(E23:I23) -> 0 | E23: 0 | F23: 0 | H23: 0
B24: เงินอุดหนุน | C24: 0 | D24: =SUM(E24:I24) -> 0 | E24: 0 | F24: 0 | H24: 0
B25: เงินอุดหนุน ( ท ) | C25: 0 | D25: =SUM(E25:I25) -> 0 | E25: 0 | F25: 0 | H25: 0
B26: รายจ่ายอื่น | C26: 0 | D26: =SUM(E26:I26) -> 0 | E26: 0 | F26: 0 | H26: 0
B27: รายจ่ายอื่น ( ท ) | C27: 0 | D27: =SUM(E27:I27) -> 0 | E27: 0 | F27: 0 | H27: 0
B28: งบกลาง | C28: 0 | D28: =SUM(E28:I28) -> 0 | E28: 0 | F28: 0 | H28: 0
B29: งบกลาง ( ท ) | C29: 0 | D29: =SUM(E29:I29) -> 0 | E29: 0 | F29: 0 | H29: 0
B30: งบกลาง ( ก ) | C30: 0 | D30: =SUM(E30:I30) -> 0 | E30: 0 | F30: 0 | H30: 0
B31: รวม | C31: =SUM(C8:C30) -> 4009580 | D31: =SUM(D7:D30) -> 757520 | E31: =SUM(E8:E30) -> 280320 | F31: =SUM(F8:F30) -> 477200 | H31: =SUM(H8:H30) -> 0

Sheet เข้มแข็ง
A1: องค์การบริหารส่วนตำบลไชยมนตรี อำเภอเมืองนครศรีธรรมราช จังหวัดนครศรีธรรมราช
A2: รายงานรายจ่ายในการดำเนินงานที่จ่ายจากเงินรายรับตามแผนงาน สร้างความเข้มแข็งของชุมชน
A3: =เคหะชุมชน!B3 -> ตั้งแต่วันที่ 1 ตุลาคม 2555 ถึงวันที่ 31 มกราคม 2556
E4: งานบริหารทั่วไป | F4: งานส่งเสริมและสนับสนุน
B5: รายการ | C5: ประมาณการ | D5: รวม | F5: ความเข้มแข็งชุมชน
E6: ( 00251 ) | F6: ( 00252 )
A7: รายจ่าย
B8: เงินเดือน ( ฝ่ายการเมือง ) | C8: 0 | D8: =SUM(E8:F8) -> 0 | F8: 0
B9: เงินเดือน ( ฝ่ายประจำ ) | C9: 0 | D9: =SUM(E9:F9) -> 0 | F9: 0
B10: เงินเดือน ( ฝ่ายประจำ ) ( ก ) | C10: 0 | D10: =SUM(E10:F10) -> 0 | F10: 0
B11: ค่าตอบแทน | C11: 0 | D11: =SUM(E11:F11) -> 0 | F11: 0
B12: ค่าตอบแทน ( ท ) | C12: 0 | D12: =SUM(E12:F12) -> 0 | F12: 0
B13: ค่าใช้สอย | C13: 90000 | D13: =SUM(E13:F13) -> 0 | F13: 0
B14: ค่าใช้สอย ( ท ) | C14: 0 | D14: =SUM(E14:F14) -> 0 | F14: 0
B15: ค่าใช้สอย ( ก ) | C15: 0 | D15: =SUM(E15:F15) -> 0 | F15: 0
B16: ค่าวัสดุ | C16: 0 | D16: =SUM(E16:F16) -> 0 | F16: 0
B17: ค่าวัสดุ ( ท ) | C17: 0 | D17: =SUM(E17:F17) -> 0 | F17: 0
B18: ค่าสาธารณูปโภค | C18: 0 | D18: =SUM(E18:F18) -> 0 | F18: 0
B19: ค่าครุภัณฑ์ | C19: 0 | D19: =SUM(E19:F19) -> 0 | F19: 0
... B30: งบกลาง ( ก ) | C30: 0 | D30: =SUM(E30:F30) -> 0 | F30: 0
B31: รวม | C31: =SUM(C8:C30) -> 110000 | D31: =SUM(D8:D30) -> 0 | E31: =SUM(E8:E30) -> 0 | F31: =SUM(F8:F30) -> 0

Sheet นันทนาการ
A1: องค์การบริหารส่วนตำบลไชยมนตรี อำเภอเมืองนครศรีธรรมราช จังหวัดนครศรีธรรมราช
A2: รายงานรายจ่ายในการดำเนินงานที่จ่ายจากเงินรายรับตามแผนงาน การศาสนาวัฒนธรรมและนันทนาการ
A3: =เคหะชุมชน!B3 -> ตั้งแต่วันที่ 1 ตุลาคม 2555 ถึงวันที่ 31 มกราคม 2556
E4: งานบริหารทั่วไปเกี่ยวกับ | F4: งานกีฬาและ | G4: งานศาสนา | H4: งานวิชาการวางแผน
B5: รายการ | C5: ประมาณการ | D5: รวม | E5: ศาสนาวัฒนธรรมและ | F5: นันทนาการ | G5: วัฒนธรรมท้องถิ่น | H5: และส่งเสริมการท่อง
E6: นันทนาการ ( 00261 ) | F6: ( 00262 ) | G6: ( 00263 ) | H6: เที่ยว ( 00264 )
A7: รายจ่าย
B8: เงินเดือน ( ฝ่ายการเมือง ) | C8: 0 | D8: =SUM(E8:H8) -> 0 | F8: 0 | G8: 0
B9: เงินเดือน ( ฝ่ายประจำ ) | C9: 0 | D9: =SUM(E9:H9) -> 0 | F9: 0 | G9: 0
B10: เงินเดือน ( ฝ่ายประจำ ) ( ก ) | C10: 0 | D10: =SUM(E10:H10) -> 0 | F10: 0 | G10: 0
B11: ค่าตอบแทน | C11: 0 | D11: =SUM(E11:H11) -> 0 | F11: 0 | G11: 0
B12: ค่าตอบแทน ( ท ) | C12: 0 | D12: =SUM(E12:H12) -> 0 | F12: 0 | G12: 0
B13: ค่าใช้สอย | C13: 330000 | D13: =SUM(E13:H13) -> 229377 | F13: 0 | G13: =79377+150000 -> 229377
B14: ค่าใช้สอย ( ท ) | C14: 350000 | D14: =SUM(E14:H14) -> 0 | F14: 0 | G14: 0
B15: ค่าใช้สอย ( ก ) | C15: 0 | D15: =SUM(E15:F15) -> 0 | F15: 0 | G15: 0
B16: ค่าวัสดุ | C16: 20000 | D16: =SUM(E16:H16) -> 0 | F16: 0 | G16: 0
B17: ค่าวัสดุ ( ท ) | C17: 0 | D17: =SUM(E17:H17) -> 0 | F17: 0 | G17: 0
B18: ค่าสาธารณูปโภค | C18: 0 | D18: =SUM(E18:H18) -> 0 | F18: 0 | G18: 0
B19: ค่าครุภัณฑ์ | C19: 0 | D19: =SUM(E19:H19) -> 0 | F19: 0 | G19: 0
B20: ค่าครุภัณฑ์ ( ท ) | C20: 0 | D20: =SUM(E20:H20) -> 0 | F20: 0 | G20: 0
B21: ค่าที่ดินและสิ่งก่อสร้าง | C21: 0 | D21: =SUM(E21:H21) -> 0 | F21: 0 | G21: 0
B22: ค่าที่ดินและสิ่งก่อสร้าง ( ท ) | C22: 0 | D22: =SUM(E22:H22) -> 0 | F22: 0 | G22: 0
B23: ค่าที่ดินและสิ่งก่อสร้าง ( ก ) | C23: 0 | D23: =SUM(E23:H23) -> 0 | F23: 0 | G23: 0
B24: เงินอุดหนุน | C24: 0 | D24: =SUM(E24:H24) -> 0 | F24: 0 | G24: 0
B25: เงินอุดหนุน ( ท ) | C25: 18000 | D25: =SUM(E25:H25) -> 0 | F25: 0 | G25: 0
B26: รายจ่ายอื่น | C26: 0 | D26: =SUM(E26:H26) -> 0 | F26: 0 | G26: 0
B27: รายจ่ายอื่น ( ท ) | C27: 0 | D27: =SUM(E27:H27) -> 0 | F27: 0 | G27: 0
... B30: งบกลาง ( ก ) | C30: 0 | D30: =SUM(E30:H30) -> 0 | F30: 0 | G30: 0
B31: รวม | C31: =SUM(C8:C30) -> 718000 | D31: =SUM(D7:D30) -> 229377 | E31: =SUM(E7:E30) -> 0 | F31: =SUM(F7:F30) -> 0 | G31: =SUM(G7:G30) -> 229377 | H31: =SUM(H7:H30) -> 0

Sheet เกษตร
A1: องค์การบริหารส่วนตำบลไชยมนตรี อำเภอเมืองนครศรีธรรมราช จังหวัดนครศรีธรรมราช
A2: รายงานรายจ่ายในการดำเนินงานที่จ่ายจากเงินรายรับตามแผนงาน การเกษตร
A3: =เคหะชุมชน!B3 -> ตั้งแต่วันที่ 1 ตุลาคม 2555 ถึงวันที่ 31 มกราคม 2556
E4: งานส่งเสริมการเกษตร | F4: งานอนุรักษ์แหล่งน้ำ
B5: รายการ | C5: ประมาณการ | D5: รวม | F5: และป่าไม้
E6: ( 00321 ) | F6: ( 00322 )
A7: รายจ่าย
B8: เงินเดือน ( ฝ่ายการเมือง ) | C8: 0 | D8: =SUM(E8:F8) -> 0
B9: เงินเดือน ( ฝ่ายประจำ ) | C9: 0 | D9: =SUM(E9:F9) -> 0
B10: เงินเดือน ( ฝ่ายประจำ ) ( ก ) | C10: 0 | D10: =SUM(E10:F10) -> 0
B11: ค่าตอบแทน | C11: 0 | D11: =SUM(E11:F11) -> 0
B12: ค่าตอบแทน ( ท ) | C12: 0 | D12: =SUM(E12:F12) -> 0
B13: ค่าใช้สอย | C13: 0 | D13: =SUM(E13:F13) -> 0
B14: ค่าใช้สอย ( ท ) | C14: 0 | D14: =SUM(E14:F14) -> 0
B15: ค่าใช้สอย ( ก ) | C15: 0 | D15: =SUM(E15:F15) -> 0
B16: ค่าวัสดุ | C16: 0 | D16: =SUM(E16:F16) -> 0
B17: ค่าวัสดุ ( ท ) | C17: 0 | D17: =SUM(E17:F17) -> 0
B18: ค่าสาธารณูปโภค | C18: 0 | D18: =SUM(E18:F18) -> 0
B19: ค่าครุภัณฑ์ | C19: 0 | D19: =SUM(E19:F19) -> 0
... B30: งบกลาง ( ก ) | C30: 0 | D30: =SUM(E30:F30) -> 0
B31: รวม | C31: =SUM(C8:C30) -> 0 | D31: =SUM(D8:D30) -> 0

Sheet พาณิชย์
A1: องค์การบริหารส่วนตำบลไชยมนตรี อำเภอเมืองนครศรีธรรมราช จังหวัดนครศรีธรรมราช
A2: รายงานรายจ่ายในการดำเนินงานที่จ่ายจากเงินรายรับตามแผนงาน การพาณิชย์
A3: =เคหะชุมชน!B3 -> ตั้งแต่วันที่ 1 ตุลาคม 2555 ถึงวันที่ 31 มกราคม 2556
E4: งานกิจการประปา
B5: รายการ | C5: ประมาณการ | D5: รวม
E6: ( 00332 )
A7: รายจ่าย
B8: เงินเดือน ( ฝ่ายการเมือง ) | C8: 0 | D8: =+E8 -> 0 | E8: 0
B9: เงินเดือน ( ฝ่ายประจำ ) | C9: 0 | D9: =+E9 -> 0 | E9: 0
B10: เงินเดือน ( ฝ่ายประจำ ) ( ก ) | C10: 0 | D10: =+E10 -> 0 | E10: 0
B11: ค่าตอบแทน | C11: 0 | D11: =+E11 -> 0 | E11: 0
B12: ค่าตอบแทน ( ท ) | C12: 0 | D12: =+E12 -> 0 | E12: 0
B13: ค่าใช้สอย | C13: 30000 | D13: =+E13 -> 0 | E13: 0
B14: ค่าใช้สอย ( ท ) | C14: 0 | D14: =+E14 -> 0 | E14: 0
B15: ค่าใช้สอย ( ก ) | C15: 0 | D15: =+E15 -> 0 | E15: 0
B16: ค่าวัสดุ | C16: 300000 | D16: =+E16 -> 0 | E16: 0
B17: ค่าวัสดุ ( ท ) | C17: 0 | D17: =+E17 -> 0 | E17: 0
B18: ค่าสาธารณูปโภค | C18: 700000 | D18: =+E18 -> 361257.24 | E18: =169808.58+191448.66 -> 361257.24
B19: ค่าครุภัณฑ์ | C19: 80000 | D19: =+E19 -> 0 | E19: 0
B20: ค่าครุภัณฑ์ ( ท ) | C20: 0 | D20: =+E20 -> 0 | E20: 0
B21: ค่าที่ดินและสิ่งก่อสร้าง | C21: 0 | D21: =+E21 -> 0 | E21: 0
B22: ค่าที่ดินและสิ่งก่อสร้าง ( ท ) | C22: 248500 | D22: =+E22 -> 0 | E22: 0
B23: ค่าที่ดินและสิ่งก่อสร้าง ( ก ) | C23: 0 | D23: =+E23 -> 0 | E23: 0
B24: เงินอุดหนุน | C24: 0 | D24: =+E24 -> 0 | E24: 0
B25: เงินอุดหนุน ( ท ) | C25: 0 | D25: =+E25 -> 0 | E25: 0
B26: รายจ่ายอื่น | C26: 0 | D26: =+E26 -> 0 | E26: 0
B27: รายจ่ายอื่น ( ท ) | C27: 0 | D27: =+E27 -> 0 | E27: 0
B28: งบกลาง | C28: 0 | D28: =+E28 -> 0 | E28: 0
B29: งบกลาง ( ท ) | C29: 0 | D29: =+E29 -> 0 | E29: 0
B30: งบกลาง ( ก ) | C30: 0 | D30: =+E30 -> 0 | E30: 0
B31: รวม | C31: =SUM(C8:C30) -> 1358500 | D31: =SUM(D18:D30) -> 361257.24 | E31: =SUM(E16:E30) -> 361257.24

Sheet งบกลาง
A1: องค์การบริหารส่วนตำบลไชยมนตรี อำเภอเมืองนครศรีธรรมราช จังหวัดนครศรีธรรมราช
A2: รายงานรายจ่ายในการดำเนินงานที่จ่ายจากเงินรายรับตามแผนงาน งบกลาง
A3: =เคหะชุมชน!B3 -> ตั้งแต่วันที่ 1 ตุลาคม 2555 ถึงวันที่ 31 มกราคม 2556
E4: งบกลาง
B5: รายการ | C5: ประมาณการ | D5: รวม
E6: ( 00411 )
A7: รายจ่าย
B8: เงินเดือน ( ฝ่ายการเมือง ) | C8: 0
B9: เงินเดือน ( ฝ่ายประจำ ) | C9: 0
B10: เงินเดือน ( ฝ่ายประจำ ) ( ก ) | C10: 0
B11: ค่าตอบแทน | C11: 0
B12: ค่าตอบแทน ( ท ) | C12: 0
B13: ค่าใช้สอย | C13: 0
B14: ค่าใช้สอย ( ท ) | C14: 0
B15: ค่าใช้สอย ( ก ) | C15: 0
B16: ค่าวัสดุ | C16: 0
B17: ค่าวัสดุ ( ท ) | C17: 0
B18: ค่าสาธารณูปโภค | C18: 0
B19: ค่าครุภัณฑ์ | C19: 0
... B22: ค่าที่ดินและสิ่งก่อสร้าง ( ท ) | C22: 0
B23: ค่าที่ดินและสิ่งก่อสร้าง ( ก ) | C23: 0 | D23: =+E23 -> 0 | E23: 0
B24: เงินอุดหนุน | C24: 0
B25: เงินอุดหนุน ( ท ) | C25: 0
B26: รายจ่ายอื่น | C26: 0
B27: รายจ่ายอื่น ( ท ) | C27: 0
B28: งบกลาง | C28: 0 | D28: =+E28 -> 0 | E28: 0
B29: งบกลาง ( ท ) | C29: 2454880 | D29: =+E29 -> 225548 | E29: =210788+14760 -> 225548
B30: งบกลาง (ก) เบี้ยยังชีพผู้สูงอายุ+คนพิการ+ประกันสังคมครู | C30: 0 | D30: 0 | E30: 0
B31: รวม | C31: =SUM(C8:C30) -> 2454880 | D31: =SUM(D18:D30) -> 225548 | E31: =SUM(E16:E30) -> 225548

Sheet บริหารสะสม
B1: องค์การบริหารส่วนตำบลไชยมนตรี อำเภอเมืองนครศรีธรรมราช จังหวัดนครศรีธรรมราช
B2: รายงานรายจ่ายในการดำเนินงานที่จ่ายจาก เงินสะสม ตามแผนงาน งานบริหารทั่วไป
C3: =+งบกลาง!A3 -> ตั้งแต่วันที่ 1 ตุลาคม 2555 ถึงวันที่ 31 มกราคม 2556
E4: งานบริหาร | F4: งานวางแผนสถิติ | G4: งานบริหารงานคลัง
B5: รายการ | C5: งบประมาณ | D5: รวม | E5: ทั่วไป | F5: และวิชาการ
C6: อนุมัติ | E6: ( 00111 ) | F6: ( 00112 ) | G6: ( 00113 )
A7: รายจ่าย
B8: เงินเดือน ( ฝ่ายการเมือง ) | C8: 0 | D8: =SUM(E8:G8) -> 0 | E8: 0
B9: เงินเดือน ( ฝ่ายประจำ ) | C9: 0 | D9: =SUM(E9:G9) -> 0 | E9: 0
B10: ค่าตอบแทน | C10: 0 | D10: =SUM(E10:G10) -> 0 | E10: 0
B11: ค่าตอบแทน ( ท ) | C11: 0 | D11: =SUM(E11:G11) -> 0 | E11: 0
B12: ค่าใช้สอย | C12: 0 | D12: =SUM(E12:G12) -> 0 | E12: 0
B13: ค่าใช้สอย ( ท ) | C13: 0 | D13: =SUM(E13:G13) -> 0 | E13: 0
B14: ค่าใช้สอย ( ก ) | C14: 0 | D14: =SUM(E14:F14) -> 0 | E14: 0
B15: ค่าวัสดุ | C15: 0 | D15: =SUM(E15:G15) -> 0 | E15: 0
B16: ค่าวัสดุ ( ท ) | C16: 0 | D16: =SUM(E16:G16) -> 0 | E16: 0
B17: ค่าสาธารณูปโภค | C17: 0 | D17: =SUM(E17:G17) -> 0 | E17: 0
B18: ค่าครุภัณฑ์ | C18: 0 | D18: =SUM(E18:G18) -> 0 | E18: 0
B19: ค่าครุภัณฑ์ ( ท ) | C19: 0 | D19: =SUM(E19:G19) -> 0 | E19: 0
B20: ค่าที่ดินและสิ่งก่อสร้าง | C20: 0 | D20: =SUM(E20:G20) -> 0 | E20: 0
B21: ค่าที่ดินและสิ่งก่อสร้าง ( ท ) | C21: 0 | D21: =SUM(E21:G21) -> 0 | E21: 0
B22: ค่าที่ดินและสิ่งก่อสร้าง ( ก ) | C22: 0 | D22: =SUM(E22:G22) -> 0 | E22: 0
B23: เงินอุดหนุน | C23: 0 | D23: =SUM(E23:G23) -> 0 | E23: 0
B24: เงินอุดหนุน ( ท ) | C24: 0 | D24: =SUM(E24:G24) -> 0 | E24: 0
B25: รายจ่ายอื่น | C25: 0 | D25: =SUM(E25:G25) -> 0 | E25: 0
B26: รายจ่ายอื่น ( ท ) | C26: 0 | D26: =SUM(E26:G26) -> 0 | E26: 0
B27: งบกลาง | C27: 0 | D27: =SUM(E27:G27) -> 0 | E27: 0
B28: งบกลาง ( ท ) | C28: 0 | D28: =E28+F28+G28 -> 0 | E28: 0
B29: งบกลาง ( ก ) | C29: 0 | D29: =E29+F29+G29 -> 0 | E29: 0
B30: รวม | C30: =SUM(C8:C29) -> 0 | D30: =SUM(D8:D29) -> 0 | E30: =SUM(E8:E29) -> 0 | G30: =SUM(G8:G29) -> 0

Sheet เคหะสะสม
B1: องค์การบริหารส่วนตำบลไชยมนตรี อำเภอเมืองนครศรีธรรมราช จังหวัดนครศรีธรรมราช
B2: รายงานรายจ่ายในการดำเนินงานที่จ่ายจาก เงินสะสม ตามแผนงาน เคหะและชุมชน
C3: =ศึกษา!A3 -> ตั้งแต่วันที่ 1 ตุลาคม 2555 ถึงวันที่ 31 มกราคม 2556
E4: งานบริหารทั่วไป | F4: งานไฟฟ้าถนน | G4: งานสวนสาธารณะ | H4: งานกำจัดขยะ | I4: งานบำบัด
B5: รายการ | C5: งบประมาณ | D5: รวม | E5: เกี่ยวกับเคหะและชุมชน | H5: มูลฝอยและสิ่งปฏิกูล | I5: น้ำเสีย
C6: อนุมัติ | E6: ( 00241 ) | F6: ( 00242 ) | G6: ( 00243 ) | H6: ( 00244 ) | I6: ( 00245 )
A7: รายจ่าย
B8: เงินเดือน ( ฝ่ายการเมือง ) | C8: 0 | D8: =SUM(E8:I8) -> 0
B9: เงินเดือน ( ฝ่ายประจำ ) | C9: 0 | D9: =SUM(E9:I9) -> 0
B10: ค่าตอบแทน | C10: 0 | D10: =SUM(E10:I10) -> 0
B11: ค่าตอบแทน ( ท ) | C11: 0 | D11: =SUM(E11:I11) -> 0
B12: ค่าใช้สอย | C12: 0 | D12: =SUM(E12:I12) -> 0
B13: ค่าใช้สอย ( ท ) | C13: 0 | D13: =SUM(E13:I13) -> 0
B14: ค่าใช้สอย ( ก ) | C14: 0 | D14: =SUM(E14:F14) -> 0
B15: ค่าวัสดุ | C15: 0 | D15: =SUM(E15:I15) -> 0
B16: ค่าวัสดุ ( ท ) | C16: 0 | D16: =SUM(E16:I16) -> 0
B17: ค่าสาธารณูปโภค | C17: 0 | D17: =SUM(E17:I17) -> 0
B18: ค่าครุภัณฑ์ | C18: 0 | D18: =SUM(E18:I18) -> 0
B19: ค่าครุภัณฑ์ ( ท ) | C19: 0 | D19: =SUM(E19:I19) -> 0
B20: ค่าที่ดินและสิ่งก่อสร้าง | C20: 393100 | D20: =SUM(E20:I20) -> 389900 | F20: 389900
B21: ค่าที่ดินและสิ่งก่อสร้าง ( ท ) | C21: 0 | D21: =SUM(E21:I21) -> 0
B22: ค่าที่ดินและสิ่งก่อสร้าง ( ก ) | C22: 0 | D22: =SUM(E22:I22) -> 0
B23: เงินอุดหนุน | C23: 0 | D23: =SUM(E23:I23) -> 0
B24: เงินอุดหนุน ( ท ) | C24: 0 | D24: =SUM(E24:I24) -> 0
B25: รายจ่ายอื่น | C25: 0 | D25: =SUM(E25:I25) -> 0
B26: รายจ่ายอื่น ( ท ) | C26: 0 | D26: =SUM(E26:I26) -> 0
B27: งบกลาง | C27: 0 | D27: =SUM(E27:I27) -> 0
B28: งบกลาง ( ท ) | C28: 0 | D28: =SUM(E28:I28) -> 0
B29: งบกลาง ( ก ) | C29: 0 | D29: =SUM(E29:I29) -> 0
B30: รวม | C30: =SUM(C8:C29) -> 393100 | D30: =SUM(D7:D29) -> 389900 | E30: =SUM(E8:E29) -> 0 | F30: =SUM(F8:F29) -> 389900

Sheet งบกลางสะสม
A1: องค์การบริหารส่วนตำบลไชยมนตรี อำเภอเมืองนครศรีธรรมราช จังหวัดนครศรีธรรมราช
A2: รายงานรายจ่ายในการดำเนินงานที่จ่ายจาก เงินสะสม ตามแผนงาน งบกลาง
A3: =เคหะชุมชน!B3 -> ตั้งแต่วันที่ 1 ตุลาคม 2555 ถึงวันที่ 31 มกราคม 2556
E4: งบกลาง
B5: รายการ | C5: ประมาณการ | D5: รวม
E6: ( 00411 )
A7: รายจ่าย
B8: เงินเดือน ( ฝ่ายการเมือง ) | C8: 0
B9: เงินเดือน ( ฝ่ายประจำ ) | C9: 0
B10: ค่าตอบแทน | C10: 0
B11: ค่าตอบแทน ( ท ) | C11: 0
B12: ค่าใช้สอย | C12: 0
B13: ค่าใช้สอย ( ท ) | C13: 0
B14: ค่าใช้สอย ( ก ) | C14: 0
B15: ค่าวัสดุ | C15: 0
B16: ค่าวัสดุ ( ท ) | C16: 0
B17: ค่าสาธารณูปโภค | C17: 0
B18: ค่าครุภัณฑ์ | C18: 0
B19: ค่าครุภัณฑ์ ( ท ) | C19: 0
... B26: รายจ่ายอื่น ( ท ) | C26: 0
B27: งบกลาง | C27: 0 | D27: =+E27 -> 0
B28: งบกลาง ( ท ) | C28: 0
B29: งบกลาง (ก) | C29: 0
B30: รวม | C30: =SUM(C8:C29) -> 0 | D30: =SUM(D17:D29) -> 0 | E30: =SUM(E15:E29) -> 0

Sheet สาธารณสุขเฉพาะกิจ
A1: องค์การบริหารส่วนตำบลไชยมนตรี อำเภอเมืองนครศรีธรรมราช จังหวัดนครศรีธรรมราช
A2: รายงานรายจ่ายในการดำเนินงานที่จ่ายจาก เงินอุดหนุนโครงการป้องกันและแก้ไขปัญหายาเสพติด ตามแผนงาน สาธารณสุข
A3: =สงบ!A3 -> ตั้งแต่วันที่ 1 ตุลาคม 2555 ถึงวันที่ 31 มกราคม 2556
E4: งานบริหารทั่วไป | G4: งานบริการสาธารณสุข | H4: งานศูนย์บริการ
B5: รายการ | C5: ประมาณการ | D5: รวม | E5: เกี่ยวกับสาธารณสุข | F5: งานโรงพยาบาล | G5: และงานสาธารณสุขอื่น | H5: สาธารณสุข
E6: ( 00221 ) | F6: ( 00222 ) | G6: ( 00223 ) | H6: ( 00224 )
A7: รายจ่าย
B8: เงินเดือน ( ฝ่ายการเมือง ) | C8: 0 | D8: =SUM(E8:H8) -> 0 | G8: 0
B9: เงินเดือน ( ฝ่ายประจำ ) | C9: 0 | D9: =SUM(E9:H9) -> 0 | G9: 0
B10: เงินเดือน ( ฝ่ายประจำ ) ( ก ) | C10: 0 | D10: =SUM(E10:H10) -> 0 | G10: 0
B11: ค่าตอบแทน | C11: 0 | D11: =SUM(E11:H11) -> 0 | G11: 0
B12: ค่าตอบแทน ( ท ) | C12: 0 | D12: =SUM(E12:H12) -> 0 | G12: 0
B13: ค่าใช้สอย | C13: 0 | D13: =SUM(E13:H13) -> 0 | G13: 0
B14: ค่าใช้สอย ( ท ) | C14: 0 | D14: =SUM(E14:H14) -> 0 | G14: 0
B15: ค่าใช้สอย ( ก ) | C15: 0 | D15: =SUM(E15:F15) -> 0 | G15: 0
B16: ค่าวัสดุ | C16: 0 | D16: =SUM(E16:H16) -> 0 | G16: 0
B17: ค่าวัสดุ ( ท ) | C17: 0 | D17: =SUM(E17:H17) -> 0 | G17: 0
B18: ค่าสาธารณูปโภค | C18: 0 | D18: =SUM(E18:H18) -> 0 | G18: 0
B19: ค่าครุภัณฑ์ | C19: 0 | D19: =SUM(E19:H19) -> 0 | G19: 0
B20: ค่าครุภัณฑ์ ( ท ) | C20: 0 | D20: =SUM(E20:H20) -> 0 | G20: 0
B21: ค่าที่ดินและสิ่งก่อสร้าง | C21: 0 | D21: =SUM(E21:H21) -> 0 | G21: 0
B22: ค่าที่ดินและสิ่งก่อสร้าง ( ท ) | C22: 0 | D22: =SUM(E22:H22) -> 0 | G22: 0
B23: ค่าที่ดินและสิ่งก่อสร้าง ( ก ) | C23: 0 | D23: =SUM(E23:H23) -> 0 | G23: 0
B24: เงินอุดหนุน | C24: 0 | D24: =SUM(E24:H24) -> 0 | G24: 0
B25: เงินอุดหนุน ( ท ) | C25: 0 | D25: =SUM(E25:H25) -> 0 | G25: 0
B26: รายจ่ายอื่น | C26: 0 | D26: =SUM(E26:H26) -> 0 | G26: 0
B27: รายจ่ายอื่น ( ท ) | C27: 0 | D27: =SUM(E27:H27) -> 0 | G27: 0
... B30: งบกลาง ( ก ) | C30: 0 | D30: =SUM(E30:H30) -> 0 | G30: 0
B31: รวม | C31: =SUM(C8:C30) -> 0 | D31: =SUM(D7:D30) -> 0 | E31: =SUM(E7:E30) -> 0 | F31: =SUM(F7:F30) -> 0 | G31: =SUM(G7:G30) -> 0 | H31: =SUM(H7:H30) -> 0

Sheet งบกลางเฉพาะกิจ
A1: องค์การบริหารส่วนตำบลไชยมนตรี อำเภอเมืองนครศรีธรรมราช จังหวัดนครศรีธรรมราช
A2: รายงานรายจ่ายในการดำเนินงานที่จ่ายจาก เงินอุดหนุนเฉพาะกิจ ตามแผนงาน งบกลาง
A3: =เคหะชุมชน!B3 -> ตั้งแต่วันที่ 1 ตุลาคม 2555 ถึงวันที่ 31 มกราคม 2556
E4: งบกลาง
B5: รายการ | C5: ประมาณการ | D5: รวม
E6: ( 00411 )
A7: รายจ่าย
B8: เงินเดือน ( ฝ่ายการเมือง ) | C8: 0
B9: เงินเดือน ( ฝ่ายประจำ ) | C9: 0
B10: เงินเดือน ( ฝ่ายประจำ ) ( ก ) | C10: 0
B11: ค่าตอบแทน | C11: 0
B12: ค่าตอบแทน ( ท ) | C12: 0
B13: ค่าใช้สอย | C13: 0
B14: ค่าใช้สอย ( ท ) | C14: 0
B15: ค่าใช้สอย ( ก ) | C15: 0
B16: ค่าวัสดุ | C16: 0
B17: ค่าวัสดุ ( ท ) | C17: 0
B18: ค่าสาธารณูปโภค | C18: 0
B19: ค่าครุภัณฑ์ | C19: 0
... B22: ค่าที่ดินและสิ่งก่อสร้าง ( ท ) | C22: 0
B23: ค่าที่ดินและสิ่งก่อสร้าง ( ก ) | C23: 0 | D23: =+E23 -> 0 | E23: 0
B24: เงินอุดหนุน | C24: 0
B25: เงินอุดหนุน ( ท ) | C25: 0
B26: รายจ่ายอื่น | C26: 0
B27: รายจ่ายอื่น ( ท ) | C27: 0
B28: งบกลาง | C28: 0 | D28: =+E28 -> 0 | E28: 0
B29: งบกลาง ( ท ) | C29: 0 | D29: =+E29 -> 0 | E29: 0
B30: งบกลาง (ก) เบี้ยยังชีพผู้สูงอายุ+คนพิการ+ประกันสังคมครู | C30: 0 | D30: =+E30 -> 2633860 | E30: =1980100+651600+2160 -> 2633860
B31: รวม | C31: =SUM(C8:C30) -> 0 | D31: =SUM(D18:D30) -> 2633860 | E31: =SUM(E16:E30) -> 2633860

Sheet การศึกษาเฉพาะกิจ
A1: องค์การบริหารส่วนตำบลไชยมนตรี อำเภอเมืองนครศรีธรรมราช จังหวัดนครศรีธรรมราช
A2: รายงานรายจ่ายในการดำเนินงานที่จ่ายจาก เงินอุดหนุนเฉพาะกิจ ตามแผนงาน การศึกษา
A3: =สงบ!A3 -> ตั้งแต่วันที่ 1 ตุลาคม 2555 ถึงวันที่ 31 มกราคม 2556
E4: งานบริหารทั่วไป | F4: งานระดับก่อนวัยเรียน | G4: งานระดับ | H4: งานศึกษา
B5: รายการ | C5: ประมาณการ | D5: รวม | E5: เกี่ยวกับการศึกษา | F5: และประถมศึกษา | G5: มัธยมศึกษา | H5: ไม่กำหนดระดับ
E6: ( 00211 ) | F6: ( 00212 ) | G6: ( 00213 ) | H6: ( 00214 )
A7: รายจ่าย
B8: เงินเดือน ( ฝ่ายการเมือง ) | C8: 0 | D8: =SUM(E8:H8) -> 0 | F8: 0
B9: เงินเดือน ( ฝ่ายประจำ ) | C9: 0 | D9: =SUM(E9:H9) -> 0
B10: เงินเดือน ( ฝ่ายประจำ ) ( ก ) | C10: 0 | D10: =SUM(E10:H10) -> 132000 | F10: =99000+33000 -> 132000
B11: ค่าตอบแทน | C11: 0 | D11: =SUM(E11:H11) -> 0 | F11: 0
B12: ค่าตอบแทน ( ท ) | C12: 0 | D12: =SUM(E12:H12) -> 0 | F12: 0
B13: ค่าใช้สอย | C13: 0 | D13: =SUM(E13:H13) -> 0 | F13: 0
B14: ค่าใช้สอย ( ท ) | C14: 0 | D14: =SUM(E14:H14) -> 0 | F14: 0
B15: ค่าใช้สอย ( ก ) | C15: 0 | D15: =SUM(E15:F15) -> 0 | F15: 0
B16: ค่าวัสดุ | C16: 0 | D16: =SUM(E16:H16) -> 0 | F16: 0
B17: ค่าวัสดุ ( ท ) | C17: 0 | D17: =SUM(E17:H17) -> 0 | F17: 0
B18: ค่าสาธารณูปโภค | C18: 0 | D18: =SUM(E18:H18) -> 0 | F18: 0
B19: ค่าครุภัณฑ์ | C19: 0 | D19: =SUM(E19:H19) -> 0 | F19: 0
B20: ค่าครุภัณฑ์ ( ท ) | C20: 0 | D20: =SUM(E20:H20) -> 0 | F20: 0
B21: ค่าที่ดินและสิ่งก่อสร้าง | C21: 0 | D21: =SUM(E21:H21) -> 0 | F21: 0
B22: ค่าที่ดินและสิ่งก่อสร้าง ( ท ) | C22: 0 | D22: =SUM(E22:H22) -> 0 | F22: 0
B23: ค่าที่ดินและสิ่งก่อสร้าง ( ก ) | C23: 0 | D23: =SUM(E23:H23) -> 0 | F23: 0
B24: เงินอุดหนุน | C24: 0 | D24: =SUM(E24:H24) -> 0 | F24: 0
B25: เงินอุดหนุน ( ท ) | C25: 0 | D25: =SUM(E25:H25) -> 0 | F25: 0
B26: รายจ่ายอื่น | C26: 0 | D26: =SUM(E26:H26) -> 0 | F26: 0
B27: รายจ่ายอื่น ( ท ) | C27: 0 | D27: =SUM(E27:H27) -> 0 | F27: 0
... B30: งบกลาง ( ก ) | C30: 0 | D30: =SUM(E30:H30) -> 0 | F30: 0
B31: รวม | C31: =SUM(C7:C30) -> 0 | D31: =SUM(D7:D30) -> 132000 | E31: =SUM(E7:E30) -> 0 | F31: =SUM(F7:F30) -> 132000 | G31: =SUM(G7:G30) -> 0 | H31: =SUM(H7:H30) -> 0

Sheet Sheet1
