Workbook

Sheet กู้คืน_Sheet1

Sheet งบทดลอง
A1: องค์การบริหารส่วนตำบลไชยมนตรี อำเภอเมือง จังหวัดนครศรีธรรมราช
A2: งบทดลอง
A3: ณ วันที่ 31 สิงหาคม 2555
A4: รายการ | B4: รหัสบัญชี | C4: เดบิท | E4: เครดิต
A5: เงินสด | B5: 110100 | C5: =+[1]งบทดลอง!$C$6:$D$6+'[2]มาตรฐาน 1'!F55-'[2]มาตรฐาน 1'!G65 -> 0
A6: เงินฝากจังหวัด | B6: 120100 | C6: =+[1]งบทดลอง!$C$7:$D$7-'[2]มาตรฐาน 1'!G71 -> 0
A7: เงินฝากธนาคาร กรุงไทย - ออมทรัพย์ เลขที่ 801 - 0 - 14362 - 6 (บัญชี 2) | B7: 110201 | C7: =+[1]งบทดลอง!$C$8:$D$8+'[2]มาตรฐาน 1'!F56-'[2]มาตรฐาน 2'!G97 -> 63534.23
A8: เงินฝากธนาคาร กรุงไทย - ออมทรัพย์ เลขที่ 801 - 0 - 15216 - 1 (โครงการถ่ายโอนฯ) | B8: 110201 | C8: =+[1]งบทดลอง!$C$9:$D$9+'[2]มาตรฐาน 1'!F57 -> 4233.41
A9: เงินฝากธนาคาร กรุงไทย - ออมทรัพย์ เลขที่ 801 - 1 - 20000 - 3 | B9: 110201 | C9: =+[1]งบทดลอง!$C$10:$D$10+'[2]มาตรฐาน 1'!F58-[2]บัญชีทั่วไป!G57 -> 12838782
A10: เงินฝากธนาคาร กรุงไทย - ประจำ เลขที่ 801 - 2 - 37895 - 7 | B10: 110202 | C10: =+[1]งบทดลอง!$C$11:$D$11 -> 5000000
A11: เงินฝากธนาคาร กรุงไทย - กระแสรายวัน เลขที่ 801 - 6 - 06554 - 6 (เพื่อการรับเงิน) | B11: 110203 | C11: =[3]งบทดลอง!$C$12:$D$12+'[2]มาตรฐาน 1'!F59 -> 0
A12: เงินฝากธนาคาร กรุงไทย - กระแสรายวัน เลขที่ 801 - 6 - 05887- 6 | B12: 110203 | C12: =+[3]งบทดลอง!$C$13:$D$13+'[2]มาตรฐาน 1'!F60+'[2]มาตรฐาน 2'!F92-'[2]มาตรฐาน 2'!G98+[2]บัญชีทั่วไป!F55 -> 0
A13: เงินฝากธนาคาร ธกส. - ออมทรัพย์ เลขที่ 015 - 2 - 60209 - 0 | B13: 110201 | C13: =+[1]งบทดลอง!$C$14:$D$14+'[2]มาตรฐาน 1'!F62-'[2]มาตรฐาน 2'!G100+'[2]มาตรฐาน 2'!F94 -> 202507.94
A14: เงินฝากธนาคาร ธกส. - ประจำ เลขที่ 015 - 4 - 22289 - 6 | B14: 110202 | C14: =+[1]งบทดลอง!$C$15:$D$15 -> 1039482.3
A15: ลูกหนี้ - ภาษีโรงเรือนและที่ดิน | B15: 110601 | C15: =+[1]งบทดลอง!$C$16:$D$16-'[2]มาตรฐาน 1'!G66 -> 22525
A16: ลูกหนี้ - ภาษีบำรุงท้องที่ | B16: 110602 | C16: =+[1]งบทดลอง!$C$17:$D$17-'[2]มาตรฐาน 1'!G67 -> 4883.55
A17: ลูกหนี้ - ภาษีป้าย | B17: 110603 | C17: =+[1]งบทดลอง!$C$18:$D$18-'[2]มาตรฐาน 1'!G68 -> 600
A18: ลูกหนี้ - เงินยืมเงินงบประมาณ | B18: 110605 | C18: =+[1]งบทดลอง!$C$19:$D$19+'[2]รายงานรับ-จ่าย'!E123-'[2]รายงานรับ-จ่าย'!E75 -> -116900
A19: ลูกหนี้ - เงินยืมเงินสะสม | B19: 110606 | C19: =+[1]งบทดลอง!$C$20:$D$20+'[2]รายงานรับ-จ่าย'!E124-'[2]รายงานรับ-จ่าย'!E76 -> 25624
A20: ภาษีหน้าฏีกา | B20: 140000 | C20: =+[3]งบทดลอง!$C$21:$D$21-'[2]มาตรฐาน 2'!G103+'[2]มาตรฐาน 1'!F63 -> 0
A21: งบกลาง | B21: 510000 | C21: =+'[2]รายงานรับ-จ่าย'!B97 -> 0
A22: เงินเดือน ( ฝ่ายการเมือง ) | B22: 521000 | C22: =+'[2]รายงานรับ-จ่าย'!B98 -> 0
A23: เงินเดือน ( ฝ่ายประจำ ) | B23: 522000 | C23: =+'[2]รายงานรับ-จ่าย'!B99 -> 0
A24: ค่าตอบแทน | B24: 531000 | C24: =+'[2]รายงานรับ-จ่าย'!B100 -> 0
A25: ค่าใช้สอย | B25: 532000 | C25: =+'[2]รายงานรับ-จ่าย'!B101 -> 0
A26: ค่าวัสดุ | B26: 533000 | C26: =+'[2]รายงานรับ-จ่าย'!B102 -> 0
A27: ค่าสาธารณูปโภค | B27: 534000 | C27: =+'[2]รายงานรับ-จ่าย'!B103 -> 0
A28: ค่าครุภัณฑ์ | B28: 541000 | C28: =+'[2]รายงานรับ-จ่าย'!B104 -> 0
A29: ค่าที่ดินและสิ่งก่อสร้าง | B29: 542000 | C29: =+'[2]รายงานรับ-จ่าย'!B105 -> 0
A30: รายจ่ายอื่น | B30: 550000 | C30: =+'[2]รายงานรับ-จ่าย'!B106 -> 0
A31: เงินอุดหนุน | B31: 560000 | C31: =+'[2]รายงานรับ-จ่าย'!B107 -> 0
A32: งบกลาง | B32: 6510000 | C32: =+'[2]รายงานรับ-จ่าย'!B108 -> 0
... A37: เงินอุดหนุน | B37: 6560000 | C37: =+'[2]รายงานรับ-จ่าย'!B113 -> 0
A38: งบกลาง (โครงการสร้างหลักประกันสร้างรายได้แก่ผู้สูงอายุ, คนพิการและ ประกันสังคม ศพด.) | B38: 7510000 | C38: =+'[2]รายงานรับ-จ่าย'!B115 -> 0
A39: เงินเดือน ( ฝ่ายประจำ ) ( ค่าตอบแทนและเงินเพิ่มฯ ศพด. ) | B39: 7522000 | C39: =+'[2]รายงานรับ-จ่าย'!B116 -> 0
A40: ค่าใช้สอย | B40: 7532000 | C40: =+'[2]รายงานรับ-จ่าย'!B117 -> 0
A41: ค่าครุภัณฑ์ | B41: 7541000 | C41: =+'[2]มาตรฐาน 2'!F73 -> 0
A42: รายจ่ายค้างจ่ายระหว่างดำเนินการ ( หมายเหตุ 3 ) | B42: 210401 | E42: =+[1]งบทดลอง!$E$42:$F$42-'[2]รายงานรับ-จ่าย'!E127 -> 27883
A43: เงินสะสม | B43: 300000 | E43: =+[1]งบทดลอง!$E$43:$F$43-'[2]รายงานรับ-จ่าย'!E129+'[2]รายงานรับ-จ่าย'!E81 -> 4674672.1
A44: รายรับ ( หมายเหตุ 1 ) | B44: 400000 | E44: =+'[2]หมายเหตุ(1)'!H138 -> 0
A45: เงินรับฝาก ( หมายเหตุ 2 ) | B45: 230100 | E45: =+'[2]หมายเหตุ 2'!F69 -> 0
A46: ทุนสำรองเงินสะสม | B46: 320000 | E46: =+[1]งบทดลอง!$E$46:$F$46 -> 4607377.8
C47: =SUM(C5:C46) -> 19085273 | E47: =SUM(E5:E46) -> 9309932.8

Sheet รายงานรับ-จ่ายเงินสด
A1: องค์การบริหารส่วนตำบลไชยมนตรี อำเภอเมือง จังหวัดนครศรีธรรมราช
D2: ปีงบประมาณ 2555
A3: รายงานรับ - จ่าย เงินสด
C4: ประจำเดือน | E4: สิงหาคม 2555
A6: จนถึงปัจจุบัน | E6: เดือนนี้
A7: ประมาณการ | B7: เกิดขึ้นจริง | C7: รายการ | D7: รหัสบัญชี | E7: เกิดขึ้นจริง
A8: บาท | B8: บาท | E8: บาท
B9: 13718251 | C9: ยอดยกมา | E9: 19148540
C10: รายรับ
A11: 170000 | B11: =+'[1]รายงานรับ-จ่าย'!$B$13+E11 -> 145665.05 | C11: ภาษีอากร | D11: 411000 | E11: =+'[2]มาตรฐาน 3'!G8+'[2]มาตรฐาน 3'!G9+'[2]มาตรฐาน 3'!G10 -> 128.88
A12: 397000 | B12: =+'[1]รายงานรับ-จ่าย'!$B$14+E12 -> 192817.6 | C12: ค่าธรรมเนียม ค่าปรับและใบอนุญาต | D12: 412000 | E12: =+'[2]มาตรฐาน 3'!G11+'[2]มาตรฐาน 3'!G12+'[2]มาตรฐาน 3'!G13+'[2]มาตรฐาน 3'!G14+'[2]มาตรฐาน 3'!G15+'[2]มาตรฐาน 3'!G16+'[2]มาตรฐาน 3'!G17+'[2]มาตรฐาน 3'!G18+'[2]มาตรฐาน 3'!G19 -> 5000
A13: 36000 | B13: =+'[1]รายงานรับ-จ่าย'!$B$15+E13 -> 143716.51 | C13: รายได้จากทรัพย์สิน | D13: 413000 | E13: =+'[2]มาตรฐาน 3'!G20 -> 5180.98
A14: 0 | B14: =+'[3]รายงานรับ-จ่าย'!$B$16+E14 -> 0 | C14: รายได้จากสาธารณูปโภคและการพาณิชย์ | D14: 414000 | E14: =+'[2]มาตรฐาน 3'!G21 -> 0
A15: 170000 | B15: =+'[1]รายงานรับ-จ่าย'!$B$17+E15 -> 40400 | C15: รายได้เบ็ดเตล็ด | D15: 415000 | E15: =+'[2]มาตรฐาน 3'!G22+'[2]มาตรฐาน 3'!G23+'[2]มาตรฐาน 3'!G24 -> 25400
A16: 0 | B16: =+'[1]รายงานรับ-จ่าย'!$B$18+E16 -> 0 | C16: รายได้จากทุน | D16: 416000 | E16: =+'[2]มาตรฐาน 3'!G25 -> 0
A17: 10280000 | B17: =+'[1]รายงานรับ-จ่าย'!$B$19+E17 -> 11448366 | C17: ภาษีจัดสรร | D17: 421000 | E17: =+'[2]มาตรฐาน 3'!G26+'[2]มาตรฐาน 3'!G27+'[2]มาตรฐาน 3'!G28+'[2]มาตรฐาน 3'!G29+'[2]มาตรฐาน 3'!G30+'[2]มาตรฐาน 3'!G31+'[2]มาตรฐาน 3'!G32+'[2]มาตรฐาน 3'!G33+'[2]มาตรฐาน 3'!G34+'[2]มาตรฐาน 3'!G35+'[2]มาตรฐาน 3'!G36+'[2]มาตรฐาน 3'!G37 -> 1515047
A18: 7000000 | B18: =+'[1]รายงานรับ-จ่าย'!$B$20+E18 -> 7136395 | C18: เงินอุดหนุนทั่วไป | D18: 431000 | E18: =+'[2]มาตรฐาน 3'!G38 -> 0
A19: =SUM(A9:A18) -> 18053000 | B19: =SUM(B11:B18) -> 19107360 | E19: =SUM(E11:E18) -> 1550756.9
B20: =+'[1]รายงานรับ-จ่าย'!$B$22+E20 -> 332310.39 | C20: เงินอุดหนุนระบุวัตถุประสงค์ด้านการศึกษา | D20: 441001 | E20: =+'[2]มาตรฐาน 3'!G39 -> 90214.65
B21: =+'[1]รายงานรับ-จ่าย'!$B$23+E21 -> 7434343 | C21: เงินอุดหนุนระบุวัตถุประสงค์จากกรมส่งเสริมการปกครองท้องถิ่น | D21: 441002 | E21: =+'[2]มาตรฐาน 3'!G40 -> 0
B22: =+'[1]รายงานรับ-จ่าย'!$B$24+E22 -> 344 | C22: ลูกหนี้ - ภาษีโรงเรือนและที่ดิน | D22: 110601 | E22: =+'[2]มาตรฐาน 1'!G18 -> 0
B23: =+'[1]รายงานรับ-จ่าย'!$B$25+E23 -> 3729.24 | C23: ลูกหนี้ - ภาษีบำรุงท้องที่ | D23: 110602 | E23: =+'[2]มาตรฐาน 1'!G19 -> 18.33
B24: =+'[3]รายงานรับ-จ่าย'!$B$26+E24 -> 0 | C24: ลูกหนี้ - ภาษีป้าย | D24: 110603 | E24: =+'[2]มาตรฐาน 1'!G20 -> 0
B25: =+'[1]รายงานรับ-จ่าย'!$B$27+E25 -> 168452 | C25: ลูกหนี้ - เงินยืมเงินงบประมาณ | D25: 110605 | E25: =+'[2]มาตรฐาน 1'!G21+[2]บัญชีทั่วไป!G258+[2]บัญชีทั่วไป!G293+[2]บัญชีทั่วไป!G328 -> 0
B26: =+'[1]รายงานรับ-จ่าย'!$B$28+E26 -> 4017474 | C26: ลูกหนี้ - เงินยืมเงินสะสม | D26: 110606 | E26: =+'[2]มาตรฐาน 1'!G22+[2]บัญชีทั่วไป!G507+[2]บัญชีทั่วไป!G542+[2]บัญชีทั่วไป!G577+[2]บัญชีทั่วไป!G615+[2]บัญชีทั่วไป!G651+[2]บัญชีทั่วไป!G687+[2]บัญชีทั่วไป!G722 -> 0
B27: =+'[1]รายงานรับ-จ่าย'!$B$29+E27 -> 1900000 | C27: เงินฝากจังหวัด | D27: 120100 | E27: =+'[2]มาตรฐาน 1'!G23 -> 0
B28: =+'[1]รายงานรับ-จ่าย'!$B$30+E28 -> 17747.67 | C28: ภาษีหน้าฏีกา | D28: 140000 | E28: =+'[2]มาตรฐาน 2'!G55 -> 0
B29: =+'[3]รายงานรับ-จ่าย'!$B$31+E29 -> 0 | C29: รายจ่ายค้างจ่ายระหว่างดำเนินการ ( หมายเหตุ 3 ) | D29: 210401 | E29: =+'[2]มาตรฐาน 1'!G24 -> 0
B30: =+'[1]รายงานรับ-จ่าย'!$B$32+E30 -> 1112849.3 | C30: เงินรับฝาก ( หมายเหตุ 2 ) | D30: 230100 | E30: =+'[2]หมายเหตุ 2'!D21 -> 102346.73
B31: =+'[3]รายงานรับ-จ่าย'!$B$33+E31 -> 137500 | C31: เงินสะสม | D31: 300000 | E31: =+'[2]มาตรฐาน 1'!G35+[2]บัญชีทั่วไป!G433 -> 137500
B33: =SUM(B20:B31) -> 15124750 | E33: =SUM(E20:E31) -> 330079.71
B34: =+B19+B33 -> 34232110 | C34: รวมรายรับ | E34: =+E19+E33 -> 1880836.6
A39: จนถึงปัจจุบัน | E39: เดือนนี้
A40: ประมาณการ | B40: เกิดขึ้นจริง | C40: รายการ | D40: รหัสบัญชี | E40: เกิดขึ้นจริง
A41: บาท | B41: บาท | E41: บาท
C42: รายจ่าย
A43: 0 | B43: =+'[3]รายงานรับ-จ่าย'!$B$49+E43 -> 0 | C43: งบกลาง | D43: 510000 | E43: =+'[2]มาตรฐาน 2'!F6 -> 0
A44: 1436640 | B44: =+'[1]รายงานรับ-จ่าย'!$B$50+E44 -> 1542398.1 | C44: เงินเดือน ( ฝ่ายการเมือง ) | D44: 521000 | E44: =+'[2]มาตรฐาน 2'!F7-'[2]มาตรฐาน 1'!G37 -> 129280
A45: 4085430 | B45: =+'[1]รายงานรับ-จ่าย'!$B$51+E45 -> 3167534 | C45: เงินเดือน ( ฝ่ายประจำ ) | D45: 522000 | E45: =+'[2]มาตรฐาน 2'!F8+[2]บัญชีทั่วไป!F539+[2]บัญชีทั่วไป!F540-'[2]มาตรฐาน 1'!G41 -> 237712.29
A46: =999800+146000+30000-30000-10000+6400 -> 1142200 | B46: =+'[1]รายงานรับ-จ่าย'!$B$52+E46 -> 262457 | C46: ค่าตอบแทน | D46: 531000 | E46: =+'[2]มาตรฐาน 2'!F9 -> 28729
A47: =2104000+30000+220000-40000+40000-38500+100000 -> 2415500 | B47: =+'[1]รายงานรับ-จ่าย'!$B$53+E47 -> 1349381.8 | C47: ค่าใช้สอย | D47: 532000 | E47: =+'[2]มาตรฐาน 2'!F10-'[2]มาตรฐาน 1'!G40 -> 259508.75
A48: =1139000-100000+10000+10000-10000-50000-50000 -> 949000 | B48: =+'[1]รายงานรับ-จ่าย'!$B$54+E48 -> 405261 | C48: ค่าวัสดุ | D48: 533000 | E48: =+'[2]มาตรฐาน 2'!F11 -> 13700
A49: =295200+100000 -> 395200 | B49: =+'[1]รายงานรับ-จ่าย'!$B$55+E49 -> 323257.26 | C49: ค่าสาธารณูปโภค | D49: 534000 | E49: =+'[2]มาตรฐาน 2'!F12 -> 31749.65
A50: =428400-280000+33400+5100+10000+15000+1800-16800 -> 196900 | B50: =+'[1]รายงานรับ-จ่าย'!$B$56+E50 -> 666220 | C50: ค่าครุภัณฑ์ | D50: 541000 | E50: =+'[2]มาตรฐาน 2'!F13 -> 518000
A51: =472000+280000 -> 752000 | B51: =+'[1]รายงานรับ-จ่าย'!$B$57+E51 -> 18000 | C51: ค่าที่ดินและสิ่งก่อสร้าง | D51: 542000 | E51: =+'[2]มาตรฐาน 2'!F14 -> 0
A52: 25000 | B52: =+'[1]รายงานรับ-จ่าย'!$B$58+E52 -> 25000 | C52: รายจ่ายอื่น | D52: 550000 | E52: =+'[2]มาตรฐาน 2'!F15 -> 0
A53: 18000 | B53: =+'[1]รายงานรับ-จ่าย'!$B$59+E53 -> 5000 | C53: เงินอุดหนุน | D53: 560000 | E53: =+'[2]มาตรฐาน 2'!F16 -> 0
A54: =1874530-40000-300000 -> 1534530 | B54: =+'[1]รายงานรับ-จ่าย'!$B$60+E54 -> 896740 | C54: งบกลาง (500+4,000+7,364 ) | D54: 6510000 | E54: =+'[2]มาตรฐาน 2'!F17+[2]บัญชีทั่วไป!F469+[2]บัญชีทั่วไป!F396+[2]บัญชีทั่วไป!F575+[2]บัญชีทั่วไป!F256+[2]บัญชีทั่วไป!F291+[2]บัญชีทั่วไป!F326 -> 11864
A55: 168000 | B55: =+'[1]รายงานรับ-จ่าย'!$B$61+E55 -> 167440 | C55: ค่าใช้สอย | D55: 6532000 | E55: =+'[2]มาตรฐาน 2'!F18 -> 0
A56: 899000 | B56: =+'[1]รายงานรับ-จ่าย'!$B$62+E56 -> 466230.1 | C56: ค่าวัสดุ | D56: 6533000 | E56: =+'[2]มาตรฐาน 2'!F19 -> 0
A57: =633000-30000-3600-6400+30000+3600 -> 626600 | B57: =+'[1]รายงานรับ-จ่าย'!$B$63+E57 -> 38000 | C57: ค่าครุภัณฑ์ | D57: 6541000 | E57: =+'[2]มาตรฐาน 2'!F20 -> 0
A58: =2267000-220000-146000 -> 1901000 | B58: =+'[1]รายงานรับ-จ่าย'!$B$64+E58 -> 367000 | C58: ค่าที่ดินและสิ่งก่อสร้าง | D58: 6542000 | E58: =+'[2]มาตรฐาน 2'!F21 -> 0
A59: 1208000 | B59: =+'[1]รายงานรับ-จ่าย'!$B$65+E59 -> 1169400 | C59: เงินอุดหนุน | D59: 6560000 | E59: =+'[2]มาตรฐาน 2'!F22 -> 0
A60: =SUM(A43:A59) -> 17753000 | B60: =SUM(B43:B59) -> 10869319 | E60: =SUM(E43:E59) -> 1230543.7
B61: =+'[1]รายงานรับ-จ่าย'!$B$67+E61 -> 6868888 | C61: งบกลาง (52,000+503,800+36,500+22,900) | D61: 7510000 | E61: =+'[2]มาตรฐาน 2'!F23-'[2]มาตรฐาน 1'!G38-'[2]มาตรฐาน 1'!G39+[2]บัญชีทั่วไป!F503+[2]บัญชีทั่วไป!F611+[2]บัญชีทั่วไป!F647+[2]บัญชีทั่วไป!F683 -> 615200
B62: =+'[1]รายงานรับ-จ่าย'!$B$68+E62 -> 208967.74 | C62: เงินเดือน ( ฝ่ายประจำ ) | D62: 7522000 | E62: =+[2]บัญชีทั่วไป!F504+[2]บัญชีทั่วไป!F505+[2]บัญชีทั่วไป!F612+[2]บัญชีทั่วไป!F613+[2]บัญชีทั่วไป!F648+[2]บัญชีทั่วไป!F649+[2]บัญชีทั่วไป!F684+[2]บัญชีทั่วไป!F685+[2]บัญชีทั่วไป!F719+[2]บัญชีทั่วไป!F720 -> 0
B63: =+'[1]รายงานรับ-จ่าย'!$B$69+E63 -> 94500 | C63: ค่าใช้สอย | D63: 7532000 | E63: =+'[2]มาตรฐาน 2'!F24 -> 0
B64: =+E64 -> 14690 | C64: ค่าครุภัณฑ์ | D64: 7541000 | E64: =+'[2]มาตรฐาน 2'!F25 -> 14690
B65: =+'[1]รายงานรับ-จ่าย'!$B$70+E65 -> 0 | C65: ค่าที่ดินและสิ่งก่อสร้าง | D65: 7542000 | E65: =+'[2]มาตรฐาน 2'!F26 -> 0
B66: =+'[1]รายงานรับ-จ่าย'!$B$71+E66 -> 0 | C66: ลูกหนี้ - ภาษีโรงเรือนและที่ดิน | D66: 110601 | E66: =+'[2]มาตรฐาน 2'!F27 -> 0
B67: =+'[1]รายงานรับ-จ่าย'!$B$72+E67 -> 0 | C67: ลูกหนี้ - ภาษีบำรุงท้องที่ | D67: 110602 | E67: =+'[2]มาตรฐาน 2'!F28 -> 0
B68: =+'[1]รายงานรับ-จ่าย'!$B$73+E68 -> 0 | C68: ลูกหนี้ - ภาษีป้าย | D68: 110603 | E68: =+'[2]มาตรฐาน 2'!F29 -> 0
B69: =+'[1]รายงานรับ-จ่าย'!$B$74+E69 -> 315352 | C69: ลูกหนี้ - เงินยืมเงินงบประมาณ | D69: 110605 | E69: =+'[2]มาตรฐาน 2'!F30 -> 131900
B70: =+'[1]รายงานรับ-จ่าย'!$B$75+E70 -> 4096810 | C70: ลูกหนี้ - เงินยืมเงินสะสม | D70: 110606 | E70: =+'[2]มาตรฐาน 2'!F31 -> 26856
B71: =+'[1]รายงานรับ-จ่าย'!$B$76+E71 -> 0 | C71: เงินฝากจังหวัด | D71: 120100 | E71: =+'[2]มาตรฐาน 2'!F32 -> 0
B72: =+'[1]รายงานรับ-จ่าย'!$B$77+E72 -> 17747.67 | C72: ภาษีหน้าฏีกา | D72: 140000 | E72: =+'[2]มาตรฐาน 1'!F15 -> 0
B73: =+'[1]รายงานรับ-จ่าย'!$B$78+E73 -> 3515210 | C73: รายจ่ายค้างจ่ายระหว่างดำเนินการ ( หมายเหตุ 3 ) | D73: 210401 | E73: =+'[2]มาตรฐาน 2'!F34 -> 0
B74: =+'[1]รายงานรับ-จ่าย'!$B$79+E74 -> 1386723.8 | C74: เงินรับฝาก ( หมายเหตุ 2 ) | D74: 230100 | E74: =+'[2]หมายเหตุ 2'!E21 -> 344301.39 | H74: =+E74-B74 -> -1042422.4
B75: =+'[1]รายงานรับ-จ่าย'!$B$80+E75 -> 1956977 | C75: เงินสะสม (9,896+36,615+14,200) | D75: 300000 | E75: =+'[2]มาตรฐาน 2'!F42+[2]บัญชีทั่วไป!F361 -> 60711
B76: =SUM(B61:B75) -> 18475866 | E76: =SUM(E61:E75) -> 1193658.4
B77: =+B60+B76 -> 29345185 | C77: รวมรายจ่าย | E77: =+E60+E76 -> 2424202.1
B78: =+B34-B77 -> 4886924.2 | C78: สูงกว่า
C79: รายรับ รายจ่าย
C80: (ต่ำกว่า) | E80: =+E34-E77 -> -543365.52
B81: =+B9+B78 -> 18605175 | C81: ยอดยกไป | E81: =+E9+E80 -> 18605175
