Workbook

Sheet กู้คืน_Sheet1

Sheet งบทดลอง
A1: องค์การบริหารส่วนตำบลไชยมนตรี อำเภอเมือง จังหวัดนครศรีธรรมราช
A2: งบทดลอง
A3: ณ วันที่ 31 สิงหาคม 2555
A4: รายการ | B4: รหัสบัญชี | C4: เดบิท | E4: เครดิต
A5: เงินสด | B5: 110100 | C5: =+[1]งบทดลอง!$C$6:$D$6+'[2]มาตรฐาน 1'!F55-'[2]มาตรฐาน 1'!G65 -> 0
A6: เงินฝากจังหวัด | B6: 120100 | C6: =+[1]งบทดลอง!$C$7:$D$7-'[2]มาตรฐาน 1'!G71 -> 0
A7: เงินฝากธนาคาร กรุงไทย - ออมทรัพย์ เลขที่ 801 - 0 - 14362 - 6 (บัญชี 2) | B7: 110201 | C7: =+[1]งบทดลอง!$C$8:$D$8+'[2]มาตรฐาน 1'!F56-'[2]มาตรฐาน 2'!G97 -> 63534.23
A8: เงินฝากธนาคาร กรุงไทย - ออมทรัพย์ เลขที่ 801 - 0 - 15216 - 1 (โครงการถ่ายโอนฯ) | B8: 110201 | C8: =+[1]งบทดลอง!$C$9:$D$9+'[2]มาตรฐาน 1'!F57 -> 4233.41
A9: เงินฝากธนาคาร กรุงไทย - ออมทรัพย์ เลขที่ 801 - 1 - 20000 - 3 | B9: 110201 | C9: =+[1]งบทดลอง!$C$10:$D$10+'[2]มาตรฐาน 1'!F58-[2]บัญชีทั่วไป!G57 -> 12838782
A10: เงินฝากธนาคาร กรุงไทย - ประจำ เลขที่ 801 - 2 - 37895 - 7 | B10: 110202 | C10: =+[1]งบทดลอง!$C$11:$D$11 -> 5000000
A11: เงินฝากธนาคาร กรุงไทย - กระแสรายวัน เลขที่ 801 - 6 - 06554 - 6 (เพื่อการรับเงิน) | B11: 110203 | C11: =[3]งบทดลอง!$C$12:$D$12+'[2]มาตรฐาน 1'!F59 -> 0
A12: เงินฝากธนาคาร กรุงไทย - กระแสรายวัน เลขที่ 801 - 6 - 05887- 6 | B12: 110203 | C12: =+[3]งบทดลอง!$C$13:$D$13+'[2]มาตรฐาน 1'!F60+'[2]มาตรฐาน 2'!F92-'[2]มาตรฐาน 2'!G98+[2]บัญชีทั่วไป!F55 -> 0
A13: เงินฝากธนาคาร ธกส. - ออมทรัพย์ เลขที่ 015 - 2 - 60209 - 0 | B13: 110201 | C13: =+[1]งบทดลอง!$C$14:$D$14+'[2]มาตรฐาน 1'!F62-'[2]มาตรฐาน 2'!G100+'[2]มาตรฐาน 2'!F94 -> 202507.94
A14: เงินฝากธนาคาร ธกส. - ประจำ เลขที่ 015 - 4 - 22289 - 6 | B14: 110202 | C14: =+[1]งบทดลอง!$C$15:$D$15 -> 1039482.3
A15: ลูกหนี้ - ภาษีโรงเรือนและที่ดิน | B15: 110601 | C15: =+[1]งบทดลอง!$C$16:$D$16-'[2]มาตรฐาน 1'!G66 -> 22525
A16: ลูกหนี้ - ภาษีบำรุงท้องที่ | B16: 110602 | C16: =+[1]งบทดลอง!$C$17:$D$17-'[2]มาตรฐาน 1'!G67 -> 4883.55
A17: ลูกหนี้ - ภาษีป้าย | B17: 110603 | C17: =+[1]งบทดลอง!$C$18:$D$18-'[2]มาตรฐาน 1'!G68 -> 600
A18: ลูกหนี้ - เงินยืมเงินงบประมาณ | B18: 110605 | C18: =+[1]งบทดลอง!$C$19:$D$19+'[2]รายงานรับ-จ่าย'!E123-'[2]รายงานรับ-จ่าย'!E75 -> -116900
A19: ลูกหนี้ - เงินยืมเงินสะสม | B19: 110606 | C19: =+[1]งบทดลอง!$C$20:$D$20+'[2]รายงานรับ-จ่าย'!E124-'[2]รายงานรับ-จ่าย'!E76 -> 25624
A20: ภาษีหน้าฏีกา | B20: 140000 | C20: =+[3]งบทดลอง!$C$21:$D$21-'[2]มาตรฐาน 2'!G103+'[2]มาตรฐาน 1'!F63 -> 0
A21: งบกลาง | B21: 510000 | C21: =+'[2]รายงานรับ-จ่าย'!B97 -> 0
A22: เงินเดือน ( ฝ่ายการเมือง ) | B22: 521000 | C22: =+'[2]รายงานรับ-จ่าย'!B98 -> 0
A23: เงินเดือน ( ฝ่ายประจำ ) | B23: 522000 | C23: =+'[2]รายงานรับ-จ่าย'!B99 -> 0
A24: ค่าตอบแทน | B24: 531000 | C24: =+'[2]รายงานรับ-จ่าย'!B100 -> 0
A25: ค่าใช้สอย | B25: 532000 | C25: =+'[2]รายงานรับ-จ่าย'!B101 -> 0
A26: ค่าวัสดุ | B26: 533000 | C26: =+'[2]รายงานรับ-จ่าย'!B102 -> 0
A27: ค่าสาธารณูปโภค | B27: 534000 | C27: =+'[2]รายงานรับ-จ่าย'!B103 -> 0
A28: ค่าครุภัณฑ์ | B28: 541000 | C28: =+'[2]รายงานรับ-จ่าย'!B104 -> 0
A29: ค่าที่ดินและสิ่งก่อสร้าง | B29: 542000 | C29: =+'[2]รายงานรับ-จ่าย'!B105 -> 0
A30: รายจ่ายอื่น | B30: 550000 | C30: =+'[2]รายงานรับ-จ่าย'!B106 -> 0
A31: เงินอุดหนุน | B31: 560000 | C31: =+'[2]รายงานรับ-จ่าย'!B107 -> 0
A32: งบกลาง | B32: 6510000 | C32: =+'[2]รายงานรับ-จ่าย'!B108 -> 0
... A37: เงินอุดหนุน | B37: 6560000 | C37: =+'[2]รายงานรับ-จ่าย'!B113 -> 0
A38: งบกลาง (โครงการสร้างหลักประกันสร้างรายได้แก่ผู้สูงอายุ, คนพิการและ ประกันสังคม ศพด.) | B38: 7510000 | C38: =+'[2]รายงานรับ-จ่าย'!B115 -> 0
A39: เงินเดือน ( ฝ่ายประจำ ) ( ค่าตอบแทนและเงินเพิ่มฯ ศพด. ) | B39: 7522000 | C39: =+'[2]รายงานรับ-จ่าย'!B116 -> 0
A40: ค่าใช้สอย | B40: 7532000 | C40: =+'[2]รายงานรับ-จ่าย'!B117 -> 0
A41: ค่าครุภัณฑ์ | B41: 7541000 | C41: =+'[2]มาตรฐาน 2'!F73 -> 0
A42: รายจ่ายค้างจ่ายระหว่างดำเนินการ ( หมายเหตุ 3 ) | B42: 210401 | E42: =+[1]งบทดลอง!$E$42:$F$42-'[2]รายงานรับ-จ่าย'!E127 -> 27883
A43: เงินสะสม | B43: 300000 | E43: =+[1]งบทดลอง!$E$43:$F$43-'[2]รายงานรับ-จ่าย'!E129+'[2]รายงานรับ-จ่าย'!E81 -> 4674672.1
A44: รายรับ ( หมายเหตุ 1 ) | B44: 400000 | E44: =+'[2]หมายเหตุ(1)'!H138 -> 0
...

Sheet รายงานรับ-จ่ายเงินสด
A1: องค์การบริหารส่วนตำบลไชยมนตรี อำเภอเมือง จังหวัดนครศรีธรรมราช
D2: ปีงบประมาณ 2555
A3: รายงานรับ - จ่าย เงินสด
C4: ประจำเดือน | E4: สิงหาคม 2555
A6: จนถึงปัจจุบัน | E6: เดือนนี้
A7: ประมาณการ | B7: เกิดขึ้นจริง | C7: รายการ | D7: รหัสบัญชี | E7: เกิดขึ้นจริง
A8: บาท | B8: บาท | E8: บาท
B9: 13718251 | C9: ยอดยกมา | E9: 19148540
C10: รายรับ
A11: 170000 | B11: =+'[1]รายงานรับ-จ่าย'!$B$13+E11 -> 145665.05 | C11: ภาษีอากร | D11: 411000 | E11: =+'[2]มาตรฐาน 3'!G8+'[2]มาตรฐาน 3'!G9+'[2]มาตรฐาน 3'!G10 -> 128.88
A12: 397000 | B12: =+'[1]รายงานรับ-จ่าย'!$B$14+E12 -> 192817.6 | C12: ค่าธรรมเนียม ค่าปรับและใบอนุญาต | D12: 412000 | E12: =+'[2]มาตรฐาน 3'!G11+'[2]มาตรฐาน 3'!G12+'[2]มาตรฐาน 3'!G13+'[2]มาตรฐาน 3'!G14+'[2]มาตรฐาน 3'!G15+'[2]มาตรฐาน 3'!G16+'[2]มาตรฐาน 3'!G17+'[2]มาตรฐาน 3'!G18+'[2]มาตรฐาน 3'!G19 -> 5000
A13: 36000 | B13: =+'[1]รายงานรับ-จ่าย'!$B$15+E13 -> 143716.51 | C13: รายได้จากทรัพย์สิน | D13: 413000 | E13: =+'[2]มาตรฐาน 3'!G20 -> 5180.98
A14: 0 | B14: =+'[3]รายงานรับ-จ่าย'!$B$16+E14 -> 0 | C14: รายได้จากสาธารณูปโภคและการพาณิชย์ | D14: 414000 | E14: =+'[2]มาตรฐาน 3'!G21 -> 0
A15: 170000 | B15: =+'[1]รายงานรับ-จ่าย'!$B$17+E15 -> 40400 | C15: รายได้เบ็ดเตล็ด | D15: 415000 | E15: =+'[2]มาตรฐาน 3'!G22+'[2]มาตรฐาน 3'!G23+'[2]มาตรฐาน 3'!G24 -> 25400
A16: 0 | B16: =+'[1]รายงานรับ-จ่าย'!$B$18+E16 -> 0 | C16: รายได้จากทุน | D16: 416000 | E16: =+'[2]มาตรฐาน 3'!G25 -> 0
A17: 10280000 | B17: =+'[1]รายงานรับ-จ่าย'!$B$19+E17 -> 11448366 | C17: ภาษีจัดสรร | D17: 421000 | E17: =+'[2]มาตรฐาน 3'!G26+'[2]มาตรฐาน 3'!G27+'[2]มาตรฐาน 3'!G28+'[2]มาตรฐาน 3'!G29+'[2]มาตรฐาน 3'!G30+'[2]มาตรฐาน 3'!G31+'[2]มาตรฐาน 3'!G32+'[2]มาตรฐาน 3'!G33+'[2]มาตรฐาน 3'!G34+'[2]มาตรฐาน 3'!G35+'[2]มาตรฐาน 3'!G36+'[2]มาตรฐาน 3'!G37 -> 1515047
A18: 7000000 | B18: =+'[1]รายงานรับ-จ่าย'!$B$20+E18 -> 7136395 | C18: เงินอุดหนุนทั่วไป | D18: 431000 | E18: =+'[2]มาตรฐาน 3'!G38 -> 0
A19: =SUM(A9:A18) -> 18053000 | B19: =SUM(B11:B18) -> 19107360 | E19: =SUM(E11:E18) -> 1550756.9
B20: =+'[1]รายงานรับ-จ่าย'!$B$22+E20 -> 332310.39 | C20: เงินอุดหนุนระบุวัตถุประสงค์ด้านการศึกษา | D20: 441001 | E20: =+'[2]มาตรฐาน 3'!G39 -> 90214.65
B21: =+'[1]รายงานรับ-จ่าย'!$B$23+E21 -> 7434343 | C21: เงินอุดหนุนระบุวัตถุประสงค์จากกรมส่งเสริมการปกครองท้องถิ่น | D21: 441002 | E21: =+'[2]มาตรฐาน 3'!G40 -> 0
B22: =+'[1]รายงานรับ-จ่าย'!$B$24+E22 -> 344 | C22: ลูกหนี้ - ภาษีโรงเรือนและที่ดิน | D22: 110601 | E22: =+'[2]มาตรฐาน 1'!G18 -> 0
B23: =+'[1]รายงานรับ-จ่าย'!$B$25+E23 -> 3729.24 | C23: ลูกหนี้ - ภาษีบำรุงท้องที่ | D23: 110602 | E23: =+'[2]มาตรฐาน 1'!G19 -> 18.33
B24: =+'[3]รายงานรับ-จ่าย'!$B$26+E24 -> 0 | C24: ลูกหนี้ - ภาษีป้าย | D24: 110603 | E24: =+'[2]มาตรฐาน 1'!G20 -> 0
B25: =+'[1]รายงานรับ-จ่าย'!$B$27+E25 -> 168452 | C25: ลูกหนี้ - เงินยืมเงินงบประมาณ | D25: 110605 | E25: =+'[2]มาตรฐาน 1'!G21+[2]บัญชีทั่วไป!G258+[2]บัญชีทั่วไป!G293+[2]บัญชีทั่วไป!G328 -> 0
B26: =+'[1]รายงานรับ-จ่าย'!$B$28+E26 -> 4017474 | C26: ลูกหนี้ - เงินยืมเงินสะสม | D26: 110606 | E26: =+'[2]มาตรฐาน 1'!G22+[2]บัญชีทั่วไป!G507+[2]บัญชีทั่วไป!G542+[2]บัญชีทั่วไป!G577+[2]บัญชีทั่วไป!G615+[2]บัญชีทั่วไป!G651+[2]บัญชีทั่วไป!G687+[2]บัญชีทั่วไป!G722 -> 0
B27: =+'[1]รายงานรับ-จ่าย'!$B$29+E27 -> 1900000 | C27: เงินฝากจังหวัด | D27: 120100 | E27: =+'[2]มาตรฐาน 1'!G23 -> 0
B28: =+'[1]รายงานรับ-จ่าย'!$B$30+E28 -> 17747.67 | C28: ภาษีหน้าฏีกา | D28: 140000 | E28: =+'[2]มาตรฐาน 2'!G55 -> 0
B29: =+'[3]รายงานรับ-จ่าย'!$B$31+E29 -> 0 | C29: รายจ่ายค้างจ่ายระหว่างดำเนินการ ( หมายเหตุ 3 ) | D29: 210401 | E29: =+'[2]มาตรฐาน 1'!G24 -> 0
B30: =+'[1]รายงานรับ-จ่าย'!$B$32+E30 -> 1112849.3 | C30: เงินรับฝาก ( หมายเหตุ 2 ) | D30: 230100 | E30: =+'[2]หมายเหตุ 2'!D21 -> 102346.73
B31: =+'[3]รายงานรับ-จ่าย'!$B$33+E31 -> 137500 | C31: เงินสะสม | D31: 300000 | E31: =+'[2]มาตรฐาน 1'!G35+[2]บัญชีทั่วไป!G433 -> 137500
B33: =SUM(B20:B31) -> 15124750 | E33: =SUM(E20:E31) -> 330079.71
B34: =+B19+B33 -> 34232110 | C34: รวมรายรับ | E34: =+E19+E33 -> 1880836.6
A39: จนถึงปัจจุบัน | E39: เดือนนี้
A40: ประมาณการ | B40: เกิดขึ้นจริง | C40: รายการ | D40: รหัสบัญชี | E40: เกิดขึ้นจริง
A41: บาท | B41: บาท | E41: บาท
C42: รายจ่าย
A43: 0 | B43: =+'[3]รายงานรับ-จ่าย'!$B$49+E43 -> 0 | C43: งบกลาง | D43: 510000 | E43: =+'[2]มาตรฐาน 2'!F6 -> 0
A44: 1436640 | B44: =+'[1]รายงานรับ-จ่าย'!$B$50+E44 -> 1542398.1 | C44: เงินเดือน ( ฝ่ายการเมือง ) | D44: 521000 | E44: =+'[2]มาตรฐาน 2'!F7-'[2]มาตรฐาน 1'!G37 -> 129280
A45: 4085430 | B45: =+'[1]รายงานรับ-จ่าย'!$B$51+E45 -> 3167534 | C45: เงินเดือน ( ฝ่ายประจำ ) | D45: 522000 | E45: =+'[2]มาตรฐาน 2'!F8+[2]บัญชีทั่วไป!F539+[2]บัญชีทั่วไป!F540-'[2]มาตรฐาน 1'!G41 -> 237712.29
A46: =999800+146000+30000-30000-10000+6400 -> 1142200 | B46: =+'[1]รายงานรับ-จ่าย'!$B$52+E46 -> 262457 | C46: ค่าตอบแทน | D46: 531000 | E46: =+'[2]มาตรฐาน 2'!F9 -> 28729
...
