Workbook

Sheet กู้คืน_Sheet1

Sheet งบแสดงฐานะการเงิน
B1: องค์การบริหารส่วนตำบลไชยมนตรี อำเภอเมืองนครศรีธรรมราช จังหวัดนครศรีธรรมราช
B2: งบแสดงฐานะการเงิน
B3: ณ วันที่ 30 กันยายน 2555
B4: ทรัพย์สิน | E4: หนี้สินและเงินสะสม
B5: ทรัพย์สินตามงบทรัพย์สิน | D5: ='หมายเหตุ 1'!K20 -> 20470300 | E5: ทุนทรัพย์สิน | K5: =D5 -> 20470300
B6: ลูกหนี้ภาษีโรงเรือนและที่ดิน | D6: 12186 | E6: รายจ่ายผัดส่งใบสำคัญ | K6: 8688
B7: ลูกหนี้ภาษีบำรุงท้องที่ | D7: 26434.52 | E7: เงินอุดหนุนค้างจ่าย | K7: 219400
B8: ลูกหนี้ภาษีป้าย | D8: 0 | E8: รายจ่ายค้างจ่ายระหว่างดำเนินการ | K8: 1834923
B9: ลูกหนี้เงินยืมเงินงบประมาณ | D9: 8688 | E9: รายจ่ายค้างจ่าย | K9: 196400
B10: ลูกหนี้เงินยืมเงินสะสม | D10: 0 | E10: รายจ่ายรอจ่าย | K10: 894000
B11: เงินฝากธนาคารกรุงไทย - ออมทรัพย์ เลขที่ 801 - 0 - 14362 - 6 | C11: 95950.23 | E11: เงินรับฝาก | K11: 613035.58
B12: เงินฝากธนาคารกรุงไทย - ออมทรัพย์ เลขที่ 801 - 0 - 15216 - 1 | C12: 4233.41 | E12: เงินทุนสำรองเงินสะสม | K12: =4607377.76+1213130.85 -> 5820508.6
B13: เงินฝากธนาคารกรุงไทย - ออมทรัพย์ เลขที่ 801 - 1 - 20000 - 3 | C13: 11660081 | E13: เงินสะสม 1 ตุลาคม 2554 | J13: 6510227.1
B14: เงินฝากธนาคารกรุงไทย - ประจำ เลขที่ 801 - 2 - 37895 - 7 | C14: 5000000 | E14: บวก รายรับจริงสูงกว่ารายจ่ายจริง | J14: =+'งบรายรับ-รายจ่าย'!D40 -> 4852523.4
B15: เงินฝากธนาคารกรุงไทย - กระแสรายวัน เลขที่ 801 - 6 - 06554 - 6 | C15: 0 | E15: รับเงินค่าขายแบบแปลนงบไทยเข้มแข็ง | J15: 137500
B16: เงินฝากธนาคารกรุงไทย - กระแสรายวัน เลขที่ 801 - 6 - 05887 - 6 | C16: 0 | E16: ปรับปรุงบัญชีเงินรับฝากเข้าเงินสะสม | J16: =20000+10000+100+132399.8 -> 162499.8
B17: เงินฝากธนาคารธกส. - ออมทรัพย์ เลขที่ 015 - 2 - 60209 - 0 | C17: 207688.92 | E17: รายจ่ายค้างจ่ายระหว่างดำเนินการเหลือจ่าย | J17: 27883
B18: เงินฝากธนาคารธกส. - ประจำ เลขที่ 015 - 4 - 22289 - 0 | C18: 1039482.3 | D18: =SUM(C11:C18) -> 18007436 | E18: หัก โอนเข้าบัญชีเงินประกันสัญญาเนื่องจากบันทึกบัญชีผิด | J18: 14200
E19: เงินทุนสำรองเงินสะสมประจำปี | J19: 1213130.9
E20: จ่ายขาดเงินสะสม | J20: 1995513
E21: เงินสะสม 30 กันยายน 2555 | K21: =+J13+J14+J15+J16+J17-J18-J19-J20 -> 8467789.5
D22: =SUM(D6:D21) -> 18054745 | K22: =SUM(K6:K21) -> 18054745 | M22: =+K22-D22 -> 0
B25: (ลงชื่อ) (ลงชื่อ) (ลงชื่อ)
B26: ( นางสุพานี วงษ์นุรักษ์ ) ( นายภูษิต จิตสมพงษ์ ) ( นายเชาวลิต สุพรัตน์ )
B27: หัวหน้าส่วนการคลัง ปลัดองค์การบริหารส่วนตำบล นายกองค์การบริหารส่วนตำบลไชยมนตรี

Sheet แสดงฐานะการเงิน
A2: องค์การบริหารส่วนตำบลไชยมนตรี อำเภอเมืองนครศรีธรรมราช จังหวัดนครศรีธรรมราช
D3: งบแสดงฐานะการเงิน
D4: ณ วันที่ 30 กันยายน 2555
E5: ทรัพย์สิน
A6: ทรัพย์สินตามงบทรัพย์สิน ( หมายเหตุ 1 ) | I6: ='หมายเหตุ 1'!K20 -> 20470300 | J6: บาท
A7: เงินสด และเงินฝากธนาคาร ( หมายเหตุ 2 ) | I7: ='หมายเหตุ 2'!H19 -> 18007436
A8: เงินฝากจังหวัด | I8: 0
A9: ลูกหนี้ภาษีโรงเรือนและที่ดิน | G9: 12186
A10: ลูกหนี้ภาษีบำรุงท้องที่ | G10: 26434.52
A11: ลูกหนี้ภาษีป้าย | G11: 0 | I11: =+G9+G10+G11 -> 38620.52
A12: ลูกหนี้เงินยืมเงินงบประมาณ | I12: 8688
A13: ลูกหนี้เงินยืมเงินสะสม | I13: 0
A14: หุ้นในโรงพิมพ์ส่วนท้องถิ่น | I14: 0
I15: =SUM(I7:I14) -> 18054745 | J15: บาท
E18: หนี้สินและเงินสะสม
A19: ทุนทรัพย์สิน (หมายเหตุ 1) | I19: =+I6 -> 20470300 | J19: บาท
A20: เจ้าหนี้ | I20: 0
A21: รายจ่ายผัดส่งใบสำคัญ | I21: 8688
A22: เงินอุดหนุนค้างจ่าย ( หมายเหตุ 3 ) | I22: 219400
A23: รายจ่ายค้างจ่ายระหว่างดำเนินการ (หมายเหตุ 4) | I23: 1834923
A24: รายจ่ายค้างจ่าย (หมายเหตุ 5) | I24: 196400
A25: รายจ่ายรอจ่าย ( หมายเหตุ 6 ) | I25: 894000
A26: เงินรับฝาก ( หมายเหตุ 7 ) | I26: ='หมายเหตุ 7'!G16 -> 613035.58
A27: ทุนสำรองเงินสะสม | I27: 5820508.6
A28: เงินสะสม ( หมายเหตุ 8 ) | I28: =+งบแสดงฐานะการเงิน!K21 -> 8467789.5
I29: =SUM(I20:I28) -> 18054745 | J29: บาท
A31: ( ลงชื่อ ) ( ลงชื่อ ) ( ลงชื่อ )
A32: ( นางสุพานี วงษ์นุรักษ์) ( นายภูษิต จิตสมพงษ์ ) ( นายเชาวลิต สุพรัตน์ )
A33: หัวหน้าส่วนการคลัง ปลัดองค์การบริหารส่วนตำบล นายกองค์การบริหารส่วนตำบลไชยมนตรี

Sheet งบทดลอง
A2: องค์การบริหารส่วนตำบลไชยมนตรี อำเภอเมืองนครศรีธรรมราช จังหวัดนครศรีธรรมราช
A3: งบทดลอง ( หลังปิดบัญชี )
A4: ณ วันที่ 30 กันยายน 2555
A6: รายการ | B6: รหัสบัญชี | C6: เดบิท | E6: เครดิต
A7: เงินสด | B7: 110100 | C7: 0
A8: เงินฝากจังหวัด | B8: 120100 | C8: =[1]งบทดลอง!$C$7:$D$7-'[2]มาตรฐาน 1'!G16 -> 0
A9: เงินฝากธนาคาร กรุงไทย - ออมทรัพย์ เลขที่ 801 - 0 - 14362 - 6 (บัญชี 2) | B9: 110201 | C9: 95950.23
A10: เงินฝากธนาคาร กรุงไทย - ออมทรัพย์ เลขที่ 801 - 0 - 15216 - 1 (โครงการถ่ายโอนฯ) | B10: 110201 | C10: 4233.41
A11: เงินฝากธนาคาร กรุงไทย - ออมทรัพย์ เลขที่ 801 - 0 - 20000 - 3 | B11: 110201 | C11: 11660081
A12: เงินฝากธนาคาร กรุงไทย - ประจำ เลขที่ 801 - 2 - 37895 - 7 | B12: 110202 | C12: 5000000
A13: เงินฝากธนาคาร กรุงไทย - กระแสรายวัน เลขที่ 801 - 6 - 06554 - 6 (เพื่อการรับเงินฯ) | B13: 110203 | C13: 0
A14: เงินฝากธนาคาร กรุงไทย - กระแสรายวัน เลขที่ 801 - 6 - 05887 - 6 | B14: 110203 | C14: 0
A15: เงินฝากธนาคาร ธกส. - ออมทรัพย์ เลขที่ 015 - 2 - 60209 - 0 | B15: 110201 | C15: 207688.92
A16: เงินฝากธนาคาร ธกส. - ประจำ เลขที่ 015 - 4 - 22289 - 6 | B16: 110202 | C16: 1039482.3
A17: ลูกหนี้ภาษีโรงเรือนและที่ดิน | B17: 110601 | C17: 12186
A18: ลูกหนี้ภาษีบำรุงท้องที่ | B18: 110602 | C18: 26434.52
A19: ลูกหนี้ภาษีป้าย | B19: 110603 | C19: 0
A20: ลูกหนี้เงินยืมเงินงบประมาณ | B20: 110605 | C20: 8688
A21: ลูกหนี้เงินยืมเงินสะสม | B21: 110606 | C21: 0
A22: รายจ่ายผัดส่งใบสำคัญ | B22: 210200 | E22: 8688
A23: เงินอุดหนุนค้างจ่าย | B23: 210300 | E23: 219400
A24: รายจ่ายค้างจ่ายระหว่างดำเนินการ | B24: 210401 | E24: 1834923
A25: รายจ่ายค้างจ่าย | B25: 210402 | E25: 196400
A26: รายจ่ายรอจ่าย | B26: 210500 | E26: 894000
A27: เงินสะสม | B27: 300000 | E27: 8467789.4
A28: เงินรับฝาก | B28: 230100 | E28: 613035.58
A29: ทุนสำรองเงินสะสม | B29: 320000 | E29: 5820508.6
C30: =SUM(C7:C29) -> 18054745 | E30: =SUM(E7:E29) -> 18054745 | I30: =+C30-E30 -> 0 | J30: =C30-E30 -> 0 | K30: =C30-E30 -> 0 | O30: =C30-E30 -> 0
A33: ( ลงชื่อ ) ( ลงชื่อ ) ( ลงชื่อ )
A34: ( นางสุพานี วงษ์นุรักษ์ ) ( นายภูษิต จิตสมพงษ์ ) ( นายเชาวลิต สุพรัตน์ )
A35: หัวหน้าส่วนการคลัง ปลัดองค์การบริหารส่วนตำบล นายกองค์การบริหารส่วนตำบลไชยมนตรี

Sheet งบรายรับ-รายจ่าย
B1: องค์การบริหารส่วนตำบลไชยมนตรี อำเภอเมืองนครศรีธรรมราช จังหวัดนครศรีธรรมราช
B2: งบรายรับ - รายจ่ายตามงบประมาณประจำปี 2555
B3: ตั้งแต่วันที่ 1 ตุลาคม 2554 ถึงวันที่ 30 กันยายน 2555
C5: ประมาณการ | D5: รายรับจริง | E5: + | F5: สูง
E6: - | F6: ต่ำ
A7: รายรับตามประมาณการ
A8: รายรับ
B9: ภาษีอากร ( 165,453.89 + 21,677.44 ) | C9: 170000 | D9: =165453.89+21677.44 -> 187131.33 | E9: + | F9: =+C9-D9 -> -17131.33
B10: ค่าธรรมเนียม ค่าปรับและใบอนุญาต | C10: 397000 | D10: 236987.6 | E10: - | F10: =+C10-D10 -> 160012.4
B11: รายได้จากทรัพย์สิน | C11: 36000 | D11: 143716.51 | E11: + | F11: =+C11-D11 -> -107716.51
B12: รายได้จากสาธารณูปโภคและการพาณิชย์ | C12: 0 | D12: 0 | F12: =+C12-D12 -> 0
B13: รายได้เบ็ดเตล็ด | C13: 170000 | D13: 40400 | E13: - | F13: =+C13-D13 -> 129600
B14: รายได้จากทุน | C14: 0 | D14: 0 | F14: =+C14-D14 -> 0
B15: ภาษีจัดสรร | C15: 10280000 | D15: 12650281 | E15: + | F15: =+C15-D15 -> -2370281
B16: เงินอุดหนุน | C16: 6698700 | D16: 7136395 | E16: + | F16: =+C16-D16 -> -437695
A17: รวมเงินงบประมาณรายรับทั้งสิ้น | C17: =SUM(C9:C16) -> 17751700 | D17: =SUM(D9:D16) -> 20394911 | E17: + | F17: =+C17-D17 -> -2643211.4
A18: เงินอุดหนุนที่รัฐบาลให้โดยระบุวัตถุประสงค์ | D18: =433362.39+7865543 -> 8298905.4
A19: รวมเงินอุดหนุนที่รัฐบาลให้โดยระบุวัตถุประสงค์ | D19: =SUM(D18) -> 8298905.4
B20: รวมรายรับทั้งสิ้น | D20: =D17+D19 -> 28693817
C22: ประมาณการ | D22: รายจ่ายจริง | E22: + | F22: สูง
E23: - | F23: ต่ำ
A24: รายจ่ายตามประมาณการ
B25: งบกลาง | C25: =0+1234530 -> 1234530 | D25: 1016566 | E25: - | F25: =C25-D25 -> 217964
B26: เงินเดือน ( ฝ่ายการเมือง ) | C26: 1700040 | D26: 1688845.2 | E26: - | F26: =C26-D26 -> 11194.78
B27: เงินเดือน ( ฝ่ายประจำ ) | C27: 4002680 | D27: 3495004 | E27: - | F27: =C27-D27 -> 507676.03
B28: ค่าตอบแทน | C28: 1372100 | D28: 1231249 | E28: - | F28: =C28-D28 -> 140851
B29: ค่าใช้สอย | C29: =2220550+168000 -> 2388550 | D29: =1641029.51+167440 -> 1808469.5 | E29: - | F29: =C29-D29 -> 580080.49
B30: ค่าวัสดุ | C30: =992100+899000 -> 1891100 | D30: =728294+858640.8 -> 1586934.8 | E30: - | F30: =C30-D30 -> 304165.2
B31: ค่าสาธารณูปโภค | C31: 405200 | D31: 359048.52 | E31: - | F31: =C31-D31 -> 46151.48
B32: ค่าครุภัณฑ์ | C32: =226900+626600 -> 853500 | D32: =218000+623600 -> 841600 | E32: - | F32: =C32-D32 -> 11900
B33: ค่าที่ดินและสิ่งก่อสร้าง | C33: =752000+1901000 -> 2653000 | D33: =695000+1656000 -> 2351000 | E33: - | F33: =C33-D33 -> 302000
B34: รายจ่ายอื่น | C34: 25000 | D34: 25000 | E34: - | F34: =C34-D34 -> 0
B35: เงินอุดหนุน | C35: =18000+1208000 -> 1226000 | D35: =18000+1169400 -> 1187400 | E35: - | F35: =C35-D35 -> 38600
A36: รวมรายจ่ายตามประมาณการรายจ่ายทั้งสิ้น | C36: =SUM(C25:C35) -> 17751700 | D36: =SUM(D25:D35) -> 15591117 | E36: - | F36: =SUM(F25:F35) -> 2160583
B37: รายจ่ายที่จ่ายจากเงินอุดหนุนที่รัฐบาลให้โดยระบุวัตถุประสงค์ | D37: =433362.39+7865543-176-6800-41753 -> 8250176.4
A38: รวมเงินอุดหนุนที่รัฐบาลให้โดยระบุวัตถุประสงค์ | D38: =SUM(D37) -> 8250176.4
B39: รวมรายจ่ายทั้งสิ้น | D39: =D36+D38 -> 23841293
B40: สูงกว่า | D40: =D20-D39 -> 4852523.4
B41: รายรับ รายจ่าย
B42: (ต่ำกว่า)
B45: (ลงชื่อ) (ลงชื่อ) (ลงชื่อ)
B46: ( นางสุพานี วงษ์นุรักษ์ ) ( นายภูษิต จิตสมพงษ์ ) ( นายเชาวลิต สุพรัตน์ )
B47: หัวหน้าส่วนการคลัง ปลัดองค์การบริหารส่วนตำบล นายกองค์การบริหารส่วนตำบลไชยมนตรี

Sheet พิสูจน์ยอดธนาคาร
A2: องค์การบริหารส่วนตำบลไชยมนตรี อำเภอนครศรีธรรมราช จังหวัดนครศรีธรรมราช
B3: พิสูจน์ยอดเงินฝากธนาคาร
C4: ณ วันที่ 30 กันยายน 2555
A6: เงินสด | H6: 0 | I6: บาท
A7: เงินฝากจังหวัด | H7: 0
A8: เงินฝากธนาคาร | B8: กรุงไทย | C8: ประเภท ออมทรัพย์ | E8: เลขที่ | F8: 801-0-14362-0 | H8: 95950.23
A9: เงินฝากธนาคาร | B9: กรุงไทย | C9: ประเภท ออมทรัพย์ | E9: เลขที่ | F9: 801-0-15216-1 | H9: 4233.41
A10: เงินฝากธนาคาร | B10: กรุงไทย | C10: ประเภท ออมทรัพย์ | E10: เลขที่ | F10: 801-1-20000-3 | H10: 11660081
A11: เงินฝากธนาคาร | B11: กรุงไทย | C11: ประเภท ประจำ | E11: เลขที่ | F11: 801-2-37895-7 | H11: 5000000
A12: เงินฝากธนาคาร | B12: กรุงไทย | C12: ประเภท กระแสรายวัน | E12: เลขที่ | F12: 801-6-06554-6 | H12: 0
A13: เงินฝากธนาคาร | B13: กรุงไทย | C13: ประเภท กระแสรายวัน | E13: เลขที่ | F13: 801-6-05887-6 | H13: 0
A14: เงินฝากธนาคาร | B14: ธกส. | C14: ประเภท ออมทรัพย์ | E14: เลขที่ | F14: 015-2-60209-0 | H14: 207688.92
A15: เงินฝากธนาคาร | B15: ธกส. | C15: ประเภท ประจำ | E15: เลขที่ | F15: 015-4-22289-6 | H15: 1039482.3
A16: ลูกหนี้ภาษีโรงเรือนและที่ดิน | H16: 12186
A17: ลูกหนี้ภาษีบำรุงท้องที่ | H17: 26434.52
A18: ลูกหนี้ภาษีป้าย | H18: 0
A19: ลูกหนี้เงินยืมเงินงบประมาณ | H19: 8688
A20: ลูกหนี้เงินยืมเงินสะสม | H20: 0
H21: =SUM(H6:H20) -> 18054745 | I21: บาท
A23: รายจ่ายผัดส่งใบสำคัญ | H23: 8688 | I23: บาท
A24: เงินอุดหนุนค้างจ่าย | H24: 219400
A25: รายจ่ายค้างจ่ายระหว่างดำเนินการ | H25: 1834923
A26: รายจ่ายค้างจ่าย | H26: 196400
A27: รายจ่ายรอจ่าย | H27: 894000
A28: เงินรับฝาก | H28: 613035.58
A29: ทุนสำรองเงินสะสม | H29: 5820508.6
A30: เงินสะสม | H30: 8467789.4
H31: =SUM(H23:H30) -> 18054745 | I31: บาท

Sheet หมายเหตุ 1
A1: องค์การบริหารส่วนตำบลไชยมนตรี อำเภอเมืองนครศรีธรรมราช จังหวัดนครศรีธรรมราช
A2: งบทรัพย์สิน
A3: ณ วันที่ 30 กันยายน 2555
A5: ประเภททรัพย์สิน | E5: ยกมาจากงวด | G5: รับเพิ่ม | I5: จำหน่าย | K5: ยกไปงวด | M5: ทรัพย์สินเกิดจาก | N5: จำนวนเงิน
E6: ก่อน | G6: งวดนี้ | I6: งวดนี้ | K6: หน้า
A7: ก. | B7: อสังหาริมทรัพย์ | M7: ก. รายได้จากการบริจาค | N7: 0
B8: ที่ดิน | E8: 10381840 | G8: 0 | K8: =E8+G8-I8 -> 10381840 | M8: ข. รับโอนจากสภาตำบล | N8: 98400
B9: อาคาร | E9: 2997500 | G9: 0 | K9: =E9+G9-I9 -> 2997500 | M9: ค. เงินอุดหนุนจากรัฐบาล | N9: =4643240+590000 -> 5233240
A10: ข. | B10: สังหาริมทรัพย์ | G10: 0 | M10: ง. เงินรายได้ อบต. | N10: =6658270+110820 -> 6769090
B11: ครุภัณฑ์สำนักงาน | E11: =3461820+77600 -> 3539420 | G11: =33000+4500+5080+5080+5080+5080 -> 57820 | I11: 0 | K11: =E11+G11-I11 -> 3597240 | M11: จ. เงินกู้พิเศษเพื่อกระตุ้นเศรษฐกิจ | N11: 0
B12: ครุภัณฑ์ยานพาหนะ | E12: 1869000 | G12: =38000+492000+50000+31000 -> 611000 | K12: =E12+G12-I12 -> 2480000 | M12: ฉ. เงินสะสม | N12: 2394480
B13: ครุภัณฑ์งานบ้านงานครัว | E13: 22410 | G13: 0 | K13: =E13+G13-I13 -> 22410 | M13: ช. เงินอุดหนุนเฉพาะกิจ | N13: =5942400+14690+18000 -> 5975090
B14: ครุภัณฑ์โฆษณาและเผยแพร่ | E14: 224930 | G14: 14690 | I14: 0 | K14: =E14+G14-I14 -> 239620 | M14: ฃ. สำรองเงินรายรับ | N14: 0
B15: ครุภัณฑ์สำรวจ | E15: 70400 | G15: 32000 | K15: =E15+G15-I15 -> 102400
B16: ครุภัณฑ์การเกษตร | E16: 57900 | G16: 0 | K16: =E16+G16-I16 -> 57900
B17: ครุภัณฑ์อื่น | E17: 573390 | K17: =E17+G17-I17 -> 573390
B18: ครุภัณฑ์คอมพิวเตอร์ | E18: 0 | G18: 18000 | K18: =E18+G18-I18 -> 18000
E20: =SUM(E8:E19) -> 19736790 | G20: =SUM(G7:G19) -> 733510 | I20: =SUM(I7:I19) -> 0 | K20: =SUM(K8:K19) -> 20470300 | N20: =SUM(N7:N19) -> 20470300
A22: (ลงชื่อ) (ลงชื่อ) (ลงชื่อ)
A23: ( นางสุพานี วงษ์นุรักษ์ ) ( นายภูษิต จิตสมพงษ์ ) ( นายเชาวลิต สุพรัตน์ )
A24: หัวหน้าส่วนการคลัง ปลัดองค์การบริหารส่วนตำบล นายกองค์การบริหารส่วนตำบลไชยมนตรี

Sheet หมายเหตุ 2
H2: หมายเหตุ 2
A4: องค์การบริหารส่วนตำบลไชยมนตรี อำเภอเมืองนครศรีธรรมราช จังหวัดนครศรีธรรมราช
D5: เงินสด เงินฝากธนาคารและเงินฝากจังหวัด
D6: ณ วันที่ 30 กันยายน 2555
A8: เงินสด | H8: 0 | I8: บาท
A9: เงินฝากจังหวัด | H9: 0
A10: เงินฝากธนาคาร
B11: กรุงไทย | C11: ประเภท ออมทรัพย์ | E11: เลขที่ | F11: 801-0-14362-6 | H11: 95950.23
B12: กรุงไทย | C12: ประเภท ออมทรัพย์ | E12: เลขที่ | F12: 801-0-15216-1 | H12: 4233.41
B13: กรุงไทย | C13: ประเภท ออมทรัพย์ | E13: เลขที่ | F13: 801-1-20000-3 | H13: 11660081
B14: กรุงไทย | C14: ประเภท ประจำ | E14: เลขที่ | F14: 801-2-37895-7 | H14: 5000000
B15: กรุงไทย | C15: ประเภท กระแสรายวัน | E15: เลขที่ | F15: 801-6-06554-6 | H15: 0
B16: กรุงไทย | C16: ประเภท กระแสรายวัน | E16: เลขที่ | F16: 801-6-05887-6 | H16: 0
B17: ธกส. | C17: ประเภท ออมทรัพย์ | E17: เลขที่ | F17: 015-2-60209-0 | H17: 207688.92
B18: ธกส. | C18: ประเภท ประจำ | E18: เลขที่ | F18: 015-4-22289-6 | H18: 1039482.3
H19: =SUM(H8:H18) -> 18007436 | I19: บาท

Sheet หมายเหตุ 3
B2: องค์การบริหารส่วนตำบลไชยมนตรี อำเภอเมืองนครศรีธรรมราช จังหวัดนครศรีธรรมราช | G2: หมายเหตุ 3
B3: เงินอุดหนุนค้างจ่าย ( เงินอุดหนุนเฉพาะกิจค้างจ่าย )
B4: ปีงบประมาณ พ.ศ. 2555 | G4: หน้าที่ 1/2
A6: ลำดับที่ | B6: หมวด / ประเภท | C6: จำนวนเงินตาม | D6: ก่อหนี้ผูกพัน | E6: ไม่ก่อหนี้ผูกพัน | F6: เบิกจ่ายแล้ว | G6: คงเหลือ
C7: ใบจัดสรร
B8: เงินอุดหนุนเฉพาะกิจ - เงินอุดหนุนเพื่อเป็นรางวัลสำหรับ อปท. ที่มีการบริหารจัดการที่ดี
B9: ตามหนังสือ สำนักงานปลัดสำนักนายกรัฐมนตรี ที่ นร 0107/ว 1292 ลว. 22 ก.พ. 55 | C9: 286343
B11: ด้าน บริหารงานทั่วไป ( 00100 )
B12: แผนงาน บริหารงานทั่วไป ( 00110 )
B13: งาน บริหารทั่วไป ( 00111 )
B15: หมวด ค่าครุภัณฑ์ ( 410000 ) ประเภท ครุภัณฑ์โฆษณาและเผยแพร่ ( 410700 )
A16: 1 | B16: จัดซื้อกล้องบันทึกวีดีโอ แบบ HD ( สีดำ ) จำนวน 1 เครื่อง | D16: 14690 | F16: 14690 | G16: =+D16-F16 -> 0
B18: งาน บริหารงานคลัง ( 00113 )
B20: หมวด ค่าวัสดุ ( 330000 ) ประเภท วัสดุคอมพิวเตอร์ ( 331400 )
A21: 2 | B21: จัดซื้อโปรแกรมระบบประปา | D21: 18000 | F21: 18000 | G21: =+D21-F21 -> 0
B22: หมวด ค่าครุภัณฑ์ ( 410000 ) ประเภท ครุภัณฑ์คอมพิวเตอร์ ( 411600 )
A23: 3 | B23: จัดซื้อเครื่องคอมพิวเตอร์ สำหรับงานสำนักงาน (จอขนาดไม่น้อยกว่า 18 นิ้ว) จำนวน 3 เครื่อง | E23: 45000 | F23: 0 | G23: =+E23-F23 -> 45000
A24: 4 | B24: จัดซื้อเครื่องสำรองไฟฟ้า ขนาด 750 VA จำนวน 3 เครื่อง | E24: 5400 | F24: 0 | G24: =+E24-F24 -> 5400
A25: 5 | B25: จัดซื้อเครื่องพิมพ์ ชนิด Dot Matrix Printer แบบแคร่ยาว จำนวน 1 เครื่อง | E25: 23000 | F25: 0 | G25: =+E25-F25 -> 23000
B27: หมวด ค่าครุภัณฑ์ ( 410000 ) ประเภท ครุภัณฑ์โฆษณาและเผยแพร่ ( 410700 )
A28: 6 | B28: จัดจ้างทำป้ายประชาสัมพันธ์ ขนาดความกว้าง 2.00 เมตร สูง 2.50 เมตร จำนวน 6 ป้าย | E28: 39000 | F28: 0 | G28: =+E28-F28 -> 39000
B30: ด้าน บริการชุมชนและสังคม ( 00200 )
B31: แผนงาน เคหะและชุมชน ( 00240 )
B32: งาน บริหารทั่วไปเกี่ยวกับเคหะและชุมชน ( 00241 )
B34: หมวด ค่าที่ดินและสิ่งก่อสร้าง ( 420000 ) ประเภท ค่าก่อสร้างสิ่งสาธารณูปโภค ( 421000 )
A35: 7 | B35: โครงการก่อสร้างโรงจอดรถที่ทำการ อบต. ไชยมนตรี | E35: 99500 | F35: 0 | G35: =+E35-F35 -> 99500
A37: *** | B37: มิได้จัดทำโครงการใด โอนเข้าบัญชีเงินสะสม | F37: 41753 | G37: 0
B38: รวม | C38: =SUM(C8:C37) -> 286343 | D38: =SUM(D8:D37) -> 32690 | E38: =SUM(E8:E37) -> 211900 | F38: =SUM(F8:F37) -> 74443 | G38: =SUM(G8:G37) -> 211900
B41: องค์การบริหารส่วนตำบลไชยมนตรี อำเภอเมืองนครศรีธรรมราช จังหวัดนครศรีธรรมราช | G41: หมายเหตุ 3
B42: เงินอุดหนุนค้างจ่าย ( เงินอุดหนุนเฉพาะกิจค้างจ่าย )
B43: ปีงบประมาณ พ.ศ. 2555 | G43: หน้าที่ 2/2
A45: ลำดับที่ | B45: หมวด / ประเภท | C45: จำนวนเงินตาม | D45: ก่อหนี้ผูกพัน | E45: ไม่ก่อหนี้ผูกพัน | F45: เบิกจ่ายแล้ว | G45: คงเหลือ
C46: ใบจัดสรร
B47: เงินอุดหนุนเฉพาะกิจ - ค่าใช้จ่ายสำหรับสนับสนุนการสงเคราะห์เบี้ยยังชีพความพิการ
B48: งวดที่ 1 จำนวน 181 ราย @ 500 บาท / เดือน สำหรับเดือน ต.ค.54 - พ.ย. 54 | C48: 181000
B49: งวดที่ 2 จำนวน 181 ราย @ 500 บาท / เดือน สำหรับเดือน ธ.ค.54 - ม.ค.55 | C49: 181000
B50: งวดที่ 3 จำนวน 181 ราย @ 500 บาท / เดือน สำหรับเดือน ก.พ.55 - ก.ย.55 | C50: 724000
B52: ด้าน การดำเนินงานอื่น ( 00400 )
B53: แผนงาน งบกลาง ( 00410 )
B54: งาน งบกลาง ( 00411 )
B56: หมวด งบกลาง ( 100000 ) ประเภท เบี้ยยังชีพคนพิการ ( 110800 ) | D56: 1078500 | F56: 1078500 | G56: =+C48+C49+C50-F56 -> 7500
B58: รวม | C58: =SUM(C47:C57) -> 1086000 | D58: =SUM(D47:D57) -> 1078500 | E58: =SUM(E47:E57) -> 0 | F58: =SUM(F47:F57) -> 1078500 | G58: =SUM(G47:G57) -> 7500
B59: รวมเงินอุดหนุนค้างจ่ายทั้งสิ้น | G59: =+G38+G58 -> 219400

Sheet หมายเหตุ 4
H3: หมายเหตุ 4
A4: องค์การบริหารส่วนตำบลไชยมนตรี อำเภอเมืองนครศรีธรรมราช จังหวัดนครศรีธรรมราช
A5: รายจ่ายค้างจ่ายระหว่างดำเนินการ
A6: ปีงบประมาณ พ.ศ. 2555
H7: หน้า 1/3
A9: หมวด / ประเภท | D9: จำนวนเงิน | F9: เบิกจ่ายแล้ว | G9: คงเหลือ | H9: หมายเหตุ
D10: ก่อหนี้ผูกพัน | E10: ไม่ก่อหนี้ผูกพัน
A11: รายจ่ายค้างจ่ายระหว่างดำเนินการ
A12: ด้าน | C12: บริหารงานทั่วไป ( 00100 )
A13: แผนงาน | C13: บริหารงานทั่วไป ( 00110 )
A14: งาน | C14: บริหารทั่วไป ( 00111 )
A15: หมวด | C15: ค่าใช้สอย ( 320000 )
B16: ประเภท รายจ่ายเพื่อให้ได้มาซึ่งบริการ ( 320100 ) ( จ่ายจากเงินรายได้ )
A17: ( 1 ) | B17: รายการ ค่าบริการพื้นที่เว็บไซด์ | D17: 5831 | E17: 0 | F17: 0 | G17: =D17-F17 -> 5831 | H17: ฎป. 564/845 ลว. 28 ก.ย. 55
A18: ( 2 ) | B18: รายการ ค่าจ้างเหมาบริการจัดเก็บขยะมูลฝอย | D18: 5500 | E18: 0 | F18: 0 | G18: =D18-F18 -> 5500 | H18: ฎป. 563/844 ลว. 28 ก.ย. 55
A20: ด้าน | C20: บริหารงานทั่วไป ( 00100 )
A21: แผนงาน | C21: การรักษาความสงบภายใน ( 00120 )
A22: งาน | C22: ป้องกันภัยฝ่ายพลเรือนและระงับอัคคีภัย ( 00123 )
A23: หมวด | C23: ค่าใช้สอย ( 320000 )
B24: ประเภท รายจ่ายเพื่อให้ได้มาซึ่งบริการ ( 320100 ) ( จ่ายจากเงินรายได้ )
A25: ( 3 ) | B25: รายการ ค่าจ้างเหมาบริการรักษาความปลอดภัยที่ทำการ อบต. | D25: 4500 | E25: 0 | F25: 0 | G25: =D25-F25 -> 4500 | H25: ฎป. 565/846 ลว. 28 ก.ย. 55
H31: หน้า 2/3
A32: หมวด / ประเภท | D32: จำนวนเงิน | F32: เบิกจ่ายแล้ว | G32: คงเหลือ | H32: หมายเหตุ
D33: ก่อหนี้ผูกพัน | E33: ไม่ก่อหนี้ผูกพัน
A34: รายจ่ายค้างจ่ายระหว่างดำเนินการ
A35: ด้าน | C35: บริการชุมชนและสังคม ( 00200 )
A36: แผนงาน | C36: เคหะและชุมชน ( 00240 )
A37: งาน | C37: บริหารทั่วไปเกี่ยวกับเคหะและชุมชน ( 00241 )
A38: หมวด | C38: ค่าวัสดุ ( 330000 )
B39: ประเภท ค่าวัสดุก่อสร้าง ( 330600 ) ( จ่ายจากเงินรายได้ )
A40: ( 4 ) | B40: รายการ | C40: 1. ซื้อวัสดุก่อสร้าง จำนวน 15 รายการ | D40: 25830 | E40: 0 | F40: 0 | G40: =D40-F40 -> 25830 | H40: ฎย. 148/848 ลว. 28 ก.ย. 55
A41: ( 5 ) | B41: รายการ | C41: 2. ซื้อหินคลุกพร้อมเกลี่ยเรียบ | D41: 56262 | E41: 0 | F41: 0 | G41: =D41-F41 -> 56262 | H41: ฎย. 149/849 ลว. 28 ก.ย. 55
A42: งาน | C42: ไฟฟ้าถนน ( 00242 )
A43: หมวด | C43: ค่าที่ดินและสิ่งก่อสร้าง ( 420000 )
B44: ประเภท ค่าก่อสร้างสิ่งสาธารณูปโภค ( 421000 ) ( จ่ายจากเงินรายได้ )
A45: ( 6 ) | B45: รายการ | C45: 1. โครงการก่อสร้างบุกเบิกถนนสายหนองคล้า หมู่ที่ 4 | D45: 139000 | E45: 0 | F45: 0 | G45: =D45-F45 -> 139000 | H45: ฎย. 158/858 ลว. 28 ก.ย. 55
A46: ( 7 ) | C46: 2. โครงการก่อสร้างศาลาแม่ศรีดอกไม้ หมู่ที่ 4 | D46: 60600 | E46: 0 | F46: 0 | G46: =D46-F46 -> 60600 | H46: ฎย. 166/866 ลว. 28 ก.ย. 55
A47: ( 8 ) | C47: 3. โครงการขยายเขตประปา สายสี่แยกทุ่งแย้ - ชลประทาน หมู่ที่ 2 | D47: 218000 | E47: 0 | F47: 0 | G47: =D47-F47 -> 218000 | H47: ฎย. 156/856 ลว. 28 ก.ย. 55
B48: ประเภท ค่าก่อสร้างสิ่งสาธารณูปโภค ( 421000 ) ( จ่ายจากเงินอุดหนุนทั่วไป )
A49: ( 9 ) | C49: 4. โครงการซ่อมแซมถนนสายวัดน้ำรอบ - หว้าเทียน หมู่ที่ 1 | D49: 509000 | E49: 0 | F49: 0 | G49: =D49-F49 -> 509000 | H49: ฎย. 157/857 ลว. 28 ก.ย. 55
A50: ( 10 ) | C50: 5. โครงการก่อสร้างถนน คสล. สายนาโพธิ์ - หนองบัว หมู่ที่ 5 | D50: 67000 | E50: 0 | F50: 0 | G50: =D50-F50 -> 67000 | H50: ฎย. 159/859 ลว. 28 ก.ย. 55
A51: ( 11 ) | C51: 6. โครงการก่อสร้างถนน คสล. สายชลประทานวังรัก-ทุ่งทิศพรหม หมู่ที่ 5 | D51: 67000 | E51: 0 | F51: 0 | G51: =D51-F51 -> 67000 | H51: ฎย. 160/860 ลว. 28 ก.ย. 55
A52: ( 12 ) | C52: 7. โครงการก่อสร้างถนน คสล. สายน้ำพุ-น้ำพุออก-ชลประทาน หมู่ที่ 4 | D52: 149000 | E52: 0 | F52: 0 | G52: =D52-F52 -> 149000 | H52: ฎย. 161/861 ลว. 28 ก.ย. 55
A53: ( 13 ) | C53: 8. โครงการก่อสร้างถนน คสล. สายวัดน้ำรอบ - นาคู หมู่ที่ 1 | D53: 67000 | E53: 0 | F53: 0 | G53: =D53-F53 -> 67000 | H53: ฎย. 162/862 ลว. 28 ก.ย. 55
A54: ( 14 ) | C54: 9. โครงการก่อสร้างถนน คสล. สายชลประทาน - สวนตอ หมู่ที่ 1 | D54: 67000 | E54: 0 | F54: 0 | G54: =D54-F54 -> 67000 | H54: ฎย. 163/863 ลว. 28 ก.ย. 55
A55: ( 15 ) | C55: 10. โครงการก่อสร้างถนน คสล. สายคลองหัก - พระเขียน หมู่ที่ 2 | D55: 67000 | E55: 0 | F55: 0 | G55: =D55-F55 -> 67000 | H55: ฎย. 164/864 ลว. 28 ก.ย. 55
A56: ( 16 ) | C56: 11.โครงการก่อสร้างถนน คสล. สายตลาดเสาร์ - ใต้ม่วง หมู่ที่ 2 | D56: 67000 | E56: 0 | F56: 0 | G56: =D56-F56 -> 67000 | H56: ฎย. 165/865 ลว. 28 ก.ย. 55
H60: หน้า 3/3
A61: หมวด / ประเภท | D61: จำนวนเงิน | F61: เบิกจ่ายแล้ว | G61: คงเหลือ | H61: หมายเหตุ
D62: ก่อหนี้ผูกพัน | E62: ไม่ก่อหนี้ผูกพัน
A63: รายจ่ายค้างจ่ายระหว่างดำเนินการ
A64: ด้าน | C64: บริการชุมชนและสังคม ( 00200 )
A65: แผนงาน | C65: เคหะและชุมชน ( 00240 )
A66: งาน | C66: ไฟฟ้าถนน ( 00242 )
A67: หมวด | C67: ค่าที่ดินและสิ่งก่อสร้าง ( 420000 ) ( จ่ายจากเงินรายได้ )
B68: ประเภท ค่าบำรุงรักษาและปรับปรุงที่ดินและสิ่งก่อสร้าง ( 421100 )
A69: ( 17 ) | B69: รายการ | C69: 1. โครงการถมดินริมตลิ่งริมคลองท่าดี (บริเวณบ้านนบเตียน) หมู่ที่ 5 | D69: 99000 | E69: 0 | F69: 0 | G69: =D69-F69 -> 99000 | H69: ฎย. 150/850 ลว. 28 ก.ย. 55
A70: ( 18 ) | B70: รายการ | C70: 2. โครงการซ่อมแซมถนน คสล. สายหนองบัว - ศาลาใหม่ หมู่ที่ 3 | D70: 30500 | E70: 0 | F70: 0 | G70: =D70-F70 -> 30500 | H70: ฎย. 151/851 ลว. 28 ก.ย. 55
A71: ( 19 ) | B71: รายการ | C71: 3. โครงการซ่อมแซมถนน คสล. สายนาป่า - หนองบัว หมู่ที่ 4 | D71: 15800 | E71: 0 | F71: 0 | G71: =D71-F71 -> 15800 | H71: ฎย. 152/852 ลว. 28 ก.ย. 55
A72: ( 20 ) | B72: รายการ | C72: 4. โครงการซ่อมแซมถนน คสล. สายแสงเทศนิเวศน์ หมู่ที่ 4 | D72: 21500 | E72: 0 | F72: 0 | G72: =D72-F72 -> 21500 | H72: ฎย. 153/853 ลว. 28 ก.ย. 55
A73: ( 21 ) | B73: รายการ | C73: 5. โครงการซ่อมแซมถนน คสล. สายหว้าเทียน - หว้ายาน หมู่ที่ 2 | D73: 73000 | E73: 0 | F73: 0 | G73: =D73-F73 -> 73000 | H73: ฎย. 154/854 ลว. 28 ก.ย. 55
A74: ( 22 ) | B74: รายการ | C74: 6. โครงการซ่อมเปลี่ยนอุปกรณ์ไฟฟ้าสาธารณะ หมู่ที่ 1 - 5 | D74: 19600 | E74: 0 | F74: 0 | G74: =D74-F74 -> 19600 | H74: ฎย. 155/855 ลว. 28 ก.ย. 55
C81: รวมจำนวนเงินทั้งสิ้น | D81: =SUM(D12:D79) -> 1834923 | E81: =SUM(E12:E79) -> 0 | F81: =SUM(F12:F79) -> 0 | G81: =SUM(G12:G79) -> 1834923

Sheet หมายเหตุ 5
H3: หมายเหตุ 5
A4: องค์การบริหารส่วนตำบลไชยมนตรี อำเภอเมืองนครศรีธรรมราช จังหวัดนครศรีธรรมราช
A5: รายจ่ายค้างจ่าย
A6: ปีงบประมาณ พ.ศ. 2555
H7: หน้าที่ 1/2
A8: หมวด / ประเภท | D8: จำนวนเงิน | F8: เบิกจ่ายแล้ว | G8: คงเหลือ | H8: หมายเหตุ
D9: ก่อหนี้ผูกพัน | E9: ไม่ก่อหนี้ผูกพัน
A10: รายจ่ายค้างจ่าย
A11: ด้าน | C11: บริหารงานทั่วไป ( 00100 )
A12: แผนงาน | C12: บริหารงานทั่วไป ( 00110 )
A13: งาน | C13: บริหารทั่วไป ( 00111 )
A14: หมวด | C14: ค่าครุภัณฑ์ ( 410000 )
B15: ประเภท ครุภัณฑ์คอมพิวเตอร์ ( 411600 ) ( จ่ายจากเงินรายได้ )
A16: ( 1 ) | B16: รายการ จัดซื้อเครื่องคอมพิวเตอร์ สำหรับงานสำนักงานฯ จำนวน 1 เครื่อง | E16: 15000 | F16: 0 | G16: =+E16-F16 -> 15000 | H16: ฎป. 568/870 ลว. 28 ก.ย. 55
A17: ( 2 ) | B17: รายการ จัดซื้อเครื่องสำรองไฟฟ้า ขนาด 750 VA จำนวน 1 เครื่อง | E17: 1800 | F17: 0 | G17: =+E17-F17 -> 1800 | H17: ฎป. 569/871 ลว. 28 ก.ย. 55
A19: ด้าน | C19: บริการชุมชนและสังคม ( 00200 )
A20: แผนงาน | C20: เคหะและชุมชน ( 00240 )
A21: งาน | C21: บริหารทั่วไปเกี่ยวกับเคหะและชุมชน ( 00241 )
A22: หมวด | C22: ค่าครุภัณฑ์ ( 410000 )
B23: ประเภท ครุภัณฑ์คอมพิวเตอร์ ( 411600 ) ( จ่ายจากเงินอุดหนุนทั่วไป )
A24: ( 1 ) | B24: รายการ จัดซื้อเครื่องคอมพิวเตอร์ สำหรับงานสำนักงานฯ จำนวน 2 เครื่อง | E24: 30000 | F24: 0 | G24: =+E24-F24 -> 30000 | H24: ฎย. 168/872 ลว. 28 ก.ย. 55
A25: ( 2 ) | B25: รายการ จัดซื้อเครื่องสำรองไฟฟ้า ขนาด 750 VA จำนวน 2 เครื่อง | E25: 3600 | F25: 0 | G25: =+E25-F25 -> 3600 | H25: ฎย. 169/873 ลว. 28 ก.ย. 55
H32: หน้าที่ 2/2
A33: หมวด / ประเภท | D33: จำนวนเงิน | F33: เบิกจ่ายแล้ว | G33: คงเหลือ | H33: หมายเหตุ
D34: ก่อหนี้ผูกพัน | E34: ไม่ก่อหนี้ผูกพัน
A35: รายจ่ายค้างจ่าย
A36: ด้าน | C36: บริการชุมชนและสังคม ( 00200 )
A37: แผนงาน | C37: เคหะและชุมชน ( 00240 )
A38: งาน | C38: ไฟฟ้าถนน ( 00242 )
A39: หมวด | C39: ค่าที่ดินและสิ่งก่อสร้าง ( 420000 )
B40: ประเภท ค่าก่อสร้างสิ่งสาธารณูปโภค ( 421000 ) ( จ่ายจากเงินอุดหนุนทั่วไป )
A41: ( 1 ) | B41: รายการ | C41: โครงการขยายเขตประปา สายนาป่า - หว้ายาน หมู่ที่ 2 | E41: 146000 | F41: 0 | G41: =+E41-F41 -> 146000 | H41: ฎย. 170/874 ลว. 28 ก.ย. 55
C47: รวมจำนวนเงินทั้งสิ้น | D47: =SUM(D11:D45) -> 0 | E47: =SUM(E11:E45) -> 196400 | F47: =SUM(F11:F45) -> 0 | G47: =SUM(G11:G45) -> 196400

Sheet หมายเหตุ 6
A2: องค์การบริหารส่วนตำบลไชยมนตรี อำเภอเมืองนครศรีธรรมราช จังหวัดนครศรีธรรมราช
A3: รายจ่ายค้างจ่าย (รายจ่ายรอจ่าย)
A4: ปีงบประมาณ พ.ศ. 2555
A5: ณ วันที่ 30 กันยายน 2555
A7: หมวด / ประเภท | D7: จำนวนเงิน | F7: เบิกจ่ายแล้ว | G7: คงเหลือ | H7: หมายเหตุ
D8: ก่อหนี้ผูกพัน | E8: ไม่ก่อหนี้ผูกพัน
B10: ด้าน | C10: บริหารงานทั่วไป ( 00100 )
B11: แผนงาน | C11: บริหารงานทั่วไป ( 00110 )
B12: งาน | C12: บริหารทั่วไป ( 00111 )
B13: หมวด | C13: ค่าตอบแทน ( 310000 )
B14: ประเภท | C14: ค่าตอบแทนผู้ปฏิบัติราชการอันเป็นประโยชน์แก่ อปท. ( 310100 )
A15: ( 1 ) | B15: รายการ | C15: เงินประโยชน์ตอบแทนอื่นเป็นกรณีพิเศษ (เงินรางวัลประจำปี) | E15: 478500 | F15: 0 | G15: =E15-F15 -> 478500 | H15: ฎป. 567/864 ลว. 28 ก.ย. 55
C16: สำหรับพนักงานส่วนตำบล พนักงานจ้าง
B18: งาน | C18: บริหารงานคลัง ( 00113 )
B19: หมวด | C19: ค่าตอบแทน ( 310000 )
B20: ประเภท | C20: ค่าตอบแทนผู้ปฏิบัติราชการอันเป็นประโยชน์แก่ อปท. ( 310100 )
A21: ( 2 ) | B21: รายการ | C21: เงินประโยชน์ตอบแทนอื่นเป็นกรณีพิเศษ (เงินรางวัลประจำปี) | E21: 241500 | F21: 0 | G21: =E21-F21 -> 241500 | H21: ฎค. 129/868 ลว. 28 ก.ย. 55
C22: สำหรับพนักงานส่วนตำบล พนักงานจ้าง
B24: ด้าน | C24: บริการชุมชนและสังคม ( 00200 )
B25: แผนงาน | C25: เคหะและชุมชน ( 00240 )
B26: งาน | C26: บริหารทั่วไปเกี่ยวกับเคหะและชุมชน ( 00241 )
B27: หมวด | C27: ค่าตอบแทน ( 310000 )
B28: ประเภท | C28: ค่าตอบแทนผู้ปฏิบัติราชการอันเป็นประโยชน์แก่ อปท. ( 310100 )
A29: ( 3 ) | B29: รายการ | C29: เงินประโยชน์ตอบแทนอื่นเป็นกรณีพิเศษ (เงินรางวัลประจำปี) | E29: 174000 | F29: 0 | G29: =E29-F29 -> 174000 | H29: ฎย. 167/869 ลว. 28 ก.ย. 55
C30: สำหรับพนักงานส่วนตำบล พนักงานจ้าง
C32: รวมจำนวนเงินทั้งสิ้น | D32: =SUM(D9:D30) -> 0 | E32: =SUM(E9:E30) -> 894000 | F32: =SUM(F9:F30) -> 0 | G32: =SUM(G9:G30) -> 894000

Sheet รายจ่ายที่รอจ่าย
A4: องค์การบริหารส่วนตำบลไชยมนตรี อำเภอเมืองนครศรีธรรมราช จังหวัดนครศรีธรรมราช
A5: รายจ่ายรอจ่าย
A6: ประจำปีงบประมาณ พ.ศ. 2555
A8: เลขที่ฎีกา | B8: หมวด / ประเภท | E8: จำนวนเงินที่รอจ่าย | G8: หมายเหตุ
C9: ด้าน | D9: บริหารงานทั่วไป ( 00100 )
C10: แผนงาน | D10: บริหารงานทั่วไป ( 00110 )
C11: งาน | D11: บริหารทั่วไป ( 00111 )
C12: หมวด | D12: ค่าตอบแทน ( 310000 )
C13: ประเภท | D13: ค่าตอบแทนผู้ปฏิบัติราชการอันเป็นประโยชน์แก่ อปท. ( 310100 )
A14: ฎป. 567/864 | C14: รายการ | D14: เงินประโยชน์ตอบแทนอื่นเป็นกรณีพิเศษ (เงินรางวัลประจำปี) | E14: 478500
D15: สำหรับพนักงานส่วนตำบล พนักงานจ้าง
C17: งาน | D17: บริหารงานคลัง ( 00113 )
C18: หมวด | D18: ค่าตอบแทน ( 310000 )
C19: ประเภท | D19: ค่าตอบแทนผู้ปฏิบัติราชการอันเป็นประโยชน์แก่ อปท. ( 310100 )
A20: ฎค. 129/868 | C20: รายการ | D20: เงินประโยชน์ตอบแทนอื่นเป็นกรณีพิเศษ (เงินรางวัลประจำปี) | E20: 241500
D21: สำหรับพนักงานส่วนตำบล พนักงานจ้าง
C23: ด้าน | D23: บริการชุมชนและสังคม ( 00200 )
C24: แผนงาน | D24: เคหะและชุมชน ( 00240 )
C25: งาน | D25: บริหารทั่วไปเกี่ยวกับเคหะและชุมชน ( 00241 )
C26: หมวด | D26: ค่าตอบแทน ( 310000 )
C27: ประเภท | D27: ค่าตอบแทนผู้ปฏิบัติราชการอันเป็นประโยชน์แก่ อปท. ( 310100 )
A28: ฎย. 167/869 | C28: รายการ | D28: เงินประโยชน์ตอบแทนอื่นเป็นกรณีพิเศษ (เงินรางวัลประจำปี) | E28: 174000
D29: สำหรับพนักงานส่วนตำบล พนักงานจ้าง
D32: รวมทั้งสิ้น | E32: =SUM(E12:E28) -> 894000

Sheet หมายเหตุ 7
H4: หมายเหตุ 7
A6: องค์การบริหารส่วนตำบลไชยมนตรี อำเภอเมืองนครศรีธรรมราช จังหวัดนครศรีธรรมราช
D7: เงินรับฝาก
C8: ณ วันที่ 30 กันยายน 2555
A11: ภาษีหัก ณ ที่จ่าย | G11: 5431.47 | I11: บาท
A12: เงินประกันสัญญา | G12: 506224
A13: ค่าใช้จ่ายในการจัดเก็บ ภ.บ.ท. 5% | G13: 1565.79
A14: ส่วนลดในการจัดเก็บ ภ.บ.ท. 6% | G14: 3864.09
A15: เงินทุนโครงการเศรษฐกิจชุมชน ( บัญชี 2 ) | G15: 95950.23
E16: รวม | G16: =SUM(G11:G15) -> 613035.58 | I16: บาท

Sheet หมายเหตุ 8
G1: หมายเหตุ 8
A2: องค์การบริหารส่วนตำบลไชยมนตรี อำเภอเมืองนครศรีธรรมราช จังหวัดนครศรีธรรมราช
D3: งบเงินสะสม
D4: ณ วันที่ 30 กันยายน 2555
A6: เงินสะสม 1 ตุลาคม 2554 | G6: 6510227.1 | H6: บาท
A7: บวก | B7: รายรับจริงสูงกว่ารายจ่ายจริง | E7: 4852523.4
B8: รับเงินช่วยเหลือคนพิการในการปรับสภาพที่อยู่อาศัย | E8: 20000
B9: รับเงินอุดหนุนกิจกรรมศูนย์พัฒนาครอบครัวในชุมชน | E9: 10000
B10: รับเงินอุดหนุนโครงการสร้างบทบาทและพื้นที่สำหรับเด็ก | E10: 100
B11: รับเงินรายได้กิจการประปา | E11: 132399.8
B12: รับเงินค่าขายแบบแปลน-งบไทยเข้มแข็ง | E12: 137500
B13: รายจ่ายค้างจ่ายระหว่างดำเนินการ ปี 2554 เหลือจ่าย | E13: 27883 | G13: =SUM(E7:E13) -> 5180406.2 | H13: บาท
A15: หัก | B15: รายได้ค้างรับงวดนี้ต่ำกว่างวดก่อน | E15: 0
B16: เงินทุนสำรองเงินสะสมประจำปี | E16: 1213130.9
B17: จ่ายขาดเงินสะสม | E17: 2009713 | G17: =SUM(E16:E17) -> 3222843.9 | H17: บาท
A18: เงินสะสม 30 กันยายน 2555 | G18: =+G6+G13-G17 -> 8467789.5 | H18: บาท
A20: เงินสะสม 30 กันยายน 2555 | D20: ประกอบด้วย
B21: 1.หุ้นในโรงพิมพ์ส่วนท้องถิ่น | G21: 0 | H21: บาท
B22: 2. เงินฝาก ก.ส.ท. หรือ กสอ. | G22: 0
B23: 3. ลูกหนี้ภาษีโรงเรือนและที่ดิน | G23: 12186
B24: 4. ลูกหนี้ภาษีบำรุงท้องที่ | G24: 26434.52
B25: 5. ลูกหนี้ภาษีป้าย | G25: 0
B26: 6. ลูกหนี้เงินยืมเงินงบประมาณ | G26: 8688
B27: 7. ลูกหนี้เงินยืมเงินสะสม | G27: 0
B28: 8. เงินสะสมที่สามารถนำไปใช้ได้ | G28: =+G18-G23-G24-G25-G26-G27 -> 8420480.9
G29: =SUM(G21:G28) -> 8467789.5 | H29: บาท
A34: (ลงชื่อ) (ลงชื่อ) ส.ต.ต. (ลงชื่อ)
A35: ( นางสุพานี วงษ์นุรักษ์ ) ( ไพโรจน์ องอาจ ) ( นายสมเกียรติ สุทธิพันธ์ )
A36: หัวหน้าส่วนการคลัง ปลัดองค์การบริหารส่วนตำบล นายกองค์การบริหารส่วนตำบลดอนตะโก

Sheet Sheet2

Sheet Sheet1
