Workbook

Sheet กู้คืน_Sheet1

Sheet งบทดลอง
A2: องค์การบริหารส่วนตำบลไชยมนตรี อำเภอเมือง จังหวัดนครศรีธรรมราช
A3: งบทดลอง
A4: ณ วันที่ 31 กรกฏาคม 2555
A6: รายการ | B6: รหัสบัญชี | C6: เดบิท | E6: เครดิต
A7: เงินสด | B7: 110100 | C7: -
A8: เงินฝากจังหวัด | B8: 120100 | C8: 0
A9: เงินฝากธนาคาร กรุงไทย - ออมทรัพย์ เลขที่ 801 - 0 - 14362 - 6 | B9: 110201 | C9: 63534.23
A10: เงินฝากธนาคาร กรุงไทย - ออมทรัพย์ เลขที่ 801 - 0 - 15216 - 1 | B10: 110201 | C10: 4233.41
A11: เงินฝากธนาคาร กรุงไทย - ออมทรัพย์ เลขที่ 801 - 1 - 20000 - 3 | B11: 110201 | C11: 12838782
A12: เงินฝากธนาคาร กรุงไทย - ประจำ เลขที่ 801 - 2 - 37895 - 7 | B12: 110202 | C12: 5000000
A13: เงินฝากธนาคาร กรุงไทย - กระแสรายวัน เลขที่ 801 - 6 - 06554 - 6 | B13: 110203 | C13: 0
A14: เงินฝากธนาคาร กรุงไทย - กระแสรายวัน เลขที่ 801 - 6 - 05887- 6 | B14: 110203 | C14: 0
A15: เงินฝากธนาคาร ธกส. - ออมทรัพย์ เลขที่ 015 - 2 - 60209 - 0 | B15: 110201 | C15: 202507.94
A16: เงินฝากธนาคาร ธกส. - ประจำ เลขที่ 015 - 4 - 22289 - 6 | B16: 110202 | C16: 1039482.3
A17: ลูกหนี้ - ภาษีโรงเรือนและที่ดิน | B17: 110601 | C17: 22525
A18: ลูกหนี้ - ภาษีบำรุงท้องที่ | B18: 110602 | C18: 4883.55
A19: ลูกหนี้ - ภาษีป้าย | B19: 110603 | C19: 600
... A21: ลูกหนี้ - เงินยืมเงินสะสม | B21: 110606 | C21: 52480
A22: ภาษีหน้าฏีกา | B22: 140000 | C22: 0
A23: งบกลาง | B23: 100000 | C23: 0
A24: เงินเดือน ( ฝ่ายการเมือง ) | B24: 210000 | C24: 1413118.1
A25: เงินเดือน ( ฝ่ายประจำ ) | B25: 220000 | C25: 2929821.7
A26: ค่าตอบแทน | B26: 310000 | C26: 233728
A27: ค่าใช้สอย | B27: 320000 | C27: 1089873
A28: ค่าวัสดุ | B28: 330000 | C28: 490130
A29: ค่าสาธารณูปโภค | B29: 340000 | C29: 291507.61
A30: ค่าครุภัณฑ์ | B30: 410000 | C30: 148220
A31: ค่าที่ดินและสิ่งก่อสร้าง | B31: 420000 | C31: 18000
A32: รายจ่ายอื่น | B32: 510000 | C32: 25000
A33: เงินอุดหนุน | B33: 610000 | C33: 5000
... A42: ค่าใช้สอย | B42: 7320000 | C42: 94500
A43: รายจ่ายค้างจ่ายระหว่างดำเนินการ | B43: 210401 | E43: 27883
A44: เงินสะสม | B44: 300000 | E44: 4613961.1
A45: รายรับ | B45: 400000 | E45: 25233042
A46: เงินรับฝาก | B46: 230100 | E46: 1056265.3
A47: ทุนสำรองเงินสะสม | B47: 320000 | E47: 4607377.8
C48: =SUM(C7:C47) -> 35538529 | E48: =SUM(E7:E47) -> 35538529 | I48: =+C48-E48 -> 0 | J48: =C48-E48 -> 0 | K48: =C48-E48 -> 0

Sheet รายงานรับ-จ่ายเงินสด
A1: องค์การบริหารส่วนตำบลไชยมนตรี อำเภอเมือง จังหวัดนครศรีธรรมราช
D2: ปีงบประมาณ 2555
A3: รายงานรับ - จ่าย เงินสด
C4: ประจำเดือน | E4: กรกฎาคม 2555
A6: จนถึงปัจจุบัน | E6: เดือนนี้
A7: ประมาณการ | B7: เกิดขึ้นจริง | C7: รายการ | D7: รหัสบัญชี | E7: เกิดขึ้นจริง
A8: บาท | B8: บาท | E8: บาท
B9: 13718251 | C9: ยอดยกมา | E9: 19925636
C10: รายรับ
A11: 170000 | B11: =+'[1]รายงานรับ-จ่าย'!$B$13+E11 -> 145536.17 | C11: ภาษีอากร | D11: 411000 | E11: =+'[2]มาตรฐาน 3'!G8+'[2]มาตรฐาน 3'!G9+'[2]มาตรฐาน 3'!G10 -> 56.25
A12: 397000 | B12: =+'[1]รายงานรับ-จ่าย'!$B$14+E12 -> 187817.6 | C12: ค่าธรรมเนียม ค่าปรับและใบอนุญาต | D12: 412000 | E12: =+'[2]มาตรฐาน 3'!G11+'[2]มาตรฐาน 3'!G12+'[2]มาตรฐาน 3'!G13+'[2]มาตรฐาน 3'!G14+'[2]มาตรฐาน 3'!G15+'[2]มาตรฐาน 3'!G16+'[2]มาตรฐาน 3'!G17+'[2]มาตรฐาน 3'!G18+'[2]มาตรฐาน 3'!G19 -> 27196.79
A13: 36000 | B13: =+'[1]รายงานรับ-จ่าย'!$B$15+E13 -> 138535.53 | C13: รายได้จากทรัพย์สิน | D13: 413000 | E13: =+'[2]มาตรฐาน 3'!G20 -> 57844.71
A14: 0 | B14: =+'[1]รายงานรับ-จ่าย'!$B$16+E14 -> 0 | C14: รายได้จากสาธารณูปโภคและการพาณิชย์ | D14: 414000 | E14: =+'[2]มาตรฐาน 3'!G21 -> 0
A15: 170000 | B15: =+'[1]รายงานรับ-จ่าย'!$B$17+E15 -> 15000 | C15: รายได้เบ็ดเตล็ด | D15: 415000 | E15: =+'[2]มาตรฐาน 3'!G22+'[2]มาตรฐาน 3'!G23+'[2]มาตรฐาน 3'!G24 -> 0
A16: 0 | B16: =+'[1]รายงานรับ-จ่าย'!$B$18+E16 -> 0 | C16: รายได้จากทุน | D16: 416000 | E16: =+'[2]มาตรฐาน 3'!G25 -> 0
A17: 10280000 | B17: =+'[1]รายงานรับ-จ่าย'!$B$19+E17 -> 9933318.9 | C17: ภาษีจัดสรร | D17: 421000 | E17: =+'[2]มาตรฐาน 3'!G26+'[2]มาตรฐาน 3'!G27+'[2]มาตรฐาน 3'!G28+'[2]มาตรฐาน 3'!G29+'[2]มาตรฐาน 3'!G30+'[2]มาตรฐาน 3'!G31+'[2]มาตรฐาน 3'!G32+'[2]มาตรฐาน 3'!G33+'[2]มาตรฐาน 3'!G34+'[2]มาตรฐาน 3'!G35+'[2]มาตรฐาน 3'!G36+'[2]มาตรฐาน 3'!G37 -> 1107537.1
A18: 7000000 | B18: =+'[1]รายงานรับ-จ่าย'!$B$20+E18 -> 7136395 | C18: เงินอุดหนุนทั่วไป | D18: 431000 | E18: =+'[2]มาตรฐาน 3'!G38 -> 0
A19: =SUM(A9:A18) -> 18053000 | B19: =SUM(B11:B18) -> 17556603 | E19: =SUM(E11:E18) -> 1192634.9
B20: =+'[1]รายงานรับ-จ่าย'!$B$22+E20 -> 242095.74 | C20: เงินอุดหนุนระบุวัตถุประสงค์ด้านการศึกษา | D20: 441001 | E20: =+'[2]มาตรฐาน 3'!G39 -> 0
B21: =+'[1]รายงานรับ-จ่าย'!$B$23+E21 -> 7434343 | C21: เงินอุดหนุนระบุวัตถุประสงค์จากกรมส่งเสริมการปกครองท้องถิ่น | D21: 441002 | E21: =+'[2]มาตรฐาน 3'!G40 -> 28000
B22: =+'[1]รายงานรับ-จ่าย'!$B$24+E22 -> 344 | C22: ลูกหนี้ - ภาษีโรงเรือนและที่ดิน | D22: 110601 | E22: =+'[2]มาตรฐาน 1'!G18 -> 0
B23: =+'[1]รายงานรับ-จ่าย'!$B$25+E23 -> 3710.91 | C23: ลูกหนี้ - ภาษีบำรุงท้องที่ | D23: 110602 | E23: =+'[2]มาตรฐาน 1'!G19 -> 0
B24: =+'[1]รายงานรับ-จ่าย'!$B$26+E24 -> 0 | C24: ลูกหนี้ - ภาษีป้าย | D24: 110603 | E24: =+'[2]มาตรฐาน 1'!G20 -> 0
B25: =+'[1]รายงานรับ-จ่าย'!$B$27+E25 -> 168452 | C25: ลูกหนี้ - เงินยืมเงินงบประมาณ | D25: 110605 | E25: =+'[2]มาตรฐาน 1'!G21+[2]บัญชีทั่วไป!G258+[2]บัญชีทั่วไป!G293+[2]บัญชีทั่วไป!G328 -> 41000
B26: =+'[1]รายงานรับ-จ่าย'!$B$28+E26 -> 4017474 | C26: ลูกหนี้ - เงินยืมเงินสะสม | D26: 110606 | E26: =+'[2]มาตรฐาน 1'!G22+[2]บัญชีทั่วไป!G471+[2]บัญชีทั่วไป!G506+[2]บัญชีทั่วไป!G541+[2]บัญชีทั่วไป!G579+[2]บัญชีทั่วไป!G615+[2]บัญชีทั่วไป!G651+[2]บัญชีทั่วไป!G686 -> 0
B27: =+'[1]รายงานรับ-จ่าย'!$B$29+E27 -> 1900000 | C27: เงินฝากจังหวัด | D27: 120100 | E27: =+'[2]มาตรฐาน 1'!G23+[2]บัญชีทั่วไป!G363 -> 0
B28: =+'[1]รายงานรับ-จ่าย'!$B$30+E28 -> 17747.67 | C28: ภาษีหน้าฏีกา | D28: 140000 | E28: =+'[2]มาตรฐาน 2'!G53 -> 0
B29: =+'[1]รายงานรับ-จ่าย'!$B$31+E29 -> 0 | C29: รายจ่ายค้างจ่ายระหว่างดำเนินการ ( หมายเหตุ 3 ) | D29: 210401 | E29: =+'[2]มาตรฐาน 1'!G24 -> 0
B30: =+'[1]รายงานรับ-จ่าย'!$B$32+E30 -> 1010502.5 | C30: เงินรับฝาก ( หมายเหตุ 2 ) | D30: 230100 | E30: =+'[2]หมายเหตุ 2'!D21 -> 101596.07
B31: =+'[1]รายงานรับ-จ่าย'!$B$33+E31 -> 0 | C31: เงินสะสม | D31: 300000 | E31: =+'[2]มาตรฐาน 1'!G35 -> 0
B33: =SUM(B20:B31) -> 14794670 | E33: =SUM(E20:E31) -> 170596.07
B34: =+B19+B33 -> 32351273 | C34: รวมรายรับ | E34: =+E19+E33 -> 1363230.9
A36: จนถึงปัจจุบัน | E36: เดือนนี้
A37: ประมาณการ | B37: เกิดขึ้นจริง | C37: รายการ | D37: รหัสบัญชี | E37: เกิดขึ้นจริง
A38: บาท | B38: บาท | E38: บาท
C39: รายจ่าย
A40: 0 | B40: =+'[1]รายงานรับ-จ่าย'!$B$49+E40 -> 0 | C40: งบกลาง | D40: 110000 | E40: =+'[2]มาตรฐาน 2'!F6 -> 0
A41: 1436640 | B41: =+'[1]รายงานรับ-จ่าย'!$B$50+E41 -> 1413118.1 | C41: เงินเดือน ( ฝ่ายการเมือง ) | D41: 210000 | E41: =+'[2]มาตรฐาน 2'!F7-'[2]มาตรฐาน 1'!G37 -> 133467.09
A42: 4085430 | B42: =+'[1]รายงานรับ-จ่าย'!$B$51+E42 -> 2929821.7 | C42: เงินเดือน ( ฝ่ายประจำ ) | D42: 220000 | E42: =+'[2]มาตรฐาน 2'!F8+[2]บัญชีทั่วไป!F503+[2]บัญชีทั่วไป!F504 -> 294585.33
A43: =999800+146000+30000-30000-10000+6400 -> 1142200 | B43: =+'[1]รายงานรับ-จ่าย'!$B$52+E43 -> 233728 | C43: ค่าตอบแทน | D43: 310000 | E43: =+'[2]มาตรฐาน 2'!F9 -> 19109
A44: =2104000+30000+220000-40000+40000-38500+100000 -> 2415500 | B44: =+'[1]รายงานรับ-จ่าย'!$B$53+E44 -> 1089873 | C44: ค่าใช้สอย | D44: 320000 | E44: =+'[2]มาตรฐาน 2'!F10 -> 52897
A45: =1139000-100000+10000+10000-10000-50000-50000 -> 949000 | B45: =+'[1]รายงานรับ-จ่าย'!$B$54+E45 -> 490130 | C45: ค่าวัสดุ | D45: 330000 | E45: =+'[2]มาตรฐาน 2'!F11 -> 159806
A46: =295200+100000 -> 395200 | B46: =+'[1]รายงานรับ-จ่าย'!$B$55+E46 -> 291507.61 | C46: ค่าสาธารณูปโภค | D46: 340000 | E46: =+'[2]มาตรฐาน 2'!F12 -> 31181.68
A47: =428400-280000+33400+5100+10000+15000+1800-16800 -> 196900 | B47: =+'[1]รายงานรับ-จ่าย'!$B$56+E47 -> 148220 | C47: ค่าครุภัณฑ์ | D47: 410000 | E47: =+'[2]มาตรฐาน 2'!F13 -> 114000
A48: =472000+280000 -> 752000 | B48: =+'[1]รายงานรับ-จ่าย'!$B$57+E48 -> 18000 | C48: ค่าที่ดินและสิ่งก่อสร้าง | D48: 420000 | E48: =+'[2]มาตรฐาน 2'!F14 -> 0
A49: 25000 | B49: =+'[1]รายงานรับ-จ่าย'!$B$58+E49 -> 25000 | C49: รายจ่ายอื่น | D49: 510000 | E49: =+'[2]มาตรฐาน 2'!F15 -> 25000
A50: 18000 | B50: =+'[1]รายงานรับ-จ่าย'!$B$59+E50 -> 5000 | C50: เงินอุดหนุน | D50: 610000 | E50: =+'[2]มาตรฐาน 2'!F16 -> 0
A51: =1874530-40000-300000 -> 1534530 | B51: =+'[1]รายงานรับ-จ่าย'!$B$60+E51 -> 884876 | C51: งบกลาง | D51: 6110000 | E51: =+'[2]มาตรฐาน 2'!F17+[2]บัญชีทั่วไป!F433+[2]บัญชีทั่วไป!F396+[2]บัญชีทั่วไป!F539+[2]บัญชีทั่วไป!F256+[2]บัญชีทั่วไป!F291+[2]บัญชีทั่วไป!F326 -> 51018
A52: 168000 | B52: =+'[1]รายงานรับ-จ่าย'!$B$61+E52 -> 167440 | C52: ค่าใช้สอย | D52: 6320000 | E52: =+'[2]มาตรฐาน 2'!F18 -> 0
A53: 899000 | B53: =+'[1]รายงานรับ-จ่าย'!$B$62+E53 -> 466230.1 | C53: ค่าวัสดุ | D53: 6330000 | E53: =+'[2]มาตรฐาน 2'!F19 -> 0
A54: =633000-30000-3600-6400+30000+3600 -> 626600 | B54: =+'[1]รายงานรับ-จ่าย'!$B$63+E54 -> 38000 | C54: ค่าครุภัณฑ์ | D54: 6410000 | E54: =+'[2]มาตรฐาน 2'!F20 -> 0
A55: =2267000-220000-146000 -> 1901000 | B55: =+'[1]รายงานรับ-จ่าย'!$B$64+E55 -> 367000 | C55: ค่าที่ดินและสิ่งก่อสร้าง | D55: 6420000 | E55: =+'[2]มาตรฐาน 2'!F21 -> 0
A56: 1208000 | B56: =+'[1]รายงานรับ-จ่าย'!$B$65+E56 -> 1169400 | C56: เงินอุดหนุน | D56: 6610000 | E56: =+'[2]มาตรฐาน 2'!F22 -> 0
A57: =SUM(A40:A56) -> 17753000 | B57: =SUM(B40:B56) -> 9737344.5 | E57: =SUM(E40:E56) -> 881064.1
B58: =+'[1]รายงานรับ-จ่าย'!$B$67+E58 -> 6253688 | C58: งบกลาง | D58: 7110000 | E58: =+'[2]มาตรฐาน 2'!F23-'[2]มาตรฐาน 1'!G38-'[2]มาตรฐาน 1'!G39+[2]บัญชีทั่วไป!F467+[2]บัญชีทั่วไป!F575+[2]บัญชีทั่วไป!F611+[2]บัญชีทั่วไป!F647 -> 615692
B59: =+'[1]รายงานรับ-จ่าย'!$B$68+E59 -> 208967.74 | C59: เงินเดือน ( ฝ่ายประจำ ) | D59: 7220000 | E59: =+[2]บัญชีทั่วไป!F468+[2]บัญชีทั่วไป!F469+[2]บัญชีทั่วไป!F576+[2]บัญชีทั่วไป!F577+[2]บัญชีทั่วไป!F612+[2]บัญชีทั่วไป!F613+[2]บัญชีทั่วไป!F648+[2]บัญชีทั่วไป!F649+[2]บัญชีทั่วไป!F683+[2]บัญชีทั่วไป!F684 -> 0
B60: =+'[1]รายงานรับ-จ่าย'!$B$69+E60 -> 94500 | C60: ค่าใช้สอย | D60: 7320000 | E60: =+'[2]มาตรฐาน 2'!F24 -> 28000
B61: =+'[1]รายงานรับ-จ่าย'!$B$70+E61 -> 0 | C61: ค่าที่ดินและสิ่งก่อสร้าง | D61: 7420000 | E61: =+'[2]มาตรฐาน 2'!F25 -> 0
B62: =+'[1]รายงานรับ-จ่าย'!$B$71+E62 -> 0 | C62: ลูกหนี้ - ภาษีโรงเรือนและที่ดิน | D62: 110601 | E62: =+'[2]มาตรฐาน 2'!F26 -> 0
B63: =+'[1]รายงานรับ-จ่าย'!$B$72+E63 -> 0 | C63: ลูกหนี้ - ภาษีบำรุงท้องที่ | D63: 110602 | E63: =+'[2]มาตรฐาน 2'!F27 -> 0
B64: =+'[1]รายงานรับ-จ่าย'!$B$73+E64 -> 0 | C64: ลูกหนี้ - ภาษีป้าย | D64: 110603 | E64: =+'[2]มาตรฐาน 2'!F28 -> 0
B65: =+'[1]รายงานรับ-จ่าย'!$B$74+E65 -> 183452 | C65: ลูกหนี้ - เงินยืมเงินงบประมาณ | D65: 110605 | E65: =+'[2]มาตรฐาน 2'!F29 -> 41000
B66: =+'[1]รายงานรับ-จ่าย'!$B$75+E66 -> 4069954 | C66: ลูกหนี้ - เงินยืมเงินสะสม | D66: 110606 | E66: =+'[2]มาตรฐาน 2'!F30 -> 26240
B67: =+'[1]รายงานรับ-จ่าย'!$B$76+E67 -> 0 | C67: เงินฝากจังหวัด | D67: 120100 | E67: =+'[2]มาตรฐาน 2'!F31 -> 0
B68: =+'[1]รายงานรับ-จ่าย'!$B$77+E68 -> 17747.67 | C68: ภาษีหน้าฏีกา | D68: 140000 | E68: =+'[2]มาตรฐาน 1'!F15 -> 0
B69: =+'[1]รายงานรับ-จ่าย'!$B$78+E69 -> 3515210 | C69: รายจ่ายค้างจ่ายระหว่างดำเนินการ ( หมายเหตุ 3 ) | D69: 210401 | E69: =+'[2]มาตรฐาน 2'!F33+[2]บัญชีทั่วไป!F361 -> 0
B70: =+'[1]รายงานรับ-จ่าย'!$B$79+E70 -> 943853.38 | C70: เงินรับฝาก ( หมายเหตุ 2 ) | D70: 230100 | E70: =+'[2]หมายเหตุ 2'!E21 -> 296704.77
B71: =+'[1]รายงานรับ-จ่าย'!$B$80+E71 -> 1896266 | C71: เงินสะสม | D71: 300000 | E71: =+'[2]มาตรฐาน 2'!F40 -> 251626
B72: =SUM(B58:B71) -> 17183639 | E72: =SUM(E58:E71) -> 1259262.8
B73: =+B57+B72 -> 26920983 | C73: รวมรายจ่าย | E73: =+E57+E72 -> 2140326.9
B74: =+B34-B73 -> 5430289.7 | C74: สูงกว่า
C75: รายรับ รายจ่าย
C76: (ต่ำกว่า) | E76: =+E34-E73 -> -777095.92
B77: =+B9+B74 -> 19148540 | C77: ยอดยกไป | E77: =+E9+E76 -> 19148540

Sheet Sheet1
