Workbook

Sheet Sheet1
A1: องค์การบริหารส่วนตำบลไชยมนตรี อำเภอเมือง จังหวัดนครศรีธรรมราช
D2: ปีงบประมาณ 2556
A3: รายงานรับ - จ่าย เงินสด
C4: ประจำเดือน | E4: มิถุนายน 2556
A6: จนถึงปัจจุบัน | E6: เดือนนี้
A7: ประมาณการ | B7: เกิดขึ้นจริง | C7: รายการ | D7: รหัสบัญชี | E7: เกิดขึ้นจริง
A8: บาท | B8: บาท | E8: บาท
B9: 18007436 | C9: ยอดยกมา | E9: 25831121
C10: รายรับ
A11: 167000 | B11: =+'[1]รายงานรับ-จ่าย'!$B$13+E11 -> 303031.48 | C11: ภาษีอากร | D11: 411000 | E11: 701.66
A12: 172000 | B12: =+'[1]รายงานรับ-จ่าย'!$B$14+E12 -> 247640.91 | C12: ค่าธรรมเนียม ค่าปรับและใบอนุญาต | D12: 412000 | E12: 45336.31
A13: 150000 | B13: =+'[1]รายงานรับ-จ่าย'!$B$15+E13 -> 228086.49 | C13: รายได้จากทรัพย์สิน | D13: 413000 | E13: 834.5
A14: 800000 | B14: =+'[1]รายงานรับ-จ่าย'!$B$16+E14 -> 738124 | C14: รายได้จากสาธารณูปโภคและการพาณิชย์ | D14: 414000 | E14: 121062
A15: 250000 | B15: =+'[1]รายงานรับ-จ่าย'!$B$17+E15 -> 12700 | C15: รายได้เบ็ดเตล็ด | D15: 415000 | E15: 0
A16: 3000 | B16: =+'[6]รายงานรับ-จ่าย'!$B$18+E16 -> 0 | C16: รายได้จากทุน | D16: 416000 | E16: 0
A17: 10766000 | B17: =+'[1]รายงานรับ-จ่าย'!$B$19+E17 -> 10501296 | C17: ภาษีจัดสรร | D17: 421000 | E17: 482458.27
A18: 7000000 | B18: =+'[1]รายงานรับ-จ่าย'!$B$20+E18 -> 6748354.2 | C18: เงินอุดหนุนทั่วไป | D18: 431000 | E18: =+'[2]มาตรฐาน 3'!G38 -> 0
A19: =SUM(A9:A18) -> 19308000 | B19: =SUM(B11:B18) -> 18779233 | E19: =SUM(E11:E18) -> 650392.74
B20: =+'[1]รายงานรับ-จ่าย'!$B$22+E20 -> 329660 | C20: เงินอุดหนุนระบุวัตถุประสงค์ด้านการศึกษา | D20: 441001 | E20: 33720
B21: =+'[1]รายงานรับ-จ่าย'!$B$23+E21 -> 7864100 | C21: เงินอุดหนุนระบุวัตถุประสงค์จากกรมส่งเสริมการปกครองท้องถิ่น | D21: 441002 | E21: 10500
B22: =+'[6]รายงานรับ-จ่าย'!$B$24+E22 -> 0 | C22: ลูกหนี้ - ภาษีโรงเรือนและที่ดิน | D22: 110601 | E22: =+'[2]มาตรฐาน 1'!G17 -> 0
B23: =+'[1]รายงานรับ-จ่าย'!$B$25+E23 -> 8631.44 | C23: ลูกหนี้ - ภาษีบำรุงท้องที่ | D23: 110602 | E23: 286.22
B24: =+'[6]รายงานรับ-จ่าย'!$B$26+E24 -> 0 | C24: ลูกหนี้ - ภาษีป้าย | D24: 110603 | E24: =+'[2]มาตรฐาน 1'!G20 -> 0
B25: =+'[1]รายงานรับ-จ่าย'!$B$27+E25 -> 192616.11 | C25: ลูกหนี้ - เงินยืมเงินงบประมาณ | D25: 110605 | E25: 66756
B26: =+'[1]รายงานรับ-จ่าย'!$B$28+E26 -> 4558300 | C26: ลูกหนี้ - เงินยืมเงินนอกงบประมาณ | D26: 110605 | E26: 645200
B27: =+'[1]รายงานรับ-จ่าย'!$B$29+E27 -> 1351200 | C27: ลูกหนี้ - เงินยืมเงินสะสม | D27: 110606 | E27: =+'[2]มาตรฐาน 1'!G23+[2]บัญชีทั่วไป!G429 -> 0
B28: =+E28 -> 0 | C28: ลูกหนี้ - เงินขาดบัญชี | D28: 110607 | E28: 0
B29: 0 | C29: เงินฝากจังหวัด | D29: 110220 | E29: 0
B30: =+'[1]รายงานรับ-จ่าย'!$B$32 -> 242.99 | C30: ภาษีหน้าฏีกา | D30: 140000 | E30: =+'[2]มาตรฐาน 1'!F14 -> 0
B31: =+'[5]รายงานรับ-จ่าย'!$B$31+E31 -> 0 | C31: รายจ่ายผัดส่งใบสำคัญ | D31: 210200 | E31: 0
B32: =+'[6]รายงานรับ-จ่าย'!$B$32+E32 -> 0 | C32: เงินอุดหนุนค้างจ่าย | D32: 210300 | E32: 0
B33: =+'[5]รายงานรับ-จ่าย'!$B$33+E33 -> 0 | C33: รายจ่ายค้างจ่ายระหว่างดำเนินการ ( หมายเหตุ 3 ) | D33: 210401 | E33: 0
B34: =+'[5]รายงานรับ-จ่าย'!$B$34+E34 -> 0 | C34: รายจ่ายค้างจ่าย | D34: 210402 | E34: 0
B35: =+'[5]รายงานรับ-จ่าย'!$B$35+E35 -> 0 | C35: รายจ่ายรอจ่าย | D35: 210500 | E35: 0
B36: =+'[1]รายงานรับ-จ่าย'!$B$38+E36 -> 87002.25 | C36: เงินรับฝาก ( หมายเหตุ 2 ) | D36: 230100 | E36: 25336.35
B37: =+'[5]รายงานรับ-จ่าย'!$B$37+E37 -> 0 | C37: เงินสะสม | D37: 310000 | E37: 0
B39: =SUM(B20:B37) -> 14391753 | E39: =SUM(E20:E37) -> 781798.57
B40: =+B19+B39 -> 33170986 | C40: รวมรายรับ | E40: =+E19+E39 -> 1432191.3
A48: จนถึงปัจจุบัน | E48: เดือนนี้
A49: ประมาณการ | B49: เกิดขึ้นจริง | C49: รายการ | D49: รหัสบัญชี | E49: เกิดขึ้นจริง
...

Sheet Sheet2
A1: องค์การบริหารส่วนตำบลไชยมนตรี อำเภอเมือง จังหวัดนครศรีธรรมราช
A2: งบทดลอง
A3: ณ วันที่ 30 มิถุนายน 2556
A4: รายการ | B4: รหัสบัญชี | C4: เดบิท | E4: เครดิต
A5: เงินสด | B5: 110100 | C5: 0
A6: เงินฝากจังหวัด | B6: 110220 | C6: 0
A7: เงินฝาก-ออมทรัพย์ /เผื่อเรียก (801-0 -14362-6) | B7: 110201 | C7: 127114.02
A8: เงินฝาก-ออมทรัพย์ /เผื่อเรียก (015-2-60209-0) | B8: 110201 | C8: 224289.13
A9: เงินฝาก-ออมทรัพย์ /เผื่อเรียก (801-1-20000-3) | B9: 110201 | C9: 17485164
A10: เงินฝาก-ออมทรัพย์ /เผื่อเรียก (801-0-15216-1) | B10: 110201 | C10: =+[1]งบทดลอง!$C$11:$D$11+'[2]มาตรฐาน 1'!F8 -> 4244.05
A11: เงินฝาก-ประจำ (801-2-37895-7) | B11: 110202 | C11: =+[3]งบทดลอง!$C$12:$D$12+'[2]มาตรฐาน 1'!F12 -> 5150009
A12: เงินฝาก- ประจำ (015-4-22289-6) | B12: 110202 | C12: =+[3]งบทดลอง!$C$13:$D$13 -> 1039482.3
A13: เงินฝาก-กระแสรายวัน (801-6-06554-6) | B13: 110203 | C13: 0
A14: เงินฝาก-กระแสรายวัน (801-6-05887-6) | B14: 110203 | C14: 0
A15: ลูกหนี้ - ภาษีโรงเรือนและที่ดิน | B15: 110601 | C15: =+[1]งบทดลอง!$C$16:$D$16 -> 12186
A16: ลูกหนี้ - ภาษีบำรุงท้องที่ | B16: 110602 | C16: 17803.08
A17: ลูกหนี้ - ภาษีป้าย | B17: 110603 | C17: 0
A18: ลูกหนี้ - เงินยืมเงินงบประมาณ | B18: 110605 | C18: 48188
A19: ลูกหนี้ - เงินยืมเงินนอกงบประมาณ | B19: 110605 | C19: 0
A20: ลูกหนี้ - เงินยืมเงินสะสม | B20: 110606 | C20: =+[1]งบทดลอง!$C$21:$D$21-[2]บัญชีทั่วไป!G430 -> 0
A21: ลูกหนี้ - เงินขาดบัญชี | B21: 110607 | C21: =+[2]บัญชีทั่วไป!F183 -> 0
A22: ภาษีหน้าฏีกา | B22: 140000 | C22: 0
A23: งบกลาง | B23: 110000 | C23: =+'[2]รายงานรับ-จ่าย'!B53 -> 0
A24: เงินเดือน ( ฝ่ายการเมือง ) | B24: 210000 | C24: =+'[2]รายงานรับ-จ่าย'!B54 -> 0
A25: เงินเดือน ( ฝ่ายประจำ ) | B25: 220000 | C25: =+'[2]รายงานรับ-จ่าย'!B55 -> 1280340
A26: ค่าตอบแทน | B26: 310000 | C26: =+'[2]รายงานรับ-จ่าย'!B56 -> 3430034.7
A27: ค่าใช้สอย | B27: 320000 | C27: =+'[2]รายงานรับ-จ่าย'!B57 -> 286434
A28: ค่าวัสดุ | B28: 330000 | C28: =+'[2]รายงานรับ-จ่าย'!B58 -> 1155341.4
A29: ค่าสาธารณูปโภค | B29: 340000 | C29: =+'[2]รายงานรับ-จ่าย'!B59 -> 552493.67
A30: ค่าครุภัณฑ์ | B30: 410000 | C30: =+'[2]รายงานรับ-จ่าย'!B60 -> 894598.75
A31: ค่าที่ดินและสิ่งก่อสร้าง | B31: 420000 | C31: =+'[2]รายงานรับ-จ่าย'!B61 -> 56240
A32: รายจ่ายอื่น | B32: 510000 | C32: =+'[2]รายงานรับ-จ่าย'!B62 -> 477200
A33: เงินอุดหนุน | B33: 610000 | C33: =+'[2]รายงานรับ-จ่าย'!B63 -> 0
A34: งบกลาง | B34: 6110000 | C34: 430608
A35: ค่าใช้สอย | B35: 6320000 | C35: 145600
A36: ค่าวัสดุ | B36: 6330000 | C36: 381466.9
A37: ค่าครุภัณฑ์ | B37: 6410000 | C37: 16800
A38: ค่าที่ดินและสิ่งก่อสร้าง | B38: 6420000 | C38: 1010300
A39: เงินอุดหนุน | B39: 6610000 | C39: 1106000
A40: งบกลาง (โครงการสร้างหลักประกันสร้างรายได้แก่ผู้สูงอายุ, คนพิการ,ประกันสังคม ศพด.และทุนการศึกษา) | B40: 7110000 | C40: 5882040
...

Sheet Sheet3
