Workbook

Sheet Sheet1
A1: องค์การบริหารส่วนตำบลไชยมนตรี อำเภอเมือง จังหวัดนครศรีธรรมราช
D2: ปีงบประมาณ 2556
A3: รายงานรับ - จ่าย เงินสด
C4: ประจำเดือน | E4: มิถุนายน 2556
A6: จนถึงปัจจุบัน | E6: เดือนนี้
A7: ประมาณการ | B7: เกิดขึ้นจริง | C7: รายการ | D7: รหัสบัญชี | E7: เกิดขึ้นจริง
A8: บาท | B8: บาท | E8: บาท
B9: 18007436 | C9: ยอดยกมา | E9: 25831121
C10: รายรับ
A11: 167000 | B11: =+'[1]รายงานรับ-จ่าย'!$B$13+E11 -> 303031.48 | C11: ภาษีอากร | D11: 411000 | E11: 701.66
A12: 172000 | B12: =+'[1]รายงานรับ-จ่าย'!$B$14+E12 -> 247640.91 | C12: ค่าธรรมเนียม ค่าปรับและใบอนุญาต | D12: 412000 | E12: 45336.31
A13: 150000 | B13: =+'[1]รายงานรับ-จ่าย'!$B$15+E13 -> 228086.49 | C13: รายได้จากทรัพย์สิน | D13: 413000 | E13: 834.5
A14: 800000 | B14: =+'[1]รายงานรับ-จ่าย'!$B$16+E14 -> 738124 | C14: รายได้จากสาธารณูปโภคและการพาณิชย์ | D14: 414000 | E14: 121062
A15: 250000 | B15: =+'[1]รายงานรับ-จ่าย'!$B$17+E15 -> 12700 | C15: รายได้เบ็ดเตล็ด | D15: 415000 | E15: 0
A16: 3000 | B16: =+'[6]รายงานรับ-จ่าย'!$B$18+E16 -> 0 | C16: รายได้จากทุน | D16: 416000 | E16: 0
A17: 10766000 | B17: =+'[1]รายงานรับ-จ่าย'!$B$19+E17 -> 10501296 | C17: ภาษีจัดสรร | D17: 421000 | E17: 482458.27
A18: 7000000 | B18: =+'[1]รายงานรับ-จ่าย'!$B$20+E18 -> 6748354.2 | C18: เงินอุดหนุนทั่วไป | D18: 431000 | E18: =+'[2]มาตรฐาน 3'!G38 -> 0
A19: =SUM(A9:A18) -> 19308000 | B19: =SUM(B11:B18) -> 18779233 | E19: =SUM(E11:E18) -> 650392.74
B20: =+'[1]รายงานรับ-จ่าย'!$B$22+E20 -> 329660 | C20: เงินอุดหนุนระบุวัตถุประสงค์ด้านการศึกษา | D20: 441001 | E20: 33720
B21: =+'[1]รายงานรับ-จ่าย'!$B$23+E21 -> 7864100 | C21: เงินอุดหนุนระบุวัตถุประสงค์จากกรมส่งเสริมการปกครองท้องถิ่น | D21: 441002 | E21: 10500
B22: =+'[6]รายงานรับ-จ่าย'!$B$24+E22 -> 0 | C22: ลูกหนี้ - ภาษีโรงเรือนและที่ดิน | D22: 110601 | E22: =+'[2]มาตรฐาน 1'!G17 -> 0
B23: =+'[1]รายงานรับ-จ่าย'!$B$25+E23 -> 8631.44 | C23: ลูกหนี้ - ภาษีบำรุงท้องที่ | D23: 110602 | E23: 286.22
B24: =+'[6]รายงานรับ-จ่าย'!$B$26+E24 -> 0 | C24: ลูกหนี้ - ภาษีป้าย | D24: 110603 | E24: =+'[2]มาตรฐาน 1'!G20 -> 0
B25: =+'[1]รายงานรับ-จ่าย'!$B$27+E25 -> 192616.11 | C25: ลูกหนี้ - เงินยืมเงินงบประมาณ | D25: 110605 | E25: 66756
B26: =+'[1]รายงานรับ-จ่าย'!$B$28+E26 -> 4558300 | C26: ลูกหนี้ - เงินยืมเงินนอกงบประมาณ | D26: 110605 | E26: 645200
B27: =+'[1]รายงานรับ-จ่าย'!$B$29+E27 -> 1351200 | C27: ลูกหนี้ - เงินยืมเงินสะสม | D27: 110606 | E27: =+'[2]มาตรฐาน 1'!G23+[2]บัญชีทั่วไป!G429 -> 0
B28: =+E28 -> 0 | C28: ลูกหนี้ - เงินขาดบัญชี | D28: 110607 | E28: 0
B29: 0 | C29: เงินฝากจังหวัด | D29: 110220 | E29: 0
B30: =+'[1]รายงานรับ-จ่าย'!$B$32 -> 242.99 | C30: ภาษีหน้าฏีกา | D30: 140000 | E30: =+'[2]มาตรฐาน 1'!F14 -> 0
B31: =+'[5]รายงานรับ-จ่าย'!$B$31+E31 -> 0 | C31: รายจ่ายผัดส่งใบสำคัญ | D31: 210200 | E31: 0
B32: =+'[6]รายงานรับ-จ่าย'!$B$32+E32 -> 0 | C32: เงินอุดหนุนค้างจ่าย | D32: 210300 | E32: 0
B33: =+'[5]รายงานรับ-จ่าย'!$B$33+E33 -> 0 | C33: รายจ่ายค้างจ่ายระหว่างดำเนินการ ( หมายเหตุ 3 ) | D33: 210401 | E33: 0
B34: =+'[5]รายงานรับ-จ่าย'!$B$34+E34 -> 0 | C34: รายจ่ายค้างจ่าย | D34: 210402 | E34: 0
B35: =+'[5]รายงานรับ-จ่าย'!$B$35+E35 -> 0 | C35: รายจ่ายรอจ่าย | D35: 210500 | E35: 0
B36: =+'[1]รายงานรับ-จ่าย'!$B$38+E36 -> 87002.25 | C36: เงินรับฝาก ( หมายเหตุ 2 ) | D36: 230100 | E36: 25336.35
B37: =+'[5]รายงานรับ-จ่าย'!$B$37+E37 -> 0 | C37: เงินสะสม | D37: 310000 | E37: 0
B39: =SUM(B20:B37) -> 14391753 | E39: =SUM(E20:E37) -> 781798.57
B40: =+B19+B39 -> 33170986 | C40: รวมรายรับ | E40: =+E19+E39 -> 1432191.3
A48: จนถึงปัจจุบัน | E48: เดือนนี้
A49: ประมาณการ | B49: เกิดขึ้นจริง | C49: รายการ | D49: รหัสบัญชี | E49: เกิดขึ้นจริง
A50: บาท | B50: บาท | E50: บาท
C51: รายจ่าย
A52: 0 | B52: =+'[5]รายงานรับ-จ่าย'!$B$52+E52 -> 0 | C52: งบกลาง | D52: 110000 | E52: 0
A53: 1707120 | B53: =+'[1]รายงานรับ-จ่าย'!$B$55+E53 -> 1280340 | C53: เงินเดือน ( ฝ่ายการเมือง ) | D53: 210000 | E53: 142260
A54: 4800340 | B54: =+'[1]รายงานรับ-จ่าย'!$B$56+E54 -> 3430034.7 | C54: เงินเดือน ( ฝ่ายประจำ ) | D54: 220000 | E54: 384960
A55: 1082160 | B55: =+'[1]รายงานรับ-จ่าย'!$B$57+E55 -> 286434 | C55: ค่าตอบแทน | D55: 310000 | E55: 31934
A56: 1980000 | B56: =+'[1]รายงานรับ-จ่าย'!$B$58+E56 -> 1155341.4 | C56: ค่าใช้สอย | D56: 320000 | E56: 101848.25
A57: 1365000 | B57: =+'[1]รายงานรับ-จ่าย'!$B$59+E57 -> 552493.67 | C57: ค่าวัสดุ | D57: 330000 | E57: 94465
A58: 1334000 | B58: =+'[1]รายงานรับ-จ่าย'!$B$60+E58 -> 894598.75 | C58: ค่าสาธารณูปโภค | D58: 340000 | E58: 119196.99
A59: 180000 | B59: =+'[1]รายงานรับ-จ่าย'!$B$61+E59 -> 56240 | C59: ค่าครุภัณฑ์ | D59: 410000 | E59: 8040
A60: 500000 | B60: =+'[1]รายงานรับ-จ่าย'!$B$62+E60 -> 477200 | C60: ค่าที่ดินและสิ่งก่อสร้าง | D60: 420000 | E60: 0
A61: 25000 | B61: =+'[7]รายงานรับ-จ่าย'!$B$61+E61 -> 0 | C61: รายจ่ายอื่น | D61: 510000 | E61: 0
A62: 0 | B62: =+'[7]รายงานรับ-จ่าย'!$B$62+E62 -> 0 | C62: เงินอุดหนุน | D62: 610000 | E62: =+'[2]มาตรฐาน 2'!F14 -> 0
A63: 965880 | B63: =+'[1]รายงานรับ-จ่าย'!$B$65+E63 -> 430608 | C63: งบกลาง | D63: 6110000 | E63: 65680
A64: 795600 | B64: =+'[1]รายงานรับ-จ่าย'!$B$66 -> 145600 | C64: ค่าใช้สอย | D64: 6320000 | E64: =+'[2]มาตรฐาน 2'!F16 -> 0
A65: 824600 | B65: =+'[1]รายงานรับ-จ่าย'!$B$67 -> 381466.9 | C65: ค่าวัสดุ | D65: 6330000 | E65: 0
A66: 40800 | B66: =+'[1]รายงานรับ-จ่าย'!$B$68 -> 16800 | C66: ค่าครุภัณฑ์ | D66: 6410000 | E66: =+'[2]มาตรฐาน 2'!F18 -> 0
A67: 1704500 | B67: =+'[1]รายงานรับ-จ่าย'!$B$69+E67 -> 1010300 | C67: ค่าที่ดินและสิ่งก่อสร้าง | D67: 6420000 | E67: 843400
A68: 2003000 | B68: =+'[1]รายงานรับ-จ่าย'!$B$70+E68 -> 1106000 | C68: เงินอุดหนุน | D68: 6610000 | E68: =+'[2]มาตรฐาน 2'!F20 -> 0
A69: =SUM(A52:A68) -> 19308000 | B69: =SUM(B52:B68) -> 11223457 | E69: =SUM(E52:E68) -> 1791784.2
B70: =+'[1]รายงานรับ-จ่าย'!$B$72+E70 -> 5882040 | C70: งบกลาง (553,700+91,500+1,440) | D70: 7110000 | E70: 646640
B71: =+'[1]รายงานรับ-จ่าย'!$B$73+E71 -> 264000 | C71: เงินเดือน ( ฝ่ายประจำ ) | D71: 7220000 | E71: 0
B72: =+E72 -> 14000 | C72: ค่าใช้สอย | D72: 7320000 | E72: 14000
B73: 0 | C73: ค่าวัสดุ | D73: 7330000 | E73: 0
B74: =+'[1]รายงานรับ-จ่าย'!$B$76 -> 26000 | C74: ค่าครุภัณฑ์ | D74: 7410000 | E74: 0
B75: =+'[1]รายงานรับ-จ่าย'!$B$75+E75 -> 0 | C75: ค่าที่ดินและสิ่งก่อสร้าง | D75: 7420000 | E75: =+'[2]มาตรฐาน 2'!F26 -> 0
B76: =+'[5]รายงานรับ-จ่าย'!$B$76+E76 -> 0 | C76: เงินฝากจังหวัด | D76: 110220 | E76: =+'[2]มาตรฐาน 2'!F26 -> 0
B77: =+'[5]รายงานรับ-จ่าย'!$B$77+E77 -> 0 | C77: ลูกหนี้ - ภาษีโรงเรือนและที่ดิน | D77: 110601 | E77: =+'[2]มาตรฐาน 2'!F27 -> 0
B78: =+'[5]รายงานรับ-จ่าย'!$B$78+E78 -> 0 | C78: ลูกหนี้ - ภาษีบำรุงท้องที่ | D78: 110602
B79: =+'[5]รายงานรับ-จ่าย'!$B$79+E79 -> 0 | C79: ลูกหนี้ - ภาษีป้าย | D79: 110603 | E79: =+'[2]มาตรฐาน 2'!F29 -> 0
B80: =+'[1]รายงานรับ-จ่าย'!$B$82+E80 -> 232116.11 | C80: ลูกหนี้ - เงินยืมเงินงบประมาณ | D80: 110605 | E80: 109344
B81: =+'[1]รายงานรับ-จ่าย'!$B$83+E81 -> 3909300 | C81: ลูกหนี้ - เงินยืมเงินนอกงบประมาณ | D81: 110605 | E81: 645200
B82: =+'[1]รายงานรับ-จ่าย'!$B$84+E82 -> 2001000 | C82: ลูกหนี้ - เงินยืมเงินสะสม | D82: 110606 | E82: 0
B83: =+'[1]รายงานรับ-จ่าย'!$B$85 -> 2.56 | C83: ลูกหนี้ - เงินขาดบัญชี | D83: 110607 | E83: 0
B84: =+'[1]รายงานรับ-จ่าย'!$B$86 -> 242.99 | C84: ภาษีหน้าฏีกา | D84: 140000 | E84: 0
B85: =+'[1]รายงานรับ-จ่าย'!$B$87 -> 8688 | C85: รายจ่ายผัดส่งใบสำคัญ | D85: 210200 | E85: 0
B86: =+'[1]รายงานรับ-จ่าย'!$B$88+E86 -> 1934223 | C86: รายจ่ายค้างจ่ายระหว่างดำเนินการ ( หมายเหตุ 3 ) | D86: 210401 | E86: =+'[2]มาตรฐาน 2'!F37 -> 0
B87: =+'[1]รายงานรับ-จ่าย'!$B$89+E87 -> 289500 | C87: รายจ่ายค้างจ่าย | D87: 210402 | E87: =+'[2]มาตรฐาน 2'!F38 -> 0
B88: =+'[1]รายงานรับ-จ่าย'!$B$90 -> 882771 | C88: รายจ่ายรอจ่าย | D88: 210500 | E88: =+'[2]มาตรฐาน 2'!F39 -> 0
B89: =+'[1]รายงานรับ-จ่าย'!$B$91+E89 -> 1084557.2 | C89: เงินรับฝากอื่นๆ ( หมายเหตุ 2 ) | D89: 230199 | E89: 26040.93
B90: =+'[1]รายงานรับ-จ่าย'!$B$92 -> 389900 | C90: เงินสะสม | D90: 310000 | E90: 0
B91: =SUM(B70:B90) -> 16918341 | E91: =SUM(E70:E90) -> 1441224.9
B92: =+B69+B91 -> 28141798 | C92: รวมรายจ่าย | E92: =E69+E91 -> 3233009.2
C93: สูงกว่า
C94: รายรับ รายจ่าย
B95: =+B40-B92 -> 5029187.9 | C95: (ต่ำกว่า) | E95: =+E40-E92 -> -1800817.9
B96: =+E96 -> 24030303 | C96: ยอดยกไป | E96: =+E9+E40-E92 -> 24030303
A97: (ลงชื่อ) | C97: (ลงชื่อ) (ลงชื่อ)
A98: ( นางสุพานี วงษ์นุรักษ์ ) | C98: ( นายภูษิต จิตสมพงษ์ ) ( นายเชาวลิต สุพรัตน์ )
A99: ผู้อำนวยการกองคลัง | C99: ปลัดองค์การบริหารส่วนตำบล นายกองค์การบริหารส่วนตำบลไชยมนตรี

Sheet Sheet2
A1: องค์การบริหารส่วนตำบลไชยมนตรี อำเภอเมือง จังหวัดนครศรีธรรมราช
A2: งบทดลอง
A3: ณ วันที่ 30 มิถุนายน 2556
A4: รายการ | B4: รหัสบัญชี | C4: เดบิท | E4: เครดิต
A5: เงินสด | B5: 110100 | C5: 0
A6: เงินฝากจังหวัด | B6: 110220 | C6: 0
A7: เงินฝาก-ออมทรัพย์ /เผื่อเรียก (801-0 -14362-6) | B7: 110201 | C7: 127114.02
A8: เงินฝาก-ออมทรัพย์ /เผื่อเรียก (015-2-60209-0) | B8: 110201 | C8: 224289.13
A9: เงินฝาก-ออมทรัพย์ /เผื่อเรียก (801-1-20000-3) | B9: 110201 | C9: 17485164
A10: เงินฝาก-ออมทรัพย์ /เผื่อเรียก (801-0-15216-1) | B10: 110201 | C10: =+[1]งบทดลอง!$C$11:$D$11+'[2]มาตรฐาน 1'!F8 -> 4244.05
A11: เงินฝาก-ประจำ (801-2-37895-7) | B11: 110202 | C11: =+[3]งบทดลอง!$C$12:$D$12+'[2]มาตรฐาน 1'!F12 -> 5150009
A12: เงินฝาก- ประจำ (015-4-22289-6) | B12: 110202 | C12: =+[3]งบทดลอง!$C$13:$D$13 -> 1039482.3
A13: เงินฝาก-กระแสรายวัน (801-6-06554-6) | B13: 110203 | C13: 0
A14: เงินฝาก-กระแสรายวัน (801-6-05887-6) | B14: 110203 | C14: 0
A15: ลูกหนี้ - ภาษีโรงเรือนและที่ดิน | B15: 110601 | C15: =+[1]งบทดลอง!$C$16:$D$16 -> 12186
A16: ลูกหนี้ - ภาษีบำรุงท้องที่ | B16: 110602 | C16: 17803.08
A17: ลูกหนี้ - ภาษีป้าย | B17: 110603 | C17: 0
A18: ลูกหนี้ - เงินยืมเงินงบประมาณ | B18: 110605 | C18: 48188
A19: ลูกหนี้ - เงินยืมเงินนอกงบประมาณ | B19: 110605 | C19: 0
A20: ลูกหนี้ - เงินยืมเงินสะสม | B20: 110606 | C20: =+[1]งบทดลอง!$C$21:$D$21-[2]บัญชีทั่วไป!G430 -> 0
A21: ลูกหนี้ - เงินขาดบัญชี | B21: 110607 | C21: =+[2]บัญชีทั่วไป!F183 -> 0
A22: ภาษีหน้าฏีกา | B22: 140000 | C22: 0
A23: งบกลาง | B23: 110000 | C23: =+'[2]รายงานรับ-จ่าย'!B53 -> 0
A24: เงินเดือน ( ฝ่ายการเมือง ) | B24: 210000 | C24: =+'[2]รายงานรับ-จ่าย'!B54 -> 0
A25: เงินเดือน ( ฝ่ายประจำ ) | B25: 220000 | C25: =+'[2]รายงานรับ-จ่าย'!B55 -> 1280340
A26: ค่าตอบแทน | B26: 310000 | C26: =+'[2]รายงานรับ-จ่าย'!B56 -> 3430034.7
A27: ค่าใช้สอย | B27: 320000 | C27: =+'[2]รายงานรับ-จ่าย'!B57 -> 286434
A28: ค่าวัสดุ | B28: 330000 | C28: =+'[2]รายงานรับ-จ่าย'!B58 -> 1155341.4
A29: ค่าสาธารณูปโภค | B29: 340000 | C29: =+'[2]รายงานรับ-จ่าย'!B59 -> 552493.67
A30: ค่าครุภัณฑ์ | B30: 410000 | C30: =+'[2]รายงานรับ-จ่าย'!B60 -> 894598.75
A31: ค่าที่ดินและสิ่งก่อสร้าง | B31: 420000 | C31: =+'[2]รายงานรับ-จ่าย'!B61 -> 56240
A32: รายจ่ายอื่น | B32: 510000 | C32: =+'[2]รายงานรับ-จ่าย'!B62 -> 477200
A33: เงินอุดหนุน | B33: 610000 | C33: =+'[2]รายงานรับ-จ่าย'!B63 -> 0
A34: งบกลาง | B34: 6110000 | C34: 430608
A35: ค่าใช้สอย | B35: 6320000 | C35: 145600
A36: ค่าวัสดุ | B36: 6330000 | C36: 381466.9
A37: ค่าครุภัณฑ์ | B37: 6410000 | C37: 16800
A38: ค่าที่ดินและสิ่งก่อสร้าง | B38: 6420000 | C38: 1010300
A39: เงินอุดหนุน | B39: 6610000 | C39: 1106000
A40: งบกลาง (โครงการสร้างหลักประกันสร้างรายได้แก่ผู้สูงอายุ, คนพิการ,ประกันสังคม ศพด.และทุนการศึกษา) | B40: 7110000 | C40: 5882040
A41: เงินเดือน ( ฝ่ายประจำ ) ( ค่าตอบแทนและเงินเพิ่มฯ ศพด. ) | B41: 7220000 | C41: 264000
A42: ค่าใช้สอย | B42: 7320000 | C42: 14000
A43: ค่าวัสดุ | B43: 7330000 | C43: 0
A44: ค่าครุภัณฑ์ | B44: 7410000 | C44: =+[4]งบทดลอง!$C$45:$D$45 -> 26000
A45: ค่าที่ดินและสิ่งก่อสร้าง | B45: 7420000 | C45: 0
A46: รายจ่ายผัดส่งใบสำคัญ | B46: 210200 | E46: =+[5]งบทดลอง!$E$45:$F$45 -> 0
A47: รายจ่ายค้างจ่ายระหว่างดำเนินการ ( หมายเหตุ 3 ) | B47: 210401 | E47: =+[4]งบทดลอง!$E$48:$F$48 -> 0
A48: รายจ่ายค้างจ่าย | B48: 210402 | E48: =+[1]งบทดลอง!$E$49:$F$49-'[2]มาตรฐาน 2'!F38 -> 27000
A49: รายจ่ายรอจ่าย | B49: 210500 | E49: =+[1]งบทดลอง!$E$50:$F$50 -> 11229
A50: เงินสะสม | B50: 310000 | E50: =+[1]งบทดลอง!$E$51:$F$51 -> 8077889.4
A51: ทุนสำรองเงินสะสม | B51: 320000 | E51: =+[1]งบทดลอง!$E$52:$F$52 -> 5820508.6
A52: รายรับ ( หมายเหตุ 1 ) | B52: 400000 | E52: 26972993
A53: เงินรับฝากอื่นๆ ( หมายเหตุ 2 ) | B53: 230199 | E53: 608356.82
C54: =SUM(C5:C53) -> 41517977 | E54: =SUM(E47:E53) -> 41517977
A55: ( ลงชื่อ ) ( ลงชื่อ ) ( ลงชื่อ )
A56: ( นางสุพานี วงษ์นุรักษ์ ) ( นายภูษิต จิตสมพงษ์ ) ( นายเชาวลิต สุพรัตน์ )
A57: ผู้อำนวยการกองคลัง ปลัดองค์การบริหารส่วนตำบล นายกองค์การบริหารส่วนตำบลไชยมนตรี

Sheet Sheet3
