Workbook

Sheet งบทดลอง
A1: องค์การบริหารส่วนตำบลไชยมนตรี อำเภอเมือง จังหวัดนครศรีธรรมราช
A2: งบทดลอง
A3: ณ วันที่ 31 มกราคม 2556
A4: รายการ | B4: รหัสบัญชี | C4: เดบิท | E4: เครดิต
A5: เงินสด | B5: 110100 | C5: =+'[1]มาตรฐาน 1'!F63-'[1]มาตรฐาน 1'!G74 -> 0
A6: เงินฝากจังหวัด | B6: 110220 | C6: 0
A7: เงินฝาก-ออมทรัพย์ /เผื่อเรียก (801-0 -14362-6) | B7: 110201 | C7: 111168.02
A8: เงินฝาก-ออมทรัพย์ /เผื่อเรียก (015-2-60209-0) | B8: 110201 | C8: =+[2]งบทดลอง!$C$9:$D$9+'[1]มาตรฐาน 1'!F67 -> 213573.06
A9: เงินฝาก-ออมทรัพย์ /เผื่อเรียก (801-1-20000-3) | B9: 110201 | C9: 11690799
A10: เงินฝาก-ออมทรัพย์ /เผื่อเรียก (801-0-15216-1) | B10: 110201 | C10: 4244.05
A11: เงินฝาก-ประจำ (801-2-37895-7) | B11: 110202 | C11: 5150009
A12: เงินฝาก- ประจำ (015-4-22289-6) | B12: 110202 | C12: =+[2]งบทดลอง!$C$13:$D$13 -> 1039482.3
A13: เงินฝาก-กระแสรายวัน (801-6-06554-6) | B13: 110203 | C13: 0
A14: เงินฝาก-กระแสรายวัน (801-6-05887-6) | B14: 110203 | C14: 0
A15: ลูกหนี้ - ภาษีโรงเรือนและที่ดิน | B15: 110601 | C15: =+[2]งบทดลอง!$C$16:$D$16 -> 12186
A16: ลูกหนี้ - ภาษีบำรุงท้องที่ | B16: 110602 | C16: 26275.21
A17: ลูกหนี้ - ภาษีป้าย | B17: 110603 | C17: 0
A18: ลูกหนี้ - เงินยืมเงินงบประมาณ | B18: 110605 | C18: 0
A19: ลูกหนี้ - เงินยืมเงินนอกงบประมาณ | B19: 110605 | C19: 0
A20: ลูกหนี้ - เงินยืมเงินสะสม | B20: 110606 | C20: 0
A21: ภาษีหน้าฏีกา | B21: 140000 | C21: 0
A22: งบกลาง | B22: 110000 | C22: 0
A23: เงินเดือน ( ฝ่ายการเมือง ) | B23: 210000 | C23: 569040
A24: เงินเดือน ( ฝ่ายประจำ ) | B24: 220000 | C24: 1505493.9
A25: ค่าตอบแทน | B25: 310000 | C25: 97606
A26: ค่าใช้สอย | B26: 320000 | C26: 475656.8
A27: ค่าวัสดุ | B27: 330000 | C27: 57370
A28: ค่าสาธารณูปโภค | B28: 340000 | C28: 435519.69
A29: ค่าครุภัณฑ์ | B29: 410000 | C29: 21820
A30: ค่าที่ดินและสิ่งก่อสร้าง | B30: 420000 | C30: 477200
A31: รายจ่ายอื่น | B31: 510000 | C31: =+'[1]รายงานรับ-จ่าย'!B118 -> 0
A32: เงินอุดหนุน | B32: 610000 | C32: =+'[1]รายงานรับ-จ่าย'!B119 -> 0
A33: งบกลาง | B33: 6110000 | C33: 225548
A34: ค่าใช้สอย | B34: 6320000 | C34: 145600
A35: ค่าวัสดุ | B35: 6330000 | C35: =+'[1]รายงานรับ-จ่าย'!B122 -> 0
A36: ค่าครุภัณฑ์ | B36: 6410000 | C36: =+'[1]รายงานรับ-จ่าย'!B123 -> 0
A37: ค่าที่ดินและสิ่งก่อสร้าง | B37: 6420000 | C37: =+'[1]รายงานรับ-จ่าย'!B124 -> 0
A38: เงินอุดหนุน | B38: 6610000 | C38: 533000
A39: งบกลาง (โครงการสร้างหลักประกันสร้างรายได้แก่ผู้สูงอายุ, คนพิการ,ประกันสังคม ศพด.และทุนการศึกษา) | B39: 7110000 | C39: 2633860
A40: เงินเดือน ( ฝ่ายประจำ ) ( ค่าตอบแทนและเงินเพิ่มฯ ศพด. ) | B40: 7220000 | C40: 132000
A41: ค่าใช้สอย | B41: 7320000
A42: ค่าวัสดุ | B42: 7330000 | C42: =+'[1]รายงานรับ-จ่าย'!B130 -> 0
A43: ค่าครุภัณฑ์ | B43: 7410000 | C43: =+'[1]รายงานรับ-จ่าย'!B131 -> 0
A44: ค่าที่ดินและสิ่งก่อสร้าง | B44: 7420000 | C44: =+'[1]รายงานรับ-จ่าย'!B132 -> 0
A45: รายจ่ายผัดส่งใบสำคัญ | B45: 210200 | E45: =+[3]งบทดลอง!$E$45:$F$45 -> 0
A46: รายจ่ายค้างจ่ายระหว่างดำเนินการ ( หมายเหตุ 3 ) | B46: 210401 | E46: =+[2]งบทดลอง!$E$46:$F$46-'[1]มาตรฐาน 2'!L88-'[1]รายงานรับ-จ่าย'!E142 -> 0
A47: รายจ่ายค้างจ่าย | B47: 210402 | E47: =+[2]งบทดลอง!$E$48:$F$48 -> 376800
A48: รายจ่ายรอจ่าย | B48: 210500 | E48: =+[2]งบทดลอง!$E$49:$F$49 -> 11229
A49: เงินสะสม | B49: 310000 | E49: =+[2]งบทดลอง!$E$50:$F$50 -> 8077889.4
A50: ทุนสำรองเงินสะสม | B50: 320000 | E50: =+[2]งบทดลอง!$E$51:$F$51 -> 5820508.6
A51: รายรับ ( หมายเหตุ 1 ) | B51: 400000 | E51: 10702412
A52: เงินรับฝากอื่นๆ ( หมายเหตุ 2 ) | B52: 230199 | E52: 568612.42
C53: =SUM(C5:C52) -> 25557451 | E53: =SUM(E46:E52) -> 25557451
A54: ( ลงชื่อ ) ( ลงชื่อ ) ( ลงชื่อ )
A55: ( นางสุพานี วงษ์นุรักษ์ ) ( นายภูษิต จิตสมพงษ์ ) ( นายเชาวลิต สุพรัตน์ )
A56: ผู้อำนวยการกองคลัง ปลัดองค์การบริหารส่วนตำบล นายกองค์การบริหารส่วนตำบลไชยมนตรี

Sheet งบรับ-จ่ายเงินสด
A1: องค์การบริหารส่วนตำบลไชยมนตรี อำเภอเมือง จังหวัดนครศรีธรรมราช
D2: ปีงบประมาณ 2556
A3: รายงานรับ - จ่าย เงินสด
C4: ประจำเดือน | E4: มกราคม 2556
A6: จนถึงปัจจุบัน | E6: เดือนนี้
A7: ประมาณการ | B7: เกิดขึ้นจริง | C7: รายการ | D7: รหัสบัญชี | E7: เกิดขึ้นจริง
A8: บาท | B8: บาท | E8: บาท
B9: 18007436 | C9: ยอดยกมา | E9: 18657633
C10: รายรับ
A11: 167000 | B11: =+'[2]รายงานรับ-จ่าย'!$B$13+E11 -> 29786.83 | C11: ภาษีอากร | D11: 411000 | E11: 26274.88
A12: 172000 | B12: =+'[2]รายงานรับ-จ่าย'!$B$14+E12 -> 92540 | C12: ค่าธรรมเนียม ค่าปรับและใบอนุญาต | D12: 412000 | E12: 31950
A13: 150000 | B13: =+'[2]รายงานรับ-จ่าย'!$B$15+E13 -> 217370.42 | C13: รายได้จากทรัพย์สิน | D13: 413000 | E13: 211486.28
A14: 800000 | B14: =+'[2]รายงานรับ-จ่าย'!$B$16+E14 -> 281704 | C14: รายได้จากสาธารณูปโภคและการพาณิชย์ | D14: 414000 | E14: 55650
A15: 250000 | B15: =+'[2]รายงานรับ-จ่าย'!$B$17+E15 -> 0 | C15: รายได้เบ็ดเตล็ด | D15: 415000 | E15: =+'[1]มาตรฐาน 3'!G23 -> 0
A16: 3000 | B16: =+'[2]รายงานรับ-จ่าย'!$B$18+E16 -> 0 | C16: รายได้จากทุน | D16: 416000 | E16: 0
A17: 10766000 | B17: =+'[2]รายงานรับ-จ่าย'!$B$19+E17 -> 4285170.4 | C17: ภาษีจัดสรร | D17: 421000 | E17: 1212602.9
A18: 7000000 | B18: =+'[2]รายงานรับ-จ่าย'!$B$20+E18 -> 2337280.2 | C18: เงินอุดหนุนทั่วไป | D18: 431000 | E18: =+'[1]มาตรฐาน 3'!G38 -> 0
A19: =SUM(A9:A18) -> 19308000 | B19: =SUM(B11:B18) -> 7243851.8 | E19: =SUM(E11:E18) -> 1537964
B20: =+'[2]รายงานรับ-จ่าย'!$B$22+E20 -> 135060 | C20: เงินอุดหนุนระบุวัตถุประสงค์ด้านการศึกษา | D20: 441001 | E20: 33900
B21: =+'[2]รายงานรับ-จ่าย'!$B$23 -> 3323500 | C21: เงินอุดหนุนระบุวัตถุประสงค์จากกรมส่งเสริมการปกครองท้องถิ่น | D21: 441002 | E21: =+'[1]มาตรฐาน 3'!G40 -> 0
B22: =+'[2]รายงานรับ-จ่าย'!$B$24+E22 -> 0 | C22: ลูกหนี้ - ภาษีโรงเรือนและที่ดิน | D22: 110601 | E22: =+'[1]มาตรฐาน 1'!G17 -> 0
B23: =+'[2]รายงานรับ-จ่าย'!$B$25+E23 -> 159.31 | C23: ลูกหนี้ - ภาษีบำรุงท้องที่ | D23: 110602 | E23: 140.62
B24: =+'[2]รายงานรับ-จ่าย'!$B$26+E24 -> 0 | C24: ลูกหนี้ - ภาษีป้าย | D24: 110603 | E24: =+'[1]มาตรฐาน 1'!G20 -> 0
B25: =+'[2]รายงานรับ-จ่าย'!$B$27+E25 -> 85088 | C25: ลูกหนี้ - เงินยืมเงินงบประมาณ | D25: 110605 | E25: 4500
B26: =+'[2]รายงานรับ-จ่าย'!$B$28+E26 -> 1313900 | C26: ลูกหนี้ - เงินยืมเงินนอกงบประมาณ | D26: 110605 | E26: 651600
B27: =+'[2]รายงานรับ-จ่าย'!$B$29 -> 1336200 | C27: ลูกหนี้ - เงินยืมเงินสะสม | D27: 110606 | E27: 0
B28: 0 | C28: เงินฝากจังหวัด | D28: 110220 | E28: 0
B29: =+'[2]รายงานรับ-จ่าย'!$B$30+E29 -> 0 | C29: ภาษีหน้าฏีกา | D29: 140000 | E29: =+'[1]มาตรฐาน 1'!F14 -> 0
B30: =+'[3]รายงานรับ-จ่าย'!$B$31+E30 -> 0 | C30: รายจ่ายผัดส่งใบสำคัญ | D30: 210200 | E30: 0
B31: =+'[2]รายงานรับ-จ่าย'!$B$32+E31 -> 0 | C31: เงินอุดหนุนค้างจ่าย | D31: 210300 | E31: 0
B32: =+'[3]รายงานรับ-จ่าย'!$B$33+E32 -> 0 | C32: รายจ่ายค้างจ่ายระหว่างดำเนินการ ( หมายเหตุ 3 ) | D32: 210401 | E32: 0
B33: =+'[3]รายงานรับ-จ่าย'!$B$34+E33 -> 0 | C33: รายจ่ายค้างจ่าย | D33: 210402 | E33: 0
B34: =+'[3]รายงานรับ-จ่าย'!$B$35+E34 -> 0 | C34: รายจ่ายรอจ่าย | D34: 210500 | E34: 0
B35: =+'[2]รายงานรับ-จ่าย'!$B$37+E35 -> 3261457.5 | C35: เงินรับฝาก ( หมายเหตุ 2 ) | D35: 230100 | E35: 19511.09
B36: =+'[3]รายงานรับ-จ่าย'!$B$37+E36 -> 0 | C36: เงินสะสม | D36: 310000 | E36: 0
B38: =SUM(B20:B36) -> 9455364.8 | E38: =SUM(E20:E36) -> 709651.71
B39: =+B19+B38 -> 16699217 | C39: รวมรายรับ | E39: =+E19+E38 -> 2247615.8
A40: จนถึงปัจจุบัน | E40: เดือนนี้
A41: ประมาณการ | B41: เกิดขึ้นจริง | C41: รายการ | D41: รหัสบัญชี | E41: เกิดขึ้นจริง
A42: บาท | B42: บาท | E42: บาท
C43: รายจ่าย
A44: 0 | B44: =+'[3]รายงานรับ-จ่าย'!$B$52+E44 -> 0 | C44: งบกลาง | D44: 110000 | E44: 0
A45: 1707120 | B45: =+'[2]รายงานรับ-จ่าย'!$B$54+E45 -> 569040 | C45: เงินเดือน ( ฝ่ายการเมือง ) | D45: 210000 | E45: 142260
A46: 4727340 | B46: =+'[2]รายงานรับ-จ่าย'!$B$55+E46 -> 1505493.9 | C46: เงินเดือน ( ฝ่ายประจำ ) | D46: 220000 | E46: 382035
A47: 1132160 | B47: =+'[2]รายงานรับ-จ่าย'!$B$56+E47 -> 97606 | C47: ค่าตอบแทน | D47: 310000 | E47: 31085
A48: 1782000 | B48: =+'[2]รายงานรับ-จ่าย'!$B$57+E48 -> 475656.8 | C48: ค่าใช้สอย | D48: 320000 | E48: 214808
A49: 1365000 | B49: =+'[2]รายงานรับ-จ่าย'!$B$58+E49 -> 57370 | C49: ค่าวัสดุ | D49: 330000 | E49: 15550
A50: 970000 | B50: =+'[2]รายงานรับ-จ่าย'!$B$59+E50 -> 435519.69 | C50: ค่าสาธารณูปโภค | D50: 340000 | E50: 209943.17
A51: 160000 | B51: =+'[2]รายงานรับ-จ่าย'!$B$60 -> 21820 | C51: ค่าครุภัณฑ์ | D51: 410000 | E51: 0
A52: 500000 | B52: =+'[2]รายงานรับ-จ่าย'!$B$61+E52 -> 477200 | C52: ค่าที่ดินและสิ่งก่อสร้าง | D52: 420000 | E52: 321700
A53: 25000 | B53: =+'[4]รายงานรับ-จ่าย'!$B$61+E53 -> 0 | C53: รายจ่ายอื่น | D53: 510000 | E53: =+'[1]มาตรฐาน 2'!F13 -> 0
A54: 0 | B54: =+'[4]รายงานรับ-จ่าย'!$B$62+E54 -> 0 | C54: เงินอุดหนุน | D54: 610000 | E54: 0
A55: 2454880 | B55: =+'[2]รายงานรับ-จ่าย'!$B$64+E55 -> 225548 | C55: งบกลาง | D55: 6110000 | E55: 14760
A56: 795600 | B56: =+'[2]รายงานรับ-จ่าย'!$B$65 -> 145600 | C56: ค่าใช้สอย | D56: 6320000 | E56: =+'[1]มาตรฐาน 2'!F16 -> 0
A57: 824600 | B57: =+'[3]รายงานรับ-จ่าย'!$B$65+E57 -> 0 | C57: ค่าวัสดุ | D57: 6330000 | E57: 0
A58: 40800 | B58: =+'[3]รายงานรับ-จ่าย'!$B$66+E58 -> 0 | C58: ค่าครุภัณฑ์ | D58: 6410000 | E58: =+'[1]มาตรฐาน 2'!F18 -> 0
A59: 1704500 | B59: =+'[3]รายงานรับ-จ่าย'!$B$67+E59 -> 0 | C59: ค่าที่ดินและสิ่งก่อสร้าง | D59: 6420000 | E59: =+'[1]มาตรฐาน 2'!F19 -> 0
A60: 1119000 | B60: =+'[2]รายงานรับ-จ่าย'!$B$69 -> 533000 | C60: เงินอุดหนุน | D60: 6610000 | E60: =+'[1]มาตรฐาน 2'!F20 -> 0
A61: =SUM(A44:A60) -> 19308000 | B61: =SUM(B44:B60) -> 4543854.4 | E61: =SUM(E44:E60) -> 1332141.2
B62: =+'[2]รายงานรับ-จ่าย'!$B$71+E62 -> 2633860 | C62: งบกลาง (559,100+92,500+2,160) | D62: 7110000 | E62: 653760
B63: 132000 | C63: เงินเดือน ( ฝ่ายประจำ ) | D63: 7220000 | E63: 33000
B64: =+'[3]รายงานรับ-จ่าย'!$B$72+E64 -> 0 | C64: ค่าใช้สอย | D64: 7320000 | E64: 0
B65: =+'[3]รายงานรับ-จ่าย'!$B$73+E65 -> 0 | C65: ค่าวัสดุ | D65: 7330000 | E65: 0
B66: =+'[3]รายงานรับ-จ่าย'!$B$74+E66 -> 0 | C66: ค่าครุภัณฑ์ | D66: 7410000 | E66: =+'[1]มาตรฐาน 2'!F26 -> 0
B67: =+'[3]รายงานรับ-จ่าย'!$B$75+E67 -> 0 | C67: ค่าที่ดินและสิ่งก่อสร้าง | D67: 7420000 | E67: =+'[1]มาตรฐาน 2'!F26 -> 0
B68: =+'[3]รายงานรับ-จ่าย'!$B$76+E68 -> 0 | C68: เงินฝากจังหวัด | D68: 110220 | E68: =+'[1]มาตรฐาน 2'!F26 -> 0
B69: =+'[3]รายงานรับ-จ่าย'!$B$77+E69 -> 0 | C69: ลูกหนี้ - ภาษีโรงเรือนและที่ดิน | D69: 110601 | E69: =+'[1]มาตรฐาน 2'!F27 -> 0
B70: =+'[3]รายงานรับ-จ่าย'!$B$78+E70 -> 0 | C70: ลูกหนี้ - ภาษีบำรุงท้องที่ | D70: 110602 | E70: =+'[1]มาตรฐาน 2'!F28 -> 0
B71: =+'[3]รายงานรับ-จ่าย'!$B$79+E71 -> 0 | C71: ลูกหนี้ - ภาษีป้าย | D71: 110603 | E71: =+'[1]มาตรฐาน 2'!F29 -> 0
B72: 76400 | C72: ลูกหนี้ - เงินยืมเงินงบประมาณ | D72: 110605 | E72: =+'[1]มาตรฐาน 2'!F30 -> 0
B73: 1313900 | C73: ลูกหนี้ - เงินยืมเงินนอกงบประมาณ | D73: 110605 | E73: =+'[1]มาตรฐาน 2'!F31 -> 0
B74: 1336200 | C74: ลูกหนี้ - เงินยืมเงินสะสม | D74: 110606 | E74: =+'[1]มาตรฐาน 2'!F32 -> 4500
B75: 0 | C75: ภาษีหน้าฏีกา | D75: 140000 | E75: 651600
B76: =+'[2]รายงานรับ-จ่าย'!$B$85 -> 8688 | C76: รายจ่ายผัดส่งใบสำคัญ | D76: 210200 | E76: 0
B77: =+'[2]รายงานรับ-จ่าย'!$B$86 -> 1834923 | C77: รายจ่ายค้างจ่ายระหว่างดำเนินการ ( หมายเหตุ 3 ) | D77: 210401 | E77: =+'[1]มาตรฐาน 2'!F36 -> 0
B78: =+'[2]รายงานรับ-จ่าย'!$B$87 -> 39000 | C78: รายจ่ายค้างจ่าย | D78: 210402 | E78: =+'[1]มาตรฐาน 2'!F37 -> 0
B79: =+'[2]รายงานรับ-จ่าย'!$B$88 -> 882771 | C79: รายจ่ายรอจ่าย | D79: 210500 | E79: =+'[1]มาตรฐาน 2'!F38 -> 0
B80: =+'[2]รายงานรับ-จ่าย'!$B$89+E80 -> 986843.46 | C80: เงินรับฝากอื่นๆ ( หมายเหตุ 2 ) | D80: 230199 | E80: 20972.29
B81: =+'[2]รายงานรับ-จ่าย'!$B$90 -> 389900 | C81: เงินสะสม | D81: 310000 | E81: 0
B82: =SUM(B62:B81) -> 9634485.5 | E82: =SUM(E62:E81) -> 1363832.3
B83: =+B61+B82 -> 14178340 | C83: รวมรายจ่าย | E83: =E61+E82 -> 2695973.5
C84: สูงกว่า
C85: รายรับ รายจ่าย
B86: =+B39-B83 -> 2520876.8 | C86: (ต่ำกว่า) | E86: =+E39-E83 -> -448357.7
B87: =+E87 -> 18209276 | C87: ยอดยกไป | E87: =+E9+E39-E83 -> 18209276
A89: (ลงชื่อ) | C89: (ลงชื่อ) (ลงชื่อ)
A90: ( นางสุพานี วงษ์นุรักษ์ ) | C90: ( นายภูษิต จิตสมพงษ์ ) ( นายเชาวลิต สุพรัตน์ )
A91: ผู้อำนวยการกองคลัง | C91: ปลัดองค์การบริหารส่วนตำบล นายกองค์การบริหารส่วนตำบลไชยมนตรี

Sheet Sheet3
